Workbook
Name _01_All_Parts_Inventory__Onhand_Qty_: #REF!
Name _1_01_All_Parts_Inventory__Onhand_Qty_: #REF!
Name _19_0Crite: '[1]P&L'!#REF!
Name _8_01_All_Parts_Inventory__Onhand_Qty_: #REF!
Name a: '[2]2.FA'!#REF!
Name Account_Codes: #REF!
Name acquired_equity: [3]Data!$F$9:$G$143
Name acquisition_cost_realized: [3]Data!$AH$9:$AH$143
Name affdsa: '[2]3.CA'!#REF!
Name All_Parts_Info: #REF!
Name All_Parts_Inventory__Intransit_Qty_: #REF!
Name All_Parts_Inventory__Onhand__OnOrder__Rsvd__Order_Qty_: #REF!
Name anfkan: [4]EFR30696!#REF!
Name B: #REF!
Name bbb: '[2]3.CA'!#REF!
Name BCExport: #REF!
Name cnyexAVE: '[5]pnlJul-feb05'!$AQ$7
Name cnyexave300604: '[2]2.FA'!#REF!
Name cnyexAVE300604pnl: '[6]jul03-jun04pnl'!$AM$8
Name cnyexAVE3011pnl: #REF!
Name cnyexAVE311204pnl: '[5]OHS-OthersDec04'!$AD$6
Name cnyexcr: '[2]4.CL'!#REF!
Name cnyexcr300604: '[2]2.FA'!#REF!
Name cnyexcr300604bs: #REF!
Name cnyexcr301103: '[2]2.FA'!#REF!
Name cnyexcr311204bs: '[5]bsJul-feb05'!$AE$5
Name cnyexcrpnl: '[7]jul04-dec04pnl'!$AQ$7
Name coip: #REF!
Name company_name: [8]Data!$B$10:$B$62
Name Credit_column: #REF!
Name Current: #REF!
Name deal_quarters: [8]Data!$E$10:$E$62
Name Debit_column: #REF!
Name disbursed_debt: [3]Data!$H$9:$I$143
Name disbursed_loans_realized: [3]Data!$AL$9:$AL$143
Name Download: #REF!
Name Download_CI: #REF!
Name euroexcr: #REF!
Name euroexcr2: [9]PO!$AB$5
Name Excel_BuiltIn__FilterDatabase_13: #REF!
Name FA: #REF!
Name fskj: '[10]pnlJul-feb05'!$AQ$7
Name gfhghj: #REF!
Name hjk: #REF!
Name IQ_CH: 110000
Name IQ_CQ: 5000
Name IQ_CY: 10000
Name IQ_DAILY: 500000
Name IQ_FH: 100000
Name IQ_FQ: 500
Name IQ_FY: 1000
Name IQ_LTM: 2000
Name IQ_MONTH: 15000
Name IQ_NTM: 6000
Name IQ_WEEK: 50000
Name IQ_YTD: 3000
Name P123__INV__DOWNLOAD: #REF!
Name P123_DOWNLOAD: #REF!
Name phuong: #REF!
Name Prior: #REF!

Sheet Main
A2: count | B2: Date | C2: Aggregate Value Fund Class A
A3: 0 | B3: 41274 | C3: 100.37
A4: 1 | B4: 41305 | C4: 102.08
A5: =A4+1 -> 2 | B5: 41333 | C5: 102.99
A6: =A5+1 -> 3 | B6: 41362 | C6: 102.93
A7: =A6+1 -> 4 | B7: 41394 | C7: 101.78
A8: =A7+1 -> 5 | B8: 41425 | C8: 108.38
A9: =A8+1 -> 6 | B9: 41453 | C9: 104.72
A10: =A9+1 -> 7 | B10: 41486 | C10: 106.16
A11: =A10+1 -> 8 | B11: 41516 | C11: 105.97 | AA11: Yearly Performance (Returns Stated Net of All Fees and Expenses)
A12: =A11+1 -> 9 | B12: 41547 | C12: 108.54 | AA12: 2013 | AB12: =AN29 -> 0.1334064
A13: =A12+1 -> 10 | B13: 41578 | C13: 110.42 | AA13: 2014 | AB13: =AN30 -> 0.11436357
A14: =A13+1 -> 11 | B14: 41607 | C14: 112.63 | AA14: 2015 | AB14: =AN31 -> 0.061923168
A15: =A14+1 -> 12 | B15: 41639 | C15: 113.76 | AA15: 2016 | AB15: =AN32 -> 0.11357896
A16: =A15+1 -> 13 | B16: 41670 | C16: 113.63 | AA16: 2017 | AB16: =AN33 -> 0.12694283
A17: =A16+1 -> 14 | B17: 41698 | C17: 115.35 | AA17: 2018 | AB17: =AN34 -> -0.10204806
A18: =A17+1 -> 15 | B18: 41729 | C18: 115.94 | AA18: 2019 | AB18: =AN35 -> 0.022742254
A19: =A18+1 -> 16 | B19: 41759 | C19: 117.03 | AA19: 2020 | AB19: 0.0414
A20: =A19+1 -> 17 | B20: 41789 | C20: 118.44 | AA20: 2021 | AB20: =$AN37 -> 0.1825834
A21: =A20+1 -> 18 | B21: 41820 | C21: 119.93 | AA21: 2022 | AB21: =$AN38 -> -0.063118229
A22: =A21+1 -> 19 | B22: 41851 | C22: 124.21 | AA22: 2023 | AB22: =AN39 -> 0.077314117
A23: =A22+1 -> 20 | B23: 41880 | C23: 126.44 | AA23: 2024 | AB23: =AN40 -> 0.11604874
A24: =A23+1 -> 21 | B24: 41912 | C24: 126.58 | AA24: 2025 | AB24: =AN41 -> 0.13046508
A25: =A24+1 -> 22 | B25: 41943 | C25: 127.43
A26: =A25+1 -> 23 | B26: 41971 | C26: 128.78 | AA26: Monthly NAV Table
A27: =A26+1 -> 24 | B27: 42004 | C27: 126.77 | AB27: Jan | AC27: Feb | AD27: Mar | AE27: Apr | AF27: May | AG27: Jun | AH27: Jul | AI27: Aug | AJ27: Sep | AK27: Oct | AL27: Nov | AM27: Dec | AN27: YTD Perf
A28: =A27+1 -> 25 | B28: 42034 | C28: 130.29 | AA28: 2012 | AM28: =C3 -> 100.37
A29: =A28+1 -> 26 | B29: 42062 | C29: 133.04 | AA29: 2013 | AB29: 102.08 | AC29: 102.99 | AD29: 102.93 | AE29: 101.78 | AF29: 108.38 | AG29: 104.72 | AH29: 106.16 | AI29: 105.97 | AJ29: 108.54 | AK29: 110.42 | AL29: 112.63 | AM29: 113.76 | AN29: =AM29/AM28-1 -> 0.1334064
A30: =A29+1 -> 27 | B30: 42094 | C30: 134.56 | AA30: 2014 | AB30: 113.63 | AC30: 115.35 | AD30: 115.94 | AE30: 117.03 | AF30: 118.44 | AG30: 119.93 | AH30: 124.21 | AI30: 126.44 | AJ30: 126.58 | AK30: 127.43 | AL30: 128.78 | AM30: 126.77 | AN30: =AM30/AM29-1 -> 0.11436357
A31: =A30+1 -> 28 | B31: 42124 | C31: 143.26 | AA31: 2015 | AB31: 130.29 | AC31: 133.04 | AD31: 134.56 | AE31: 143.26 | AF31: 148.86 | AG31: 146.51 | AH31: 139.06 | AI31: 129.02 | AJ31: 129.66 | AK31: 133.77 | AL31: 133.76 | AM31: 134.62 | AN31: =AM31/AM30-1 -> 0.061923168
A32: =A31+1 -> 29 | B32: 42153 | C32: 148.86 | AA32: 2016 | AB32: 125.77 | AC32: 124.85 | AD32: 131.76 | AE32: 132.85 | AF32: 131.95 | AG32: 131.62 | AH32: 134.29 | AI32: 139.96 | AJ32: 143.79 | AK32: 147.2 | AL32: 149.56 | AM32: 149.91 | AN32: =AM32/AM31-1 -> 0.11357896
A33: =A32+1 -> 30 | B33: 42185 | C33: 146.51 | AA33: 2017 | AB33: 152.26 | AC33: 157.09 | AD33: 159.8 | AE33: 161.08 | AF33: =C56 -> 161.95 | AG33: =C57 -> 162.71 | AH33: =C58 -> 163.89 | AI33: =C59 -> 164.85 | AJ33: =C60 -> 165.88 | AK33: =C61 -> 169.53 | AL33: =C62 -> 168.88 | AM33: =C63 -> 168.94 | AN33: =AM33/AM32-1 -> 0.12694283
A34: =A33+1 -> 31 | B34: 42216 | C34: 139.06 | AA34: 2018 | AB34: =C64 -> 174.24 | AC34: =C65 -> 170.61 | AD34: =C66 -> 167.48 | AE34: =C67 -> 169.77 | AF34: =C68 -> 172.5 | AG34: =C69 -> 168.05 | AH34: =C70 -> 166.1 | AI34: =C71 -> 164.54 | AJ34: =C72 -> 162.48 | AK34: =C73 -> 149.98 | AL34: =C74 -> 153.7 | AM34: =C75 -> 151.7 | AN34: =AM34/AM33-1 -> -0.10204806
A35: =A34+1 -> 32 | B35: 42247 | C35: 129.02 | AA35: 2019 | AB35: =C76 -> 157.77 | AC35: =C77 -> 161.16 | AD35: =C78 -> 162.22 | AE35: =C79 -> 163.86 | AF35: =C80 -> 157.51 | AG35: =C81 -> 159.1 | AH35: =C82 -> 158.73 | AI35: =C83 -> 149.9 | AJ35: =C84 -> 150.57 | AK35: =C85 -> 151.02 | AL35: =C86 -> 151.54 | AM35: =C87 -> 155.15 | AN35: =AM35/AM34-1 -> 0.022742254
A36: =A35+1 -> 33 | B36: 42277 | C36: 129.66 | AA36: 2020 | AB36: =C88 -> 148.43 | AC36: =C89 -> 144.31 | AD36: =C90 -> 123.98 | AE36: =C91 -> 133.88 | AF36: =C92 -> 133.64 | AG36: =C93 -> 135.64 | AH36: =C94 -> 137.67 | AI36: =C95 -> 141.23 | AJ36: =C96 -> 140.93 | AK36: =C97 -> 142.94 | AL36: =C98 -> 155.51 | AM36: =C99 -> 161.57 | AN36: =AM36/AM35-1 -> 0.04137931
A37: =A36+1 -> 34 | B37: 42307 | C37: 133.77 | AA37: 2021 | AB37: =C100 -> 163.78 | AC37: =C101 -> 172.75 | AD37: =C102 -> 178.35 | AE37: =C103 -> 186.47 | AF37: =C104 -> 187.15 | AG37: =C105 -> 191.5 | AH37: =C106 -> 186.95 | AI37: =C107 -> 189.25 | AJ37: =C108 -> 190.99 | AK37: =C109 -> 190.37 | AL37: =C110 -> 186.23 | AM37: =C111 -> 191.07 | AN37: =AM37/AM36-1 -> 0.1825834
A38: =A37+1 -> 35 | B38: 42338 | C38: 133.76 | AA38: 2022 | AB38: =C112 -> 188.1 | AC38: =C113 -> 191.93 | AD38: =C114 -> 192.32 | AE38: =C115 -> 190.79 | AF38: =C116 -> 190.65 | AG38: =C117 -> 183.32 | AH38: =C118 -> 182.88 | AI38: =C119 -> 185.36 | AJ38: =C120 -> 172.87 | AK38: =C121 -> 168.55 | AL38: =C122 -> 178.16 | AM38: =C123 -> 179.01 | AN38: =AM38/$AM$37-1 -> -0.063118229
A39: =A38+1 -> 36 | B39: 42369 | C39: 134.62 | AA39: 2023 | AB39: =C124 -> 185.55 | AC39: =C125 -> 185.19 | AD39: =C126 -> 184.85 | AE39: =C127 -> 188.56 | AF39: =C128 -> 185.62 | AG39: =C129 -> 189.97 | AH39: =C130 -> 193.16 | AI39: =C131 -> 189.32 | AJ39: =C132 -> 189.63 | AK39: =C133 -> 184.04 | AL39: =C134 -> 188.94 | AM39: =C135 -> 192.85 | AN39: =AM39/$AM$38-1 -> 0.077314117
A40: =A39+1 -> 37 | B40: 42398 | C40: 125.77 | AA40: 2024 | AB40: =C136 -> 193.35 | AC40: =C137 -> 197.76 | AD40: =C138 -> 201.63 | AE40: =C139 -> 203.53 | AF40: =C140 -> 207.64 | AG40: =C141 -> 208.31 | AH40: =C142 -> 208.71 | AI40: =C143 -> 208.53 | AJ40: =C144 -> 213.21 | AK40: =C145 -> 211.15 | AL40: =C146 -> 212.46 | AM40: =C147 -> 215.23 | AN40: =AM40/$AM$39-1 -> 0.11604874
A41: =A40+1 -> 38 | B41: 42429 | C41: 124.85 | AA41: 2025 | AB41: =C148 -> 216.09 | AC41: =C149 -> 216.14 | AD41: 217.42 | AE41: 213.86 | AF41: =C152 -> 220.22 | AG41: 223.41 | AH41: =C154 -> 229.64 | AI41: 233.61 | AJ41: =C156 -> 238.05 | AK41: =C157 -> 241.69 | AL41: =C158 -> 242.18 | AM41: 243.31 | AN41: =AM41/$AM$40-1 -> 0.13046508
A42: =A41+1 -> 39 | B42: 42460 | C42: 131.76 | AA42: 2026 | AB42: 248.22 | AN42: =AB42/$AM$41-1 -> 0.020180017
A43: =A42+1 -> 40 | B43: 42489 | C43: 132.85
A44: =A43+1 -> 41 | B44: 42521 | C44: 131.95 | AA44: Monthly % Change
A45: =A44+1 -> 42 | B45: 42551 | C45: 131.62 | AB45: Jan | AC45: Feb | AD45: Mar | AE45: Apr | AF45: May | AG45: Jun | AH45: Jul | AI45: Aug | AJ45: Sep | AK45: Oct | AL45: Nov | AM45: Dec | AN45: YTD Perf
A46: =A45+1 -> 43 | B46: 42580 | C46: 134.29 | AA46: 2012
A47: =A46+1 -> 44 | B47: 42613 | C47: 139.96 | AA47: 2013 | AB47: =AB29/AM28-1 -> 0.017036963 | AC47: =AC29/AB29-1 -> 0.0089145768 | AD47: =AD29/AC29-1 -> -0.00058258083 | AE47: =AE29/AD29-1 -> -0.011172642 | AF47: =AF29/AE29-1 -> 0.064845746 | AG47: =AG29/AF29-1 -> -0.033770068 | AH47: =AH29/AG29-1 -> 0.013750955 | AI47: =AI29/AH29-1 -> -0.0017897513 | AJ47: =AJ29/AI29-1 -> 0.024252147 | ... AM47: =AM29/AL29-1 -> 0.010032851 | AN47: =AN29 -> 0.1334064
A48: =A47+1 -> 45 | B48: 42643 | C48: 143.79 | AA48: 2014 | AB48: =AB30/AM29-1 -> -0.0011427567 | AC48: =AC30/AB30-1 -> 0.015136848 | AD48: =AD30/AC30-1 -> 0.0051148678 | AE48: =AE30/AD30-1 -> 0.0094014145 | AF48: =AF30/AE30-1 -> 0.012048193 | AG48: =AG30/AF30-1 -> 0.012580209 | AH48: =AH30/AG30-1 -> 0.035687484 | AI48: =AI30/AH30-1 -> 0.017953466 | AJ48: =AJ30/AI30-1 -> 0.0011072445 | ... AM48: =AM30/AL30-1 -> -0.015608014 | AN48: =AN30 -> 0.11436357
A49: =A48+1 -> 46 | B49: 42674 | C49: 147.2 | AA49: 2015 | AB49: =AB31/AM30-1 -> 0.027766822 | AC49: =AC31/AB31-1 -> 0.021106762 | AD49: =AD31/AC31-1 -> 0.011425135 | AE49: =AE31/AD31-1 -> 0.064655172 | AF49: =AF31/AE31-1 -> 0.039089767 | AG49: =AG31/AF31-1 -> -0.015786645 | AH49: =AH31/AG31-1 -> -0.050849771 | AI49: =AI31/AH31-1 -> -0.072199051 | AJ49: =AJ31/AI31-1 -> 0.0049604712 | ... AM49: =AM31/AL31-1 -> 0.0064294258 | AN49: =AN31 -> 0.061923168
A50: =A49+1 -> 47 | B50: 42704 | C50: 149.56 | AA50: 2016 | AB50: =AB32/AM31-1 -> -0.065740603 | AC50: =AC32/AB32-1 -> -0.00731494 | AD50: =AD32/AC32-1 -> 0.055346416 | AE50: =AE32/AD32-1 -> 0.0082726169 | AF50: =AF32/AE32-1 -> -0.0067745578 | AG50: =AG32/AF32-1 -> -0.0025009473 | AH50: =AH32/AG32-1 -> 0.020285671 | AI50: =AI32/AH32-1 -> 0.042222057 | AJ50: =AJ32/AI32-1 -> 0.027364961 | ... AM50: =AM32/AL32-1 -> 0.0023401979 | AN50: =AN32 -> 0.11357896
A51: =A50+1 -> 48 | B51: 42734 | C51: 149.91 | AA51: 2017 | AB51: =AB33/AM32-1 -> 0.015676072 | AC51: =AC33/AB33-1 -> 0.031722054 | AD51: =AD33/AC33-1 -> 0.017251257 | AE51: =AE33/AD33-1 -> 0.0080100125 | AF51: =AF33/AE33-1 -> 0.005401043 | AG51: =AG33/AF33-1 -> 0.0046928064 | AH51: =AH33/AG33-1 -> 0.0072521664 | AI51: =AI33/AH33-1 -> 0.0058575874 | AJ51: =AJ33/AI33-1 -> 0.0062481043 | AK51: =AK33/AJ33-1 -> 0.022003858 | AL51: ='Last 1M'!B64 -> -0.0038341297 | AM51: ='Last 1M'!B65 -> 0.00035528186 | AN51: =AN33 -> 0.12694283
A52: =A51+1 -> 49 | B52: 42766 | C52: 152.26 | AA52: 2018 | AB52: ='Last 1M'!B66 -> 0.031372085 | AC52: ='Last 1M'!B67 -> -0.020833333 | AD52: ='Last 1M'!B68 -> -0.018345935 | AE52: ='Last 1M'!B69 -> 0.013673274 | AF52: ='Last 1M'!B70 -> 0.01608058 | AG52: ='Last 1M'!B71 -> -0.025797101 | AH52: ='Last 1M'!B72 -> -0.011603689 | AI52: ='Last 1M'!B73 -> -0.0093919326 | AJ52: ='Last 1M'!B74 -> -0.012519752 | AK52: ='Last 1M'!B75 -> -0.076932546 | AL52: ='Last 1M'!B76 -> 0.024803307 | AM52: ='Last 1M'!B77 -> -0.013012362 | AN52: =AN34 -> -0.10204806
A53: =A52+1 -> 50 | B53: 42794 | C53: 157.09 | AA53: 2019 | AB53: ='Last 1M'!B78 -> 0.040013184 | AC53: ='Last 1M'!B79 -> 0.021486975 | AD53: ='Last 1M'!B80 -> 0.0065773145 | AE53: ='Last 1M'!B81 -> 0.010109728 | AF53: ='Last 1M'!B82 -> -0.038752594 | AG53: ='Last 1M'!B83 -> 0.010094597 | AH53: ='Last 1M'!B84 -> -0.0023255814 | AI53: ='Last 1M'!B85 -> -0.055629056 | AJ53: ='Last 1M'!B86 -> 0.0044696464 | AK53: ='Last 1M'!B87 -> 0.0029886432 | AL53: ='Last 1M'!B88 -> 0.0034432525 | AM53: ='Last 1M'!B89 -> 0.023822093 | AN53: =AN35 -> 0.022742254
A54: =A53+1 -> 51 | B54: 42825 | C54: 159.8 | AA54: 2020 | AB54: ='Last 1M'!B90 -> -0.043312923 | AC54: ='Last 1M'!B91 -> -0.027757192 | AD54: ='Last 1M'!B92 -> -0.14087728 | AE54: ='Last 1M'!B93 -> 0.079851589 | AF54: ='Last 1M'!B94 -> -0.0017926501 | AG54: ='Last 1M'!B95 -> 0.014965579 | AH54: ='Last 1M'!B96 -> 0.014966087 | AI54: ='Last 1M'!B97 -> 0.025858938 | AJ54: ='Last 1M'!B98 -> -0.0021241946 | AK54: ='Last 1M'!B99 -> 0.0142624 | AL54: ='Last 1M'!B100 -> 0.087938995 | AM54: ='Last 1M'!B101 -> 0.038968555 | AN54: =AN36 -> 0.04137931
A55: =A54+1 -> 52 | B55: 42855 | C55: 161.08 | AA55: 2021 | AB55: ='Last 1M'!B102 -> 0.013678282 | AC55: ='Last 1M'!B103 -> 0.054768592 | AD55: ='Last 1M'!B104 -> 0.032416787 | AE55: ='Last 1M'!B105 -> 0.045528455 | AF55: ='Last 1M'!B106 -> 0.0036466992 | AG55: ='Last 1M'!B107 -> 0.023243388 | AH55: ='Last 1M'!B108 -> -0.023759791 | AI55: ='Last 1M'!B109 -> 0.012302755 | AJ55: ='Last 1M'!B110 -> 0.0091941876 | AK55: ='Last 1M'!B111 -> -0.0032462433 | AL55: ='Last 1M'!B112 -> -0.021747124 | AM55: ='Last 1M'!B113 -> 0.025989368 | AN55: =AN37 -> 0.1825834
A56: =A55+1 -> 53 | B56: 42886 | C56: 161.95 | AA56: 2022 | AB56: ='Last 1M'!B114 -> -0.015544041 | AC56: ='Last 1M'!B115 -> 0.02036151 | AD56: ='Last 1M'!B116 -> 0.0020319908 | AE56: ='Last 1M'!B117 -> -0.0079554908 | AF56: ='Last 1M'!B118 -> -0.00073379108 | AG56: ='Last 1M'!B119 -> -0.038447417 | AH56: ='Last 1M'!B120 -> -0.0024001746 | AI56: ='Last 1M'!B121 -> 0.013560805 | AJ56: ='Last 1M'!B122 -> -0.067382391 | AK56: ='Last 1M'!B123 -> -0.024989877 | AL56: ='Last 1M'!B124 -> 0.057015722 | AM56: ='Last 1M'!B125 -> 0.0047709924 | AN56: =AN38 -> -0.063118229
A57: =A56+1 -> 54 | B57: 42916 | C57: 162.71 | AA57: 2023 | AB57: ='Last 1M'!B126 -> 0.036534272 | AC57: ='Last 1M'!B127 -> -0.0019401778 | AD57: ='Last 1M'!B128 -> -0.0018359523 | AE57: ='Last 1M'!B129 -> 0.020070327 | AF57: ='Last 1M'!B130 -> -0.015591854 | AG57: ='Last 1M'!B131 -> 0.023434975 | AH57: ='Last 1M'!B132 -> 0.016792125 | AI57: ='Last 1M'!B133 -> -0.019879892 | AJ57: ='Last 1M'!B134 -> 0.0016374393 | AK57: ='Last 1M'!B135 -> -0.029478458 | AL57: ='Last 1M'!B136 -> 0.026624647 | AM57: ='Last 1M'!B137 -> 0.0206944 | AN57: =AN39 -> 0.077314117
A58: =A57+1 -> 55 | B58: 42947 | C58: 163.89 | AA58: 2024 | AB58: ='Last 1M'!B138 -> 0.0025926886 | AC58: ='Last 1M'!B139 -> 0.022808379 | AD58: ='Last 1M'!B140 -> 0.019569175 | AE58: ='Last 1M'!B141 -> 0.0094232009 | AF58: ='Last 1M'!B142 -> 0.020193583 | AG58: ='Last 1M'!B143 -> 0.0032267386 | AH58: ='Last 1M'!B144 -> 0.0019202151 | AI58: ='Last 1M'!B145 -> -0.00086244071 | AJ58: ='Last 1M'!B146 -> 0.022442814 | AK58: ='Last 1M'!B147 -> -0.0096618357 | AL58: ='Last 1M'!B148 -> 0.0062041203 | AM58: ='Last 1M'!B149 -> 0.013037748 | AN58: =AN40 -> 0.11604874
A59: =A58+1 -> 56 | B59: 42978 | C59: 164.85 | AA59: 2025 | AB59: ='Last 1M'!B150 -> 0.0039957255 | AC59: ='Last 1M'!B151 -> 0.00023138507 | AD59: ='Last 1M'!B152 -> 0.0059220875 | AE59: ='Last 1M'!B153 -> -0.016373839 | AF59: ='Last 1M'!B154 -> 0.029739082 | AG59: ='Last 1M'!B155 -> 0.014485514 | AH59: ='Last 1M'!B156 -> 0.02788595 | AI59: ='Last 1M'!B157 -> 0.017287929 | AJ59: ='Last 1M'!B158 -> 0.019006036 | AK59: ='Last 1M'!B159 -> 0.015290905 | AL59: ='Last 1M'!B160 -> 0.0020273905 | AM59: ='Last 1M'!B161 -> 0.0046659509 | AN59: =AN41 -> 0.13046508
A60: =A59+1 -> 57 | B60: 43008 | C60: 165.88 | AA60: 2026 | AB60: ='Last 1M'!B162 -> 0.020180017 | AN60: =AN42 -> 0.020180017
A61: =A60+1 -> 58 | B61: 43039 | C61: 169.53
A62: 59 | B62: 43069 | C62: 168.88
A63: =A62+1 -> 60 | B63: 43100 | C63: 168.94
A64: 61 | B64: 43131 | C64: 174.24
A65: 62 | B65: 43159 | C65: 170.61
A66: 63 | B66: 43190 | C66: 167.48
A67: 64 | B67: 43220 | C67: 169.77
A68: 65 | B68: 43251 | C68: 172.5
A69: 66 | B69: 43281 | C69: 168.05
A70: 67 | B70: 43312 | C70: 166.1
A71: 68 | B71: 43343 | C71: 164.54
A72: 69 | B72: 43373 | C72: 162.48
A73: 70 | B73: 43404 | C73: 149.98
A74: 71 | B74: 43434 | C74: 153.7
A75: 72 | B75: 43465 | C75: 151.7
... A160: 157 | B160: 46052 | C160: 248.22

Sheet YTD
A1: Date | B1: AVF | C1: Hong Kong | D1: Singapore | E1: Malaysia | F1: Korea | G1: Japan | H1: Taiwan | I1: Thailand | J1: AC ASIA PACIFIC | K1: AC ASIA PACIFIC ex JAPAN
A7: =Main!B4 -> 41305 | B7: =Main!C4/Main!C$3-1 -> 0.017036963 | C7: =Main!D4/Main!D$3-1 -> #DIV/0! | D7: =Main!E4/Main!E$3-1 -> #DIV/0! | E7: =Main!F4/Main!F$3-1 -> #DIV/0! | F7: =Main!G4/Main!G$3-1 -> #DIV/0! | G7: =Main!H4/Main!H$3-1 -> #DIV/0! | H7: =Main!I4/Main!I$3-1 -> #DIV/0! | I7: =Main!J4/Main!J$3-1 -> #DIV/0! | ... K7: =Main!L4/Main!L$3-1 -> #DIV/0!
A8: =Main!B5 -> 41333 | B8: =Main!C5/Main!C$3-1 -> 0.026103417 | C8: =Main!D5/Main!D$3-1 -> #DIV/0! | D8: =Main!E5/Main!E$3-1 -> #DIV/0! | E8: =Main!F5/Main!F$3-1 -> #DIV/0! | F8: =Main!G5/Main!G$3-1 -> #DIV/0! | G8: =Main!H5/Main!H$3-1 -> #DIV/0! | H8: =Main!I5/Main!I$3-1 -> #DIV/0! | I8: =Main!J5/Main!J$3-1 -> #DIV/0! | ... K8: =Main!L5/Main!L$3-1 -> #DIV/0!
A9: =Main!B6 -> 41362 | B9: =Main!C6/Main!C$3-1 -> 0.025505629 | C9: =Main!D6/Main!D$3-1 -> #DIV/0! | D9: =Main!E6/Main!E$3-1 -> #DIV/0! | E9: =Main!F6/Main!F$3-1 -> #DIV/0! | F9: =Main!G6/Main!G$3-1 -> #DIV/0! | G9: =Main!H6/Main!H$3-1 -> #DIV/0! | H9: =Main!I6/Main!I$3-1 -> #DIV/0! | I9: =Main!J6/Main!J$3-1 -> #DIV/0! | ... K9: =Main!L6/Main!L$3-1 -> #DIV/0!
A10: =Main!B7 -> 41394 | B10: =Main!C7/Main!C$3-1 -> 0.014048022 | C10: =Main!D7/Main!D$3-1 -> #DIV/0! | D10: =Main!E7/Main!E$3-1 -> #DIV/0! | E10: =Main!F7/Main!F$3-1 -> #DIV/0! | F10: =Main!G7/Main!G$3-1 -> #DIV/0! | G10: =Main!H7/Main!H$3-1 -> #DIV/0! | H10: =Main!I7/Main!I$3-1 -> #DIV/0! | I10: =Main!J7/Main!J$3-1 -> #DIV/0! | ... K10: =Main!L7/Main!L$3-1 -> #DIV/0!
A11: =Main!B8 -> 41425 | B11: =Main!C8/Main!C$3-1 -> 0.079804723 | C11: =Main!D8/Main!D$3-1 -> #DIV/0! | D11: =Main!E8/Main!E$3-1 -> #DIV/0! | E11: =Main!F8/Main!F$3-1 -> #DIV/0! | F11: =Main!G8/Main!G$3-1 -> #DIV/0! | G11: =Main!H8/Main!H$3-1 -> #DIV/0! | H11: =Main!I8/Main!I$3-1 -> #DIV/0! | I11: =Main!J8/Main!J$3-1 -> #DIV/0! | ... K11: =Main!L8/Main!L$3-1 -> #DIV/0!
A12: =Main!B9 -> 41453 | B12: =Main!C9/Main!C$3-1 -> 0.043339643 | C12: =Main!D9/Main!D$3-1 -> #DIV/0! | D12: =Main!E9/Main!E$3-1 -> #DIV/0! | E12: =Main!F9/Main!F$3-1 -> #DIV/0! | F12: =Main!G9/Main!G$3-1 -> #DIV/0! | G12: =Main!H9/Main!H$3-1 -> #DIV/0! | H12: =Main!I9/Main!I$3-1 -> #DIV/0! | I12: =Main!J9/Main!J$3-1 -> #DIV/0! | ... K12: =Main!L9/Main!L$3-1 -> #DIV/0!
A13: =Main!B10 -> 41486 | B13: =Main!C10/Main!C$3-1 -> 0.05768656 | C13: =Main!D10/Main!D$3-1 -> #DIV/0! | D13: =Main!E10/Main!E$3-1 -> #DIV/0! | E13: =Main!F10/Main!F$3-1 -> #DIV/0! | F13: =Main!G10/Main!G$3-1 -> #DIV/0! | G13: =Main!H10/Main!H$3-1 -> #DIV/0! | H13: =Main!I10/Main!I$3-1 -> #DIV/0! | I13: =Main!J10/Main!J$3-1 -> #DIV/0! | ... K13: =Main!L10/Main!L$3-1 -> #DIV/0!
A14: =Main!B11 -> 41516 | B14: =Main!C11/Main!C$3-1 -> 0.055793564 | C14: =Main!D11/Main!D$3-1 -> #DIV/0! | D14: =Main!E11/Main!E$3-1 -> #DIV/0! | E14: =Main!F11/Main!F$3-1 -> #DIV/0! | F14: =Main!G11/Main!G$3-1 -> #DIV/0! | G14: =Main!H11/Main!H$3-1 -> #DIV/0! | H14: =Main!I11/Main!I$3-1 -> #DIV/0! | I14: =Main!J11/Main!J$3-1 -> #DIV/0! | ... K14: =Main!L11/Main!L$3-1 -> #DIV/0!
A15: =Main!B12 -> 41547 | B15: =Main!C12/Main!C$3-1 -> 0.081398824 | C15: =Main!D12/Main!D$3-1 -> #DIV/0! | D15: =Main!E12/Main!E$3-1 -> #DIV/0! | E15: =Main!F12/Main!F$3-1 -> #DIV/0! | F15: =Main!G12/Main!G$3-1 -> #DIV/0! | G15: =Main!H12/Main!H$3-1 -> #DIV/0! | H15: =Main!I12/Main!I$3-1 -> #DIV/0! | I15: =Main!J12/Main!J$3-1 -> #DIV/0! | ... K15: =Main!L12/Main!L$3-1 -> #DIV/0!
A16: =Main!B13 -> 41578 | B16: =Main!C13/Main!C$3-1 -> 0.10012952 | C16: =Main!D13/Main!D$3-1 -> #DIV/0! | D16: =Main!E13/Main!E$3-1 -> #DIV/0! | E16: =Main!F13/Main!F$3-1 -> #DIV/0! | F16: =Main!G13/Main!G$3-1 -> #DIV/0! | G16: =Main!H13/Main!H$3-1 -> #DIV/0! | H16: =Main!I13/Main!I$3-1 -> #DIV/0! | I16: =Main!J13/Main!J$3-1 -> #DIV/0! | ... K16: =Main!L13/Main!L$3-1 -> #DIV/0!
A17: =Main!B14 -> 41607 | B17: =Main!C14/Main!C$3-1 -> 0.12214805 | C17: =Main!D14/Main!D$3-1 -> #DIV/0! | D17: =Main!E14/Main!E$3-1 -> #DIV/0! | E17: =Main!F14/Main!F$3-1 -> #DIV/0! | F17: =Main!G14/Main!G$3-1 -> #DIV/0! | G17: =Main!H14/Main!H$3-1 -> #DIV/0! | H17: =Main!I14/Main!I$3-1 -> #DIV/0! | I17: =Main!J14/Main!J$3-1 -> #DIV/0! | ... K17: =Main!L14/Main!L$3-1 -> #DIV/0!
A18: =Main!B15 -> 41639 | B18: =Main!C15/Main!C$3-1 -> 0.1334064 | C18: =Main!D15/Main!D$3-1 -> #DIV/0! | D18: =Main!E15/Main!E$3-1 -> #DIV/0! | E18: =Main!F15/Main!F$3-1 -> #DIV/0! | F18: =Main!G15/Main!G$3-1 -> #DIV/0! | G18: =Main!H15/Main!H$3-1 -> #DIV/0! | H18: =Main!I15/Main!I$3-1 -> #DIV/0! | I18: =Main!J15/Main!J$3-1 -> #DIV/0! | ... K18: =Main!L15/Main!L$3-1 -> #DIV/0!
A19: =Main!B16 -> 41670 | B19: =Main!C16/Main!C$15-1 -> -0.0011427567 | C19: =Main!D16/Main!D$15-1 -> #DIV/0! | D19: =Main!E16/Main!E$15-1 -> #DIV/0! | E19: =Main!F16/Main!F$15-1 -> #DIV/0! | F19: =Main!G16/Main!G$15-1 -> #DIV/0! | G19: =Main!H16/Main!H$15-1 -> #DIV/0! | H19: =Main!I16/Main!I$15-1 -> #DIV/0! | I19: =Main!J16/Main!J$15-1 -> #DIV/0! | ... K19: =Main!L16/Main!L$15-1 -> #DIV/0!
A20: =Main!B17 -> 41698 | B20: =Main!C17/Main!C$15-1 -> 0.013976793 | C20: =Main!D17/Main!D$15-1 -> #DIV/0! | D20: =Main!E17/Main!E$15-1 -> #DIV/0! | E20: =Main!F17/Main!F$15-1 -> #DIV/0! | F20: =Main!G17/Main!G$15-1 -> #DIV/0! | G20: =Main!H17/Main!H$15-1 -> #DIV/0! | H20: =Main!I17/Main!I$15-1 -> #DIV/0! | I20: =Main!J17/Main!J$15-1 -> #DIV/0! | ... K20: =Main!L17/Main!L$15-1 -> #DIV/0!
A21: =Main!B18 -> 41729 | B21: =Main!C18/Main!C$15-1 -> 0.01916315 | C21: =Main!D18/Main!D$15-1 -> #DIV/0! | D21: =Main!E18/Main!E$15-1 -> #DIV/0! | E21: =Main!F18/Main!F$15-1 -> #DIV/0! | F21: =Main!G18/Main!G$15-1 -> #DIV/0! | G21: =Main!H18/Main!H$15-1 -> #DIV/0! | H21: =Main!I18/Main!I$15-1 -> #DIV/0! | I21: =Main!J18/Main!J$15-1 -> #DIV/0! | ... K21: =Main!L18/Main!L$15-1 -> #DIV/0!
A22: =Main!B19 -> 41759 | B22: =Main!C19/Main!C$15-1 -> 0.028744726 | C22: =Main!D19/Main!D$15-1 -> #DIV/0! | D22: =Main!E19/Main!E$15-1 -> #DIV/0! | E22: =Main!F19/Main!F$15-1 -> #DIV/0! | F22: =Main!G19/Main!G$15-1 -> #DIV/0! | G22: =Main!H19/Main!H$15-1 -> #DIV/0! | H22: =Main!I19/Main!I$15-1 -> #DIV/0! | I22: =Main!J19/Main!J$15-1 -> #DIV/0! | ... K22: =Main!L19/Main!L$15-1 -> #DIV/0!
A23: =Main!B20 -> 41789 | B23: =Main!C20/Main!C$15-1 -> 0.041139241 | C23: =Main!D20/Main!D$15-1 -> #DIV/0! | D23: =Main!E20/Main!E$15-1 -> #DIV/0! | E23: =Main!F20/Main!F$15-1 -> #DIV/0! | F23: =Main!G20/Main!G$15-1 -> #DIV/0! | G23: =Main!H20/Main!H$15-1 -> #DIV/0! | H23: =Main!I20/Main!I$15-1 -> #DIV/0! | I23: =Main!J20/Main!J$15-1 -> #DIV/0! | ... K23: =Main!L20/Main!L$15-1 -> #DIV/0!
A24: =Main!B21 -> 41820 | B24: =Main!C21/Main!C$15-1 -> 0.05423699 | C24: =Main!D21/Main!D$15-1 -> #DIV/0! | D24: =Main!E21/Main!E$15-1 -> #DIV/0! | E24: =Main!F21/Main!F$15-1 -> #DIV/0! | F24: =Main!G21/Main!G$15-1 -> #DIV/0! | G24: =Main!H21/Main!H$15-1 -> #DIV/0! | H24: =Main!I21/Main!I$15-1 -> #DIV/0! | I24: =Main!J21/Main!J$15-1 -> #DIV/0! | ... K24: =Main!L21/Main!L$15-1 -> #DIV/0!
A25: =Main!B22 -> 41851 | B25: =Main!C22/Main!C$15-1 -> 0.091860056 | C25: =Main!D22/Main!D$15-1 -> #DIV/0! | D25: =Main!E22/Main!E$15-1 -> #DIV/0! | E25: =Main!F22/Main!F$15-1 -> #DIV/0! | F25: =Main!G22/Main!G$15-1 -> #DIV/0! | G25: =Main!H22/Main!H$15-1 -> #DIV/0! | H25: =Main!I22/Main!I$15-1 -> #DIV/0! | I25: =Main!J22/Main!J$15-1 -> #DIV/0! | ... K25: =Main!L22/Main!L$15-1 -> #DIV/0!
A26: =Main!B23 -> 41880 | B26: =Main!C23/Main!C$15-1 -> 0.11146273 | C26: 0.010175161 | D26: =Main!E23/Main!E$15-1 -> #DIV/0! | E26: =Main!F23/Main!F$15-1 -> #DIV/0! | F26: =Main!G23/Main!G$15-1 -> #DIV/0! | G26: =Main!H23/Main!H$15-1 -> #DIV/0! | H26: =Main!I23/Main!I$15-1 -> #DIV/0! | I26: =Main!J23/Main!J$15-1 -> #DIV/0! | J26: -1 | K26: -1 | L26: -1
A27: =Main!B24 -> 41912 | B27: =Main!C24/Main!C$15-1 -> 0.11269339 | C27: =Main!D24/Main!D$15-1 -> #DIV/0! | D27: =Main!E24/Main!E$15-1 -> #DIV/0! | E27: =Main!F24/Main!F$15-1 -> #DIV/0! | F27: =Main!G24/Main!G$15-1 -> #DIV/0! | G27: =Main!H24/Main!H$15-1 -> #DIV/0! | H27: =Main!I24/Main!I$15-1 -> #DIV/0! | I27: =Main!J24/Main!J$15-1 -> #DIV/0! | ... K27: =Main!L24/Main!L$15-1 -> #DIV/0!
A28: =Main!B25 -> 41943 | B28: =Main!C25/Main!C$15-1 -> 0.12016526 | C28: =Main!D25/Main!D$15-1 -> #DIV/0! | D28: =Main!E25/Main!E$15-1 -> #DIV/0! | E28: =Main!F25/Main!F$15-1 -> #DIV/0! | F28: =Main!G25/Main!G$15-1 -> #DIV/0! | G28: =Main!H25/Main!H$15-1 -> #DIV/0! | H28: =Main!I25/Main!I$15-1 -> #DIV/0! | I28: =Main!J25/Main!J$15-1 -> #DIV/0! | ... K28: =Main!L25/Main!L$15-1 -> #DIV/0!
A29: =Main!B26 -> 41971 | B29: =Main!C26/Main!C$15-1 -> 0.13203235 | C29: =Main!D26/Main!D$15-1 -> #DIV/0! | D29: =Main!E26/Main!E$15-1 -> #DIV/0! | E29: =Main!F26/Main!F$15-1 -> #DIV/0! | F29: =Main!G26/Main!G$15-1 -> #DIV/0! | G29: =Main!H26/Main!H$15-1 -> #DIV/0! | H29: =Main!I26/Main!I$15-1 -> #DIV/0! | I29: =Main!J26/Main!J$15-1 -> #DIV/0! | ... K29: =Main!L26/Main!L$15-1 -> #DIV/0!
A30: =Main!B27 -> 42004 | B30: =Main!C27/Main!C$15-1 -> 0.11436357 | C30: =Main!D27/Main!D$15-1 -> #DIV/0! | D30: =Main!E27/Main!E$15-1 -> #DIV/0! | E30: =Main!F27/Main!F$15-1 -> #DIV/0! | F30: =Main!G27/Main!G$15-1 -> #DIV/0! | G30: =Main!H27/Main!H$15-1 -> #DIV/0! | H30: =Main!I27/Main!I$15-1 -> #DIV/0! | I30: =Main!J27/Main!J$15-1 -> #DIV/0! | ... K30: =Main!L27/Main!L$15-1 -> #DIV/0!
A31: =Main!B28 -> 42034 | B31: =Main!C28/Main!C$27-1 -> 0.027766822 | C31: =Main!D28/Main!D$27-1 -> #DIV/0! | D31: =Main!E28/Main!E$27-1 -> #DIV/0! | E31: =Main!F28/Main!F$27-1 -> #DIV/0! | F31: =Main!G28/Main!G$27-1 -> #DIV/0! | G31: =Main!H28/Main!H$27-1 -> #DIV/0! | H31: =Main!I28/Main!I$27-1 -> #DIV/0! | I31: =Main!J28/Main!J$27-1 -> #DIV/0! | ... K31: =Main!L28/Main!L$27-1 -> #DIV/0!
A32: =Main!B29 -> 42062 | B32: =Main!C29/Main!C$27-1 -> 0.049459651 | C32: =Main!D29/Main!D$27-1 -> #DIV/0! | D32: =Main!E29/Main!E$27-1 -> #DIV/0! | E32: =Main!F29/Main!F$27-1 -> #DIV/0! | F32: =Main!G29/Main!G$27-1 -> #DIV/0! | G32: =Main!H29/Main!H$27-1 -> #DIV/0! | H32: =Main!I29/Main!I$27-1 -> #DIV/0! | I32: =Main!J29/Main!J$27-1 -> #DIV/0! | ... K32: =Main!L29/Main!L$27-1 -> #DIV/0!
A33: =Main!B30 -> 42094 | B33: =Main!C30/Main!C$27-1 -> 0.06144987 | C33: =Main!D30/Main!D$27-1 -> #DIV/0! | D33: =Main!E30/Main!E$27-1 -> #DIV/0! | E33: =Main!F30/Main!F$27-1 -> #DIV/0! | F33: =Main!G30/Main!G$27-1 -> #DIV/0! | G33: =Main!H30/Main!H$27-1 -> #DIV/0! | H33: =Main!I30/Main!I$27-1 -> #DIV/0! | I33: =Main!J30/Main!J$27-1 -> #DIV/0! | ... K33: =Main!L30/Main!L$27-1 -> #DIV/0!
A34: =Main!B31 -> 42124 | B34: =Main!C31/Main!C$27-1 -> 0.13007809 | C34: =Main!D31/Main!D$27-1 -> #DIV/0! | D34: =Main!E31/Main!E$27-1 -> #DIV/0! | E34: =Main!F31/Main!F$27-1 -> #DIV/0! | F34: =Main!G31/Main!G$27-1 -> #DIV/0! | G34: =Main!H31/Main!H$27-1 -> #DIV/0! | H34: =Main!I31/Main!I$27-1 -> #DIV/0! | I34: =Main!J31/Main!J$27-1 -> #DIV/0! | ... K34: =Main!L31/Main!L$27-1 -> #DIV/0!
A35: =Main!B32 -> 42153 | B35: =Main!C32/Main!C$27-1 -> 0.17425258 | C35: =Main!D32/Main!D$27-1 -> #DIV/0! | D35: =Main!E32/Main!E$27-1 -> #DIV/0! | E35: =Main!F32/Main!F$27-1 -> #DIV/0! | F35: =Main!G32/Main!G$27-1 -> #DIV/0! | G35: =Main!H32/Main!H$27-1 -> #DIV/0! | H35: =Main!I32/Main!I$27-1 -> #DIV/0! | I35: =Main!J32/Main!J$27-1 -> #DIV/0! | ... K35: =Main!L32/Main!L$27-1 -> #DIV/0!
A36: =Main!B33 -> 42185 | B36: =Main!C33/Main!C$27-1 -> 0.15571507 | C36: =Main!D33/Main!D$27-1 -> #DIV/0! | D36: =Main!E33/Main!E$27-1 -> #DIV/0! | E36: =Main!F33/Main!F$27-1 -> #DIV/0! | F36: =Main!G33/Main!G$27-1 -> #DIV/0! | G36: =Main!H33/Main!H$27-1 -> #DIV/0! | H36: =Main!I33/Main!I$27-1 -> #DIV/0! | I36: =Main!J33/Main!J$27-1 -> #DIV/0! | ... K36: =Main!L33/Main!L$27-1 -> #DIV/0!
A37: =Main!B34 -> 42216 | B37: =Main!C34/Main!C$27-1 -> 0.096947227 | C37: =Main!D34/Main!D$27-1 -> #DIV/0! | D37: =Main!E34/Main!E$27-1 -> #DIV/0! | E37: =Main!F34/Main!F$27-1 -> #DIV/0! | F37: =Main!G34/Main!G$27-1 -> #DIV/0! | G37: =Main!H34/Main!H$27-1 -> #DIV/0! | H37: =Main!I34/Main!I$27-1 -> #DIV/0! | I37: =Main!J34/Main!J$27-1 -> #DIV/0! | ... K37: =Main!L34/Main!L$27-1 -> #DIV/0!
A38: =Main!B35 -> 42247 | B38: =Main!C35/Main!C$27-1 -> 0.017748679 | C38: =Main!D35/Main!D$27-1 -> #DIV/0! | D38: =Main!E35/Main!E$27-1 -> #DIV/0! | E38: =Main!F35/Main!F$27-1 -> #DIV/0! | F38: =Main!G35/Main!G$27-1 -> #DIV/0! | G38: =Main!H35/Main!H$27-1 -> #DIV/0! | H38: =Main!I35/Main!I$27-1 -> #DIV/0! | I38: =Main!J35/Main!J$27-1 -> #DIV/0! | ... K38: =Main!L35/Main!L$27-1 -> #DIV/0!
A39: =Main!B36 -> 42277 | B39: =Main!C36/Main!C$27-1 -> 0.022797192 | C39: =Main!D36/Main!D$27-1 -> #DIV/0! | D39: =Main!E36/Main!E$27-1 -> #DIV/0! | E39: =Main!F36/Main!F$27-1 -> #DIV/0! | F39: =Main!G36/Main!G$27-1 -> #DIV/0! | G39: =Main!H36/Main!H$27-1 -> #DIV/0! | H39: =Main!I36/Main!I$27-1 -> #DIV/0! | I39: =Main!J36/Main!J$27-1 -> #DIV/0! | ... K39: =Main!L36/Main!L$27-1 -> #DIV/0!
A40: =Main!B37 -> 42307 | B40: =Main!C37/Main!C$27-1 -> 0.055218112 | C40: =Main!D37/Main!D$27-1 -> #DIV/0! | D40: =Main!E37/Main!E$27-1 -> #DIV/0! | E40: =Main!F37/Main!F$27-1 -> #DIV/0! | F40: =Main!G37/Main!G$27-1 -> #DIV/0! | G40: =Main!H37/Main!H$27-1 -> #DIV/0! | H40: =Main!I37/Main!I$27-1 -> #DIV/0! | I40: =Main!J37/Main!J$27-1 -> #DIV/0! | ... K40: =Main!L37/Main!L$27-1 -> #DIV/0!
A41: =Main!B38 -> 42338 | B41: =Main!C38/Main!C$27-1 -> 0.055139229 | C41: =Main!D38/Main!D$27-1 -> #DIV/0! | D41: =Main!E38/Main!E$27-1 -> #DIV/0! | E41: =Main!F38/Main!F$27-1 -> #DIV/0! | F41: =Main!G38/Main!G$27-1 -> #DIV/0! | G41: =Main!H38/Main!H$27-1 -> #DIV/0! | H41: =Main!I38/Main!I$27-1 -> #DIV/0! | I41: =Main!J38/Main!J$27-1 -> #DIV/0! | ... K41: =Main!L38/Main!L$27-1 -> #DIV/0!
A42: =Main!B39 -> 42369 | B42: =Main!C39/Main!C$27-1 -> 0.061923168 | C42: =Main!D39/Main!D$27-1 -> #DIV/0! | D42: =Main!E39/Main!E$27-1 -> #DIV/0! | E42: =Main!F39/Main!F$27-1 -> #DIV/0! | F42: =Main!G39/Main!G$27-1 -> #DIV/0! | G42: =Main!H39/Main!H$27-1 -> #DIV/0! | H42: =Main!I39/Main!I$27-1 -> #DIV/0! | I42: =Main!J39/Main!J$27-1 -> #DIV/0! | ... K42: =Main!L39/Main!L$27-1 -> #DIV/0!
A43: =Main!B40 -> 42398 | B43: =Main!C40/Main!C$39-1 -> -0.065740603 | C43: =Main!D40/Main!D$39-1 -> #DIV/0! | D43: =Main!E40/Main!E$39-1 -> #DIV/0! | E43: =Main!F40/Main!F$39-1 -> #DIV/0! | F43: =Main!G40/Main!G$39-1 -> #DIV/0! | G43: =Main!H40/Main!H$39-1 -> #DIV/0! | H43: =Main!I40/Main!I$39-1 -> #DIV/0! | I43: =Main!J40/Main!J$39-1 -> #DIV/0! | ... K43: =Main!L40/Main!L$39-1 -> #DIV/0!
A44: =Main!B41 -> 42429 | B44: =Main!C41/Main!C$39-1 -> -0.072574655 | C44: =Main!D41/Main!D$39-1 -> #DIV/0! | D44: =Main!E41/Main!E$39-1 -> #DIV/0! | E44: =Main!F41/Main!F$39-1 -> #DIV/0! | F44: =Main!G41/Main!G$39-1 -> #DIV/0! | G44: =Main!H41/Main!H$39-1 -> #DIV/0! | H44: =Main!I41/Main!I$39-1 -> #DIV/0! | I44: =Main!J41/Main!J$39-1 -> #DIV/0! | ... K44: =Main!L41/Main!L$39-1 -> #DIV/0!
A45: =Main!B42 -> 42460 | B45: =Main!C42/Main!C$39-1 -> -0.021244986 | C45: =Main!D42/Main!D$39-1 -> #DIV/0! | D45: =Main!E42/Main!E$39-1 -> #DIV/0! | E45: =Main!F42/Main!F$39-1 -> #DIV/0! | F45: =Main!G42/Main!G$39-1 -> #DIV/0! | G45: =Main!H42/Main!H$39-1 -> #DIV/0! | H45: =Main!I42/Main!I$39-1 -> #DIV/0! | I45: =Main!J42/Main!J$39-1 -> #DIV/0! | ... K45: =Main!L42/Main!L$39-1 -> #DIV/0!
A46: =Main!B43 -> 42489 | B46: =Main!C43/Main!C$39-1 -> -0.013148121 | C46: =Main!D43/Main!D$39-1 -> #DIV/0! | D46: =Main!E43/Main!E$39-1 -> #DIV/0! | E46: =Main!F43/Main!F$39-1 -> #DIV/0! | F46: =Main!G43/Main!G$39-1 -> #DIV/0! | G46: =Main!H43/Main!H$39-1 -> #DIV/0! | H46: =Main!I43/Main!I$39-1 -> #DIV/0! | I46: =Main!J43/Main!J$39-1 -> #DIV/0! | ... K46: =Main!L43/Main!L$39-1 -> #DIV/0!
A47: =Main!B44 -> 42521 | B47: =Main!C44/Main!C$39-1 -> -0.019833606 | C47: =Main!D44/Main!D$39-1 -> #DIV/0! | D47: =Main!E44/Main!E$39-1 -> #DIV/0! | E47: =Main!F44/Main!F$39-1 -> #DIV/0! | F47: =Main!G44/Main!G$39-1 -> #DIV/0! | G47: =Main!H44/Main!H$39-1 -> #DIV/0! | H47: =Main!I44/Main!I$39-1 -> #DIV/0! | I47: =Main!J44/Main!J$39-1 -> #DIV/0! | ... K47: =Main!L44/Main!L$39-1 -> #DIV/0!
A48: =Main!B45 -> 42551 | B48: =Main!C45/Main!C$39-1 -> -0.02228495 | C48: =Main!D45/Main!D$39-1 -> #DIV/0! | D48: =Main!E45/Main!E$39-1 -> #DIV/0! | E48: =Main!F45/Main!F$39-1 -> #DIV/0! | F48: =Main!G45/Main!G$39-1 -> #DIV/0! | G48: =Main!H45/Main!H$39-1 -> #DIV/0! | H48: =Main!I45/Main!I$39-1 -> #DIV/0! | I48: =Main!J45/Main!J$39-1 -> #DIV/0! | ... K48: =Main!L45/Main!L$39-1 -> #DIV/0!
A49: =Main!B46 -> 42580 | B49: =Main!C46/Main!C$39-1 -> -0.0024513445 | C49: =Main!D46/Main!D$39-1 -> #DIV/0! | D49: =Main!E46/Main!E$39-1 -> #DIV/0! | E49: =Main!F46/Main!F$39-1 -> #DIV/0! | F49: =Main!G46/Main!G$39-1 -> #DIV/0! | G49: =Main!H46/Main!H$39-1 -> #DIV/0! | H49: =Main!I46/Main!I$39-1 -> #DIV/0! | I49: =Main!J46/Main!J$39-1 -> #DIV/0! | ... K49: =Main!L46/Main!L$39-1 -> #DIV/0!
A50: =Main!B47 -> 42613 | B50: =Main!C47/Main!C$39-1 -> 0.039667211 | C50: =Main!D47/Main!D$39-1 -> #DIV/0! | D50: =Main!E47/Main!E$39-1 -> #DIV/0! | E50: =Main!F47/Main!F$39-1 -> #DIV/0! | F50: =Main!G47/Main!G$39-1 -> #DIV/0! | G50: =Main!H47/Main!H$39-1 -> #DIV/0! | H50: =Main!I47/Main!I$39-1 -> #DIV/0! | I50: =Main!J47/Main!J$39-1 -> #DIV/0! | ... K50: =Main!L47/Main!L$39-1 -> #DIV/0!
A51: =Main!B48 -> 42643 | B51: =Main!C48/Main!C$39-1 -> 0.068117665 | C51: =Main!D48/Main!D$39-1 -> #DIV/0! | D51: =Main!E48/Main!E$39-1 -> #DIV/0! | E51: =Main!F48/Main!F$39-1 -> #DIV/0! | F51: =Main!G48/Main!G$39-1 -> #DIV/0! | G51: =Main!H48/Main!H$39-1 -> #DIV/0! | H51: =Main!I48/Main!I$39-1 -> #DIV/0! | I51: =Main!J48/Main!J$39-1 -> #DIV/0! | ... K51: =Main!L48/Main!L$39-1 -> #DIV/0!
A52: =Main!B49 -> 42674 | B52: =Main!C49/Main!C$39-1 -> 0.093448225 | C52: =Main!D49/Main!D$39-1 -> #DIV/0! | D52: =Main!E49/Main!E$39-1 -> #DIV/0! | E52: =Main!F49/Main!F$39-1 -> #DIV/0! | F52: =Main!G49/Main!G$39-1 -> #DIV/0! | G52: =Main!H49/Main!H$39-1 -> #DIV/0! | H52: =Main!I49/Main!I$39-1 -> #DIV/0! | I52: =Main!J49/Main!J$39-1 -> #DIV/0! | ... K52: =Main!L49/Main!L$39-1 -> #DIV/0!
A53: =Main!B50 -> 42704 | B53: =Main!C50/Main!C$39-1 -> 0.11097905 | C53: =Main!D50/Main!D$39-1 -> #DIV/0! | D53: =Main!E50/Main!E$39-1 -> #DIV/0! | E53: =Main!F50/Main!F$39-1 -> #DIV/0! | F53: =Main!G50/Main!G$39-1 -> #DIV/0! | G53: =Main!H50/Main!H$39-1 -> #DIV/0! | H53: =Main!I50/Main!I$39-1 -> #DIV/0! | I53: =Main!J50/Main!J$39-1 -> #DIV/0! | ... K53: =Main!L50/Main!L$39-1 -> #DIV/0!
A54: =Main!B51 -> 42734 | B54: =Main!C51/Main!C$39-1 -> 0.11357896 | C54: =Main!D51/Main!D$39-1 -> #DIV/0! | D54: =Main!E51/Main!E$39-1 -> #DIV/0! | E54: =Main!F51/Main!F$39-1 -> #DIV/0! | F54: =Main!G51/Main!G$39-1 -> #DIV/0! | G54: =Main!H51/Main!H$39-1 -> #DIV/0! | H54: =Main!I51/Main!I$39-1 -> #DIV/0! | I54: =Main!J51/Main!J$39-1 -> #DIV/0! | ... K54: =Main!L51/Main!L$39-1 -> #DIV/0!
A55: =Main!B52 -> 42766 | B55: =Main!C52/Main!C$51-1 -> 0.015676072 | C55: =Main!D52/Main!D$51-1 -> #DIV/0! | D55: =Main!E52/Main!E$51-1 -> #DIV/0! | E55: =Main!F52/Main!F$51-1 -> #DIV/0! | F55: =Main!G52/Main!G$51-1 -> #DIV/0! | G55: =Main!H52/Main!H$51-1 -> #DIV/0! | H55: =Main!I52/Main!I$51-1 -> #DIV/0! | I55: =Main!J52/Main!J$51-1 -> #DIV/0! | ... K55: =Main!L52/Main!L$51-1 -> #DIV/0!
A56: =Main!B53 -> 42794 | B56: =Main!C53/Main!C$51-1 -> 0.047895404 | C56: =Main!D53/Main!D$51-1 -> #DIV/0! | D56: =Main!E53/Main!E$51-1 -> #DIV/0! | E56: =Main!F53/Main!F$51-1 -> #DIV/0! | F56: =Main!G53/Main!G$51-1 -> #DIV/0! | G56: =Main!H53/Main!H$51-1 -> #DIV/0! | H56: =Main!I53/Main!I$51-1 -> #DIV/0! | I56: =Main!J53/Main!J$51-1 -> #DIV/0! | ... K56: =Main!L53/Main!L$51-1 -> #DIV/0!
A57: =Main!B54 -> 42825 | B57: =Main!C54/Main!C$51-1 -> 0.065972917 | C57: =Main!D54/Main!D$51-1 -> #DIV/0! | D57: =Main!E54/Main!E$51-1 -> #DIV/0! | E57: =Main!F54/Main!F$51-1 -> #DIV/0! | F57: =Main!G54/Main!G$51-1 -> #DIV/0! | G57: =Main!H54/Main!H$51-1 -> #DIV/0! | H57: =Main!I54/Main!I$51-1 -> #DIV/0! | I57: =Main!J54/Main!J$51-1 -> #DIV/0! | ... K57: =Main!L54/Main!L$51-1 -> #DIV/0!
A58: =Main!B55 -> 42855 | B58: =Main!C55/Main!C$51-1 -> 0.074511373 | C58: =Main!D55/Main!D$51-1 -> #DIV/0! | D58: =Main!E55/Main!E$51-1 -> #DIV/0! | E58: =Main!F55/Main!F$51-1 -> #DIV/0! | F58: =Main!G55/Main!G$51-1 -> #DIV/0! | G58: =Main!H55/Main!H$51-1 -> #DIV/0! | H58: =Main!I55/Main!I$51-1 -> #DIV/0! | I58: =Main!J55/Main!J$51-1 -> #DIV/0! | ... K58: =Main!L55/Main!L$51-1 -> #DIV/0!
A59: =Main!B56 -> 42886 | B59: =Main!C56/Main!C$51-1 -> 0.080314856 | C59: =Main!D56/Main!D$51-1 -> #DIV/0! | D59: =Main!E56/Main!E$51-1 -> #DIV/0! | E59: =Main!F56/Main!F$51-1 -> #DIV/0! | F59: =Main!G56/Main!G$51-1 -> #DIV/0! | G59: =Main!H56/Main!H$51-1 -> #DIV/0! | H59: =Main!I56/Main!I$51-1 -> #DIV/0! | I59: =Main!J56/Main!J$51-1 -> #DIV/0! | ... K59: =Main!L56/Main!L$51-1 -> #DIV/0!
A60: =Main!B57 -> 42916 | B60: =Main!C57/Main!C$51-1 -> 0.085384564 | C60: =Main!D57/Main!D$51-1 -> #DIV/0! | D60: =Main!E57/Main!E$51-1 -> #DIV/0! | E60: =Main!F57/Main!F$51-1 -> #DIV/0! | F60: =Main!G57/Main!G$51-1 -> #DIV/0! | G60: =Main!H57/Main!H$51-1 -> #DIV/0! | H60: =Main!I57/Main!I$51-1 -> #DIV/0! | I60: =Main!J57/Main!J$51-1 -> #DIV/0! | ... K60: =Main!L57/Main!L$51-1 -> #DIV/0!
A61: =Main!B58 -> 42947 | B61: =Main!C58/Main!C$51-1 -> 0.093255954 | C61: =Main!D58/Main!D$51-1 -> #DIV/0! | D61: =Main!E58/Main!E$51-1 -> #DIV/0! | E61: =Main!F58/Main!F$51-1 -> #DIV/0! | F61: =Main!G58/Main!G$51-1 -> #DIV/0! | G61: =Main!H58/Main!H$51-1 -> #DIV/0! | H61: =Main!I58/Main!I$51-1 -> #DIV/0! | I61: =Main!J58/Main!J$51-1 -> #DIV/0! | ... K61: =Main!L58/Main!L$51-1 -> #DIV/0!
A62: =Main!B59 -> 42978 | B62: =Main!C59/Main!C$51-1 -> 0.099659796 | C62: =Main!D59/Main!D$51-1 -> #DIV/0! | D62: =Main!E59/Main!E$51-1 -> #DIV/0! | E62: =Main!F59/Main!F$51-1 -> #DIV/0! | F62: =Main!G59/Main!G$51-1 -> #DIV/0! | G62: =Main!H59/Main!H$51-1 -> #DIV/0! | H62: =Main!I59/Main!I$51-1 -> #DIV/0! | I62: =Main!J59/Main!J$51-1 -> #DIV/0! | ... K62: =Main!L59/Main!L$51-1 -> #DIV/0!
A63: =Main!B60 -> 43008 | B63: =Main!C60/Main!C$51-1 -> 0.10653059 | C63: =Main!D60/Main!D$51-1 -> #DIV/0! | D63: =Main!E60/Main!E$51-1 -> #DIV/0! | E63: =Main!F60/Main!F$51-1 -> #DIV/0! | F63: =Main!G60/Main!G$51-1 -> #DIV/0! | G63: =Main!H60/Main!H$51-1 -> #DIV/0! | H63: =Main!I60/Main!I$51-1 -> #DIV/0! | I63: =Main!J60/Main!J$51-1 -> #DIV/0! | ... K63: =Main!L60/Main!L$51-1 -> #DIV/0!
A64: =Main!B61 -> 43039 | B64: =Main!C61/Main!C$51-1 -> 0.13087853 | C64: =Main!D61/Main!D$51-1 -> #DIV/0! | D64: =Main!E61/Main!E$51-1 -> #DIV/0! | E64: =Main!F61/Main!F$51-1 -> #DIV/0! | F64: =Main!G61/Main!G$51-1 -> #DIV/0! | G64: =Main!H61/Main!H$51-1 -> #DIV/0! | H64: =Main!I61/Main!I$51-1 -> #DIV/0! | I64: =Main!J61/Main!J$51-1 -> #DIV/0! | ... K64: =Main!L61/Main!L$51-1 -> #DIV/0!
A65: =Main!B62 -> 43069 | B65: =Main!C62/Main!C$51-1 -> 0.12654259 | C65: =Main!D62/Main!D$51-1 -> #DIV/0! | D65: =Main!E62/Main!E$51-1 -> #DIV/0! | E65: =Main!F62/Main!F$51-1 -> #DIV/0! | F65: =Main!G62/Main!G$51-1 -> #DIV/0! | G65: =Main!H62/Main!H$51-1 -> #DIV/0! | H65: =Main!I62/Main!I$51-1 -> #DIV/0! | I65: =Main!J62/Main!J$51-1 -> #DIV/0! | ... K65: =Main!L62/Main!L$51-1 -> #DIV/0!
A66: =Main!B63 -> 43100 | B66: =Main!C63/Main!C$51-1 -> 0.12694283 | C66: =Main!D63/Main!D$51-1 -> #DIV/0! | D66: =Main!E63/Main!E$51-1 -> #DIV/0! | E66: =Main!F63/Main!F$51-1 -> #DIV/0! | F66: =Main!G63/Main!G$51-1 -> #DIV/0! | G66: =Main!H63/Main!H$51-1 -> #DIV/0! | H66: =Main!I63/Main!I$51-1 -> #DIV/0! | I66: =Main!J63/Main!J$51-1 -> #DIV/0! | ... K66: =Main!L63/Main!L$51-1 -> #DIV/0!
A67: =Main!B64 -> 43131 | B67: =Main!C64/Main!C$63-1 -> 0.031372085 | C67: =Main!D64/Main!D$63-1 -> #DIV/0! | D67: =Main!E64/Main!E$63-1 -> #DIV/0! | E67: =Main!F64/Main!F$63-1 -> #DIV/0! | F67: =Main!G64/Main!G$63-1 -> #DIV/0! | G67: =Main!H64/Main!H$63-1 -> #DIV/0! | H67: =Main!I64/Main!I$63-1 -> #DIV/0! | I67: =Main!J64/Main!J$63-1 -> #DIV/0! | ... K67: =Main!L64/Main!L$63-1 -> #DIV/0!
A68: =Main!B65 -> 43159 | B68: =Main!C65/Main!C$63-1 -> 0.0098851663 | C68: =Main!D65/Main!D$63-1 -> #DIV/0! | D68: =Main!E65/Main!E$63-1 -> #DIV/0! | E68: =Main!F65/Main!F$63-1 -> #DIV/0! | F68: =Main!G65/Main!G$63-1 -> #DIV/0! | G68: =Main!H65/Main!H$63-1 -> #DIV/0! | H68: =Main!I65/Main!I$63-1 -> #DIV/0! | I68: =Main!J65/Main!J$63-1 -> #DIV/0! | ... K68: =Main!L65/Main!L$63-1 -> #DIV/0!
A69: =Main!B66 -> 43190 | B69: =Main!C66/Main!C$63-1 -> -0.0086421215 | C69: =Main!D66/Main!D$63-1 -> #DIV/0! | D69: =Main!E66/Main!E$63-1 -> #DIV/0! | E69: =Main!F66/Main!F$63-1 -> #DIV/0! | F69: =Main!G66/Main!G$63-1 -> #DIV/0! | G69: =Main!H66/Main!H$63-1 -> #DIV/0! | H69: =Main!I66/Main!I$63-1 -> #DIV/0! | I69: =Main!J66/Main!J$63-1 -> #DIV/0! | ... K69: =Main!L66/Main!L$63-1 -> #DIV/0!
A70: =Main!B67 -> 43220 | B70: =Main!C67/Main!C$63-1 -> 0.0049129869 | C70: =Main!D67/Main!D$63-1 -> #DIV/0! | D70: =Main!E67/Main!E$63-1 -> #DIV/0! | E70: =Main!F67/Main!F$63-1 -> #DIV/0! | F70: =Main!G67/Main!G$63-1 -> #DIV/0! | G70: =Main!H67/Main!H$63-1 -> #DIV/0! | H70: =Main!I67/Main!I$63-1 -> #DIV/0! | I70: =Main!J67/Main!J$63-1 -> #DIV/0! | ... K70: =Main!L67/Main!L$63-1 -> #DIV/0!
A71: =Main!B68 -> 43251 | B71: =Main!C68/Main!C$63-1 -> 0.02107257 | C71: =Main!D68/Main!D$63-1 -> #DIV/0! | D71: =Main!E68/Main!E$63-1 -> #DIV/0! | E71: =Main!F68/Main!F$63-1 -> #DIV/0! | F71: =Main!G68/Main!G$63-1 -> #DIV/0! | G71: =Main!H68/Main!H$63-1 -> #DIV/0! | H71: =Main!I68/Main!I$63-1 -> #DIV/0! | I71: =Main!J68/Main!J$63-1 -> #DIV/0! | ... K71: =Main!L68/Main!L$63-1 -> #DIV/0!
A72: =Main!B69 -> 43281 | B72: =Main!C69/Main!C$63-1 -> -0.0052681425 | C72: =Main!D69/Main!D$63-1 -> #DIV/0! | D72: =Main!E69/Main!E$63-1 -> #DIV/0! | E72: =Main!F69/Main!F$63-1 -> #DIV/0! | F72: =Main!G69/Main!G$63-1 -> #DIV/0! | G72: =Main!H69/Main!H$63-1 -> #DIV/0! | H72: =Main!I69/Main!I$63-1 -> #DIV/0! | I72: =Main!J69/Main!J$63-1 -> #DIV/0! | ... K72: =Main!L69/Main!L$63-1 -> #DIV/0!
A73: =Main!B70 -> 43312 | B73: =Main!C70/Main!C$63-1 -> -0.016810702 | C73: =Main!D70/Main!D$63-1 -> #DIV/0! | D73: =Main!E70/Main!E$63-1 -> #DIV/0! | E73: =Main!F70/Main!F$63-1 -> #DIV/0! | F73: =Main!G70/Main!G$63-1 -> #DIV/0! | G73: =Main!H70/Main!H$63-1 -> #DIV/0! | H73: =Main!I70/Main!I$63-1 -> #DIV/0! | I73: =Main!J70/Main!J$63-1 -> #DIV/0! | ... K73: =Main!L70/Main!L$63-1 -> #DIV/0!
A74: =Main!B71 -> 43343 | B74: =Main!C71/Main!C$63-1 -> -0.02604475 | C74: =Main!D71/Main!D$63-1 -> #DIV/0! | D74: =Main!E71/Main!E$63-1 -> #DIV/0! | E74: =Main!F71/Main!F$63-1 -> #DIV/0! | F74: =Main!G71/Main!G$63-1 -> #DIV/0! | G74: =Main!H71/Main!H$63-1 -> #DIV/0! | H74: =Main!I71/Main!I$63-1 -> #DIV/0! | I74: =Main!J71/Main!J$63-1 -> #DIV/0! | ... K74: =Main!L71/Main!L$63-1 -> #DIV/0!
A75: =Main!B72 -> 43373 | B75: =Main!C72/Main!C$63-1 -> -0.038238428 | C75: =Main!D72/Main!D$63-1 -> #DIV/0! | D75: =Main!E72/Main!E$63-1 -> #DIV/0! | E75: =Main!F72/Main!F$63-1 -> #DIV/0! | F75: =Main!G72/Main!G$63-1 -> #DIV/0! | G75: =Main!H72/Main!H$63-1 -> #DIV/0! | H75: =Main!I72/Main!I$63-1 -> #DIV/0! | I75: =Main!J72/Main!J$63-1 -> #DIV/0! | ... K75: =Main!L72/Main!L$63-1 -> #DIV/0!
A76: =Main!B73 -> 43404 | B76: =Main!C73/Main!C$63-1 -> -0.11222919 | C76: =Main!D73/Main!D$63-1 -> #DIV/0! | D76: =Main!E73/Main!E$63-1 -> #DIV/0! | E76: =Main!F73/Main!F$63-1 -> #DIV/0! | F76: =Main!G73/Main!G$63-1 -> #DIV/0! | G76: =Main!H73/Main!H$63-1 -> #DIV/0! | H76: =Main!I73/Main!I$63-1 -> #DIV/0! | I76: =Main!J73/Main!J$63-1 -> #DIV/0! | ... K76: =Main!L73/Main!L$63-1 -> #DIV/0!
A77: =Main!B74 -> 43434 | B77: =Main!C74/Main!C$63-1 -> -0.090209542 | C77: =Main!D74/Main!D$63-1 -> #DIV/0! | D77: =Main!E74/Main!E$63-1 -> #DIV/0! | E77: =Main!F74/Main!F$63-1 -> #DIV/0! | F77: =Main!G74/Main!G$63-1 -> #DIV/0! | G77: =Main!H74/Main!H$63-1 -> #DIV/0! | H77: =Main!I74/Main!I$63-1 -> #DIV/0! | I77: =Main!J74/Main!J$63-1 -> #DIV/0! | ... K77: =Main!L74/Main!L$63-1 -> #DIV/0!
A78: =Main!B75 -> 43465 | B78: =Main!C75/Main!C$63-1 -> -0.10204806 | C78: =Main!D75/Main!D$63-1 -> #DIV/0! | D78: =Main!E75/Main!E$63-1 -> #DIV/0! | E78: =Main!F75/Main!F$63-1 -> #DIV/0! | F78: =Main!G75/Main!G$63-1 -> #DIV/0! | G78: =Main!H75/Main!H$63-1 -> #DIV/0! | H78: =Main!I75/Main!I$63-1 -> #DIV/0! | I78: =Main!J75/Main!J$63-1 -> #DIV/0! | ... K78: =Main!L75/Main!L$63-1 -> #DIV/0!
A79: =Main!B76 -> 43496 | B79: =Main!C76/Main!C$75-1 -> 0.040013184 | C79: =Main!D76/Main!D$75-1 -> #DIV/0! | D79: =Main!E76/Main!E$75-1 -> #DIV/0! | E79: =Main!F76/Main!F$75-1 -> #DIV/0! | F79: =Main!G76/Main!G$75-1 -> #DIV/0! | G79: =Main!H76/Main!H$75-1 -> #DIV/0! | H79: =Main!I76/Main!I$75-1 -> #DIV/0! | I79: =Main!J76/Main!J$75-1 -> #DIV/0! | ... K79: =Main!L76/Main!L$75-1 -> #DIV/0!
A80: =Main!B77 -> 43524 | B80: =Main!C77/Main!C$75-1 -> 0.062359921 | C80: =Main!D77/Main!D$75-1 -> #DIV/0! | D80: =Main!E77/Main!E$75-1 -> #DIV/0! | E80: =Main!F77/Main!F$75-1 -> #DIV/0! | F80: =Main!G77/Main!G$75-1 -> #DIV/0! | G80: =Main!H77/Main!H$75-1 -> #DIV/0! | H80: =Main!I77/Main!I$75-1 -> #DIV/0! | I80: =Main!J77/Main!J$75-1 -> #DIV/0! | ... K80: =Main!L77/Main!L$75-1 -> #DIV/0!
A81: =Main!B78 -> 43555 | B81: =Main!C78/Main!C$75-1 -> 0.069347396 | C81: =Main!D78/Main!D$75-1 -> #DIV/0! | D81: =Main!E78/Main!E$75-1 -> #DIV/0! | E81: =Main!F78/Main!F$75-1 -> #DIV/0! | F81: =Main!G78/Main!G$75-1 -> #DIV/0! | G81: =Main!H78/Main!H$75-1 -> #DIV/0! | H81: =Main!I78/Main!I$75-1 -> #DIV/0! | I81: =Main!J78/Main!J$75-1 -> #DIV/0! | ... K81: =Main!L78/Main!L$75-1 -> #DIV/0!
A82: =Main!B79 -> 43585 | B82: =Main!C79/Main!C$75-1 -> 0.080158207 | C82: =Main!D79/Main!D$75-1 -> #DIV/0! | D82: =Main!E79/Main!E$75-1 -> #DIV/0! | E82: =Main!F79/Main!F$75-1 -> #DIV/0! | F82: =Main!G79/Main!G$75-1 -> #DIV/0! | G82: =Main!H79/Main!H$75-1 -> #DIV/0! | H82: =Main!I79/Main!I$75-1 -> #DIV/0! | I82: =Main!J79/Main!J$75-1 -> #DIV/0! | ... K82: =Main!L79/Main!L$75-1 -> #DIV/0!
A83: =Main!B80 -> 43616 | B83: =Main!C80/Main!C$75-1 -> 0.038299275 | C83: =Main!D80/Main!D$75-1 -> #DIV/0! | D83: =Main!E80/Main!E$75-1 -> #DIV/0! | E83: =Main!F80/Main!F$75-1 -> #DIV/0! | F83: =Main!G80/Main!G$75-1 -> #DIV/0! | G83: =Main!H80/Main!H$75-1 -> #DIV/0! | H83: =Main!I80/Main!I$75-1 -> #DIV/0! | I83: =Main!J80/Main!J$75-1 -> #DIV/0! | ... K83: =Main!L80/Main!L$75-1 -> #DIV/0!
A84: =Main!B81 -> 43646 | B84: =Main!C81/Main!C$75-1 -> 0.048780488 | C84: =Main!D81/Main!D$75-1 -> #DIV/0! | D84: =Main!E81/Main!E$75-1 -> #DIV/0! | E84: =Main!F81/Main!F$75-1 -> #DIV/0! | F84: =Main!G81/Main!G$75-1 -> #DIV/0! | G84: =Main!H81/Main!H$75-1 -> #DIV/0! | H84: =Main!I81/Main!I$75-1 -> #DIV/0! | I84: =Main!J81/Main!J$75-1 -> #DIV/0! | ... K84: =Main!L81/Main!L$75-1 -> #DIV/0!
A85: =Main!B82 -> 43677 | B85: =Main!C82/Main!C$75-1 -> 0.046341463 | C85: =Main!D82/Main!D$75-1 -> #DIV/0! | D85: =Main!E82/Main!E$75-1 -> #DIV/0! | E85: =Main!F82/Main!F$75-1 -> #DIV/0! | F85: =Main!G82/Main!G$75-1 -> #DIV/0! | G85: =Main!H82/Main!H$75-1 -> #DIV/0! | H85: =Main!I82/Main!I$75-1 -> #DIV/0! | I85: =Main!J82/Main!J$75-1 -> #DIV/0! | ... K85: =Main!L82/Main!L$75-1 -> #DIV/0!
A86: =Main!B83 -> 43708 | B86: =Main!C83/Main!C$75-1 -> -0.011865524 | C86: =Main!D83/Main!D$75-1 -> #DIV/0! | D86: =Main!E83/Main!E$75-1 -> #DIV/0! | E86: =Main!F83/Main!F$75-1 -> #DIV/0! | F86: =Main!G83/Main!G$75-1 -> #DIV/0! | G86: =Main!H83/Main!H$75-1 -> #DIV/0! | H86: =Main!I83/Main!I$75-1 -> #DIV/0! | I86: =Main!J83/Main!J$75-1 -> #DIV/0! | ... K86: =Main!L83/Main!L$75-1 -> #DIV/0!
A87: =Main!B84 -> 43738 | B87: =Main!C84/Main!C$75-1 -> -0.0074489123 | C87: =Main!D84/Main!D$75-1 -> #DIV/0! | D87: =Main!E84/Main!E$75-1 -> #DIV/0! | E87: =Main!F84/Main!F$75-1 -> #DIV/0! | F87: =Main!G84/Main!G$75-1 -> #DIV/0! | G87: =Main!H84/Main!H$75-1 -> #DIV/0! | H87: =Main!I84/Main!I$75-1 -> #DIV/0! | I87: =Main!J84/Main!J$75-1 -> #DIV/0! | ... K87: =Main!L84/Main!L$75-1 -> #DIV/0!
A88: =Main!B85 -> 43769 | B88: =Main!C85/Main!C$75-1 -> -0.0044825313 | C88: =Main!D85/Main!D$75-1 -> #DIV/0! | D88: =Main!E85/Main!E$75-1 -> #DIV/0! | E88: =Main!F85/Main!F$75-1 -> #DIV/0! | F88: =Main!G85/Main!G$75-1 -> #DIV/0! | G88: =Main!H85/Main!H$75-1 -> #DIV/0! | H88: =Main!I85/Main!I$75-1 -> #DIV/0! | I88: =Main!J85/Main!J$75-1 -> #DIV/0! | ... K88: =Main!L85/Main!L$75-1 -> #DIV/0!
A89: =Main!B86 -> 43799 | B89: =Main!C86/Main!C$75-1 -> -0.0010547132 | C89: =Main!D86/Main!D$75-1 -> #DIV/0! | D89: =Main!E86/Main!E$75-1 -> #DIV/0! | E89: =Main!F86/Main!F$75-1 -> #DIV/0! | F89: =Main!G86/Main!G$75-1 -> #DIV/0! | G89: =Main!H86/Main!H$75-1 -> #DIV/0! | H89: =Main!I86/Main!I$75-1 -> #DIV/0! | I89: =Main!J86/Main!J$75-1 -> #DIV/0! | ... K89: =Main!L86/Main!L$75-1 -> #DIV/0!
A90: =Main!B87 -> 43830 | B90: =Main!C87/Main!C$75-1 -> 0.022742254 | C90: =Main!D87/Main!D$75-1 -> #DIV/0! | D90: =Main!E87/Main!E$75-1 -> #DIV/0! | E90: =Main!F87/Main!F$75-1 -> #DIV/0! | F90: =Main!G87/Main!G$75-1 -> #DIV/0! | G90: =Main!H87/Main!H$75-1 -> #DIV/0! | H90: =Main!I87/Main!I$75-1 -> #DIV/0! | I90: =Main!J87/Main!J$75-1 -> #DIV/0! | ... K90: =Main!L87/Main!L$75-1 -> #DIV/0!
A91: =Main!B88 -> 43861 | B91: =Main!C88/Main!C$87-1 -> -0.043312923 | C91: =Main!D88/Main!D$87-1 -> #DIV/0! | D91: =Main!E88/Main!E$87-1 -> #DIV/0! | E91: =Main!F88/Main!F$87-1 -> #DIV/0! | F91: =Main!G88/Main!G$87-1 -> #DIV/0! | G91: =Main!H88/Main!H$87-1 -> #DIV/0! | H91: =Main!I88/Main!I$87-1 -> #DIV/0! | I91: =Main!J88/Main!J$87-1 -> #DIV/0! | ... K91: =Main!L88/Main!L$87-1 -> #DIV/0!
A92: =Main!B89 -> 43890 | B92: =Main!C89/Main!C$87-1 -> -0.06986787 | C92: =Main!D89/Main!D$87-1 -> #DIV/0! | D92: =Main!E89/Main!E$87-1 -> #DIV/0! | E92: =Main!F89/Main!F$87-1 -> #DIV/0! | F92: =Main!G89/Main!G$87-1 -> #DIV/0! | G92: =Main!H89/Main!H$87-1 -> #DIV/0! | H92: =Main!I89/Main!I$87-1 -> #DIV/0! | I92: =Main!J89/Main!J$87-1 -> #DIV/0! | ... K92: =Main!L89/Main!L$87-1 -> #DIV/0!
A93: =Main!B90 -> 43921 | B93: =Main!C90/Main!C$87-1 -> -0.20090235 | C93: =Main!D90/Main!D$87-1 -> #DIV/0! | D93: =Main!E90/Main!E$87-1 -> #DIV/0! | E93: =Main!F90/Main!F$87-1 -> #DIV/0! | F93: =Main!G90/Main!G$87-1 -> #DIV/0! | G93: =Main!H90/Main!H$87-1 -> #DIV/0! | H93: =Main!I90/Main!I$87-1 -> #DIV/0! | I93: =Main!J90/Main!J$87-1 -> #DIV/0! | ... K93: =Main!L90/Main!L$87-1 -> #DIV/0!
A94: =Main!B91 -> 43951 | B94: =Main!C91/Main!C$87-1 -> -0.13709314 | C94: =Main!D91/Main!D$87-1 -> #DIV/0! | D94: =Main!E91/Main!E$87-1 -> #DIV/0! | E94: =Main!F91/Main!F$87-1 -> #DIV/0! | F94: =Main!G91/Main!G$87-1 -> #DIV/0! | G94: =Main!H91/Main!H$87-1 -> #DIV/0! | H94: =Main!I91/Main!I$87-1 -> #DIV/0! | I94: =Main!J91/Main!J$87-1 -> #DIV/0! | ... K94: =Main!L91/Main!L$87-1 -> #DIV/0!
A95: =Main!B92 -> 43982 | B95: =Main!C92/Main!C$87-1 -> -0.13864003 | C95: =Main!D92/Main!D$87-1 -> #DIV/0! | D95: =Main!E92/Main!E$87-1 -> #DIV/0! | E95: =Main!F92/Main!F$87-1 -> #DIV/0! | F95: =Main!G92/Main!G$87-1 -> #DIV/0! | G95: =Main!H92/Main!H$87-1 -> #DIV/0! | H95: =Main!I92/Main!I$87-1 -> #DIV/0! | I95: =Main!J92/Main!J$87-1 -> #DIV/0! | ... K95: =Main!L92/Main!L$87-1 -> #DIV/0!
A96: =Main!B93 -> 44012 | B96: =Main!C93/Main!C$87-1 -> -0.12574927 | C96: =Main!D93/Main!D$87-1 -> #DIV/0! | D96: =Main!E93/Main!E$87-1 -> #DIV/0! | E96: =Main!F93/Main!F$87-1 -> #DIV/0! | F96: =Main!G93/Main!G$87-1 -> #DIV/0! | G96: =Main!H93/Main!H$87-1 -> #DIV/0! | H96: =Main!I93/Main!I$87-1 -> #DIV/0! | I96: =Main!J93/Main!J$87-1 -> #DIV/0! | ... K96: =Main!L93/Main!L$87-1 -> #DIV/0!
A97: =Main!B94 -> 44043 | B97: =Main!C94/Main!C$87-1 -> -0.11266516 | C97: =Main!D94/Main!D$87-1 -> #DIV/0! | D97: =Main!E94/Main!E$87-1 -> #DIV/0! | E97: =Main!F94/Main!F$87-1 -> #DIV/0! | F97: =Main!G94/Main!G$87-1 -> #DIV/0! | G97: =Main!H94/Main!H$87-1 -> #DIV/0! | H97: =Main!I94/Main!I$87-1 -> #DIV/0! | I97: =Main!J94/Main!J$87-1 -> #DIV/0! | ... K97: =Main!L94/Main!L$87-1 -> #DIV/0!
A98: =Main!B95 -> 44074 | B98: =Main!C95/Main!C$87-1 -> -0.089719626 | C98: =Main!D95/Main!D$87-1 -> #DIV/0! | D98: =Main!E95/Main!E$87-1 -> #DIV/0! | E98: =Main!F95/Main!F$87-1 -> #DIV/0! | F98: =Main!G95/Main!G$87-1 -> #DIV/0! | G98: =Main!H95/Main!H$87-1 -> #DIV/0! | H98: =Main!I95/Main!I$87-1 -> #DIV/0! | I98: =Main!J95/Main!J$87-1 -> #DIV/0! | ... K98: =Main!L95/Main!L$87-1 -> #DIV/0!
A99: =Main!B96 -> 44104 | B99: =Main!C96/Main!C$87-1 -> -0.091653239 | C99: =Main!D96/Main!D$87-1 -> #DIV/0! | D99: =Main!E96/Main!E$87-1 -> #DIV/0! | E99: =Main!F96/Main!F$87-1 -> #DIV/0! | F99: =Main!G96/Main!G$87-1 -> #DIV/0! | G99: =Main!H96/Main!H$87-1 -> #DIV/0! | H99: =Main!I96/Main!I$87-1 -> #DIV/0! | I99: =Main!J96/Main!J$87-1 -> #DIV/0! | ... K99: =Main!L96/Main!L$87-1 -> #DIV/0!
A100: =Main!B97 -> 44135 | B100: =Main!C97/Main!C$87-1 -> -0.078698034 | C100: =Main!D97/Main!D$87-1 -> #DIV/0! | D100: =Main!E97/Main!E$87-1 -> #DIV/0! | E100: =Main!F97/Main!F$87-1 -> #DIV/0! | F100: =Main!G97/Main!G$87-1 -> #DIV/0! | G100: =Main!H97/Main!H$87-1 -> #DIV/0! | H100: =Main!I97/Main!I$87-1 -> #DIV/0! | I100: =Main!J97/Main!J$87-1 -> #DIV/0! | ... K100: =Main!L97/Main!L$87-1 -> #DIV/0!
A101: =Main!B98 -> 44165 | B101: =Main!C98/Main!C$87-1 -> 0.0023203352 | C101: =Main!D98/Main!D$87-1 -> #DIV/0! | D101: =Main!E98/Main!E$87-1 -> #DIV/0! | E101: =Main!F98/Main!F$87-1 -> #DIV/0! | F101: =Main!G98/Main!G$87-1 -> #DIV/0! | G101: =Main!H98/Main!H$87-1 -> #DIV/0! | H101: =Main!I98/Main!I$87-1 -> #DIV/0! | I101: =Main!J98/Main!J$87-1 -> #DIV/0! | ... K101: =Main!L98/Main!L$87-1 -> #DIV/0!
A102: =Main!B99 -> 44196 | B102: =Main!C99/Main!C$87-1 -> 0.04137931 | C102: =Main!D99/Main!D$87-1 -> #DIV/0! | D102: =Main!E99/Main!E$87-1 -> #DIV/0! | E102: =Main!F99/Main!F$87-1 -> #DIV/0! | F102: =Main!G99/Main!G$87-1 -> #DIV/0! | G102: =Main!H99/Main!H$87-1 -> #DIV/0! | H102: =Main!I99/Main!I$87-1 -> #DIV/0! | I102: =Main!J99/Main!J$87-1 -> #DIV/0! | ... K102: =Main!L99/Main!L$87-1 -> #DIV/0!
A103: =Main!B100 -> 44227 | B103: =Main!C100/Main!C$99-1 -> 0.013678282 | C103: =Main!D100/Main!D$99-1 -> #DIV/0! | D103: =Main!E100/Main!E$99-1 -> #DIV/0! | E103: =Main!F100/Main!F$99-1 -> #DIV/0! | F103: =Main!G100/Main!G$99-1 -> #DIV/0! | G103: =Main!H100/Main!H$99-1 -> #DIV/0! | H103: =Main!I100/Main!I$99-1 -> #DIV/0! | I103: =Main!J100/Main!J$99-1 -> #DIV/0! | ... K103: =Main!L100/Main!L$99-1 -> #DIV/0!
A104: =Main!B101 -> 44255 | B104: =Main!C101/Main!C$99-1 -> 0.069196014 | C104: =Main!D101/Main!D$99-1 -> #DIV/0! | D104: =Main!E101/Main!E$99-1 -> #DIV/0! | E104: =Main!F101/Main!F$99-1 -> #DIV/0! | F104: =Main!G101/Main!G$99-1 -> #DIV/0! | G104: =Main!H101/Main!H$99-1 -> #DIV/0! | H104: =Main!I101/Main!I$99-1 -> #DIV/0! | I104: =Main!J101/Main!J$99-1 -> #DIV/0! | ... K104: =Main!L101/Main!L$99-1 -> #DIV/0!
A105: =Main!B102 -> 44286 | B105: =Main!C102/Main!C$99-1 -> 0.10385591 | C105: =Main!D102/Main!D$99-1 -> #DIV/0! | D105: =Main!E102/Main!E$99-1 -> #DIV/0! | E105: =Main!F102/Main!F$99-1 -> #DIV/0! | F105: =Main!G102/Main!G$99-1 -> #DIV/0! | G105: =Main!H102/Main!H$99-1 -> #DIV/0! | H105: =Main!I102/Main!I$99-1 -> #DIV/0! | I105: =Main!J102/Main!J$99-1 -> #DIV/0! | ... K105: =Main!L102/Main!L$99-1 -> #DIV/0!
...

Sheet Last 1M
A4: Date | B4: AVF | C4: Hong Kong | D4: Singapore | E4: Malaysia | F4: Korea | G4: Japan | H4: Taiwan | I4: Thailand | J4: AC ASIA PACIFIC | K4: AC ASIA PACIFIC ex JAPAN
A5: =Main!B3 -> 41274
A6: =Main!B4 -> 41305 | B6: =Main!C4/Main!C3-1 -> 0.017036963 | C6: =Main!D4/Main!D3-1 -> #DIV/0! | D6: =Main!E4/Main!E3-1 -> #DIV/0! | E6: =Main!F4/Main!F3-1 -> #DIV/0! | F6: =Main!G4/Main!G3-1 -> #DIV/0! | G6: =Main!H4/Main!H3-1 -> #DIV/0! | H6: =Main!I4/Main!I3-1 -> #DIV/0! | I6: =Main!J4/Main!J3-1 -> #DIV/0! | ... K6: =Main!L4/Main!L3-1 -> #DIV/0!
A7: =Main!B5 -> 41333 | B7: =Main!C5/Main!C4-1 -> 0.0089145768 | C7: =Main!D5/Main!D4-1 -> #DIV/0! | D7: =Main!E5/Main!E4-1 -> #DIV/0! | E7: =Main!F5/Main!F4-1 -> #DIV/0! | F7: =Main!G5/Main!G4-1 -> #DIV/0! | G7: =Main!H5/Main!H4-1 -> #DIV/0! | H7: =Main!I5/Main!I4-1 -> #DIV/0! | I7: =Main!J5/Main!J4-1 -> #DIV/0! | ... K7: =Main!L5/Main!L4-1 -> #DIV/0!
A8: =Main!B6 -> 41362 | B8: =Main!C6/Main!C5-1 -> -0.00058258083 | C8: =Main!D6/Main!D5-1 -> #DIV/0! | D8: =Main!E6/Main!E5-1 -> #DIV/0! | E8: =Main!F6/Main!F5-1 -> #DIV/0! | F8: =Main!G6/Main!G5-1 -> #DIV/0! | G8: =Main!H6/Main!H5-1 -> #DIV/0! | H8: =Main!I6/Main!I5-1 -> #DIV/0! | I8: =Main!J6/Main!J5-1 -> #DIV/0! | ... K8: =Main!L6/Main!L5-1 -> #DIV/0!
A9: =Main!B7 -> 41394 | B9: =Main!C7/Main!C6-1 -> -0.011172642 | C9: =Main!D7/Main!D6-1 -> #DIV/0! | D9: =Main!E7/Main!E6-1 -> #DIV/0! | E9: =Main!F7/Main!F6-1 -> #DIV/0! | F9: =Main!G7/Main!G6-1 -> #DIV/0! | G9: =Main!H7/Main!H6-1 -> #DIV/0! | H9: =Main!I7/Main!I6-1 -> #DIV/0! | I9: =Main!J7/Main!J6-1 -> #DIV/0! | ... K9: =Main!L7/Main!L6-1 -> #DIV/0!
A10: =Main!B8 -> 41425 | B10: =Main!C8/Main!C7-1 -> 0.064845746 | C10: =Main!D8/Main!D7-1 -> #DIV/0! | D10: =Main!E8/Main!E7-1 -> #DIV/0! | E10: =Main!F8/Main!F7-1 -> #DIV/0! | F10: =Main!G8/Main!G7-1 -> #DIV/0! | G10: =Main!H8/Main!H7-1 -> #DIV/0! | H10: =Main!I8/Main!I7-1 -> #DIV/0! | I10: =Main!J8/Main!J7-1 -> #DIV/0! | ... K10: =Main!L8/Main!L7-1 -> #DIV/0!
A11: =Main!B9 -> 41453 | B11: =Main!C9/Main!C8-1 -> -0.033770068 | C11: =Main!D9/Main!D8-1 -> #DIV/0! | D11: =Main!E9/Main!E8-1 -> #DIV/0! | E11: =Main!F9/Main!F8-1 -> #DIV/0! | F11: =Main!G9/Main!G8-1 -> #DIV/0! | G11: =Main!H9/Main!H8-1 -> #DIV/0! | H11: =Main!I9/Main!I8-1 -> #DIV/0! | I11: =Main!J9/Main!J8-1 -> #DIV/0! | ... K11: =Main!L9/Main!L8-1 -> #DIV/0!
A12: =Main!B10 -> 41486 | B12: =Main!C10/Main!C9-1 -> 0.013750955 | C12: =Main!D10/Main!D9-1 -> #DIV/0! | D12: =Main!E10/Main!E9-1 -> #DIV/0! | E12: =Main!F10/Main!F9-1 -> #DIV/0! | F12: =Main!G10/Main!G9-1 -> #DIV/0! | G12: =Main!H10/Main!H9-1 -> #DIV/0! | H12: =Main!I10/Main!I9-1 -> #DIV/0! | I12: =Main!J10/Main!J9-1 -> #DIV/0! | ... K12: =Main!L10/Main!L9-1 -> #DIV/0!
A13: =Main!B11 -> 41516 | B13: =Main!C11/Main!C10-1 -> -0.0017897513 | C13: =Main!D11/Main!D10-1 -> #DIV/0! | D13: =Main!E11/Main!E10-1 -> #DIV/0! | E13: =Main!F11/Main!F10-1 -> #DIV/0! | F13: =Main!G11/Main!G10-1 -> #DIV/0! | G13: =Main!H11/Main!H10-1 -> #DIV/0! | H13: =Main!I11/Main!I10-1 -> #DIV/0! | I13: =Main!J11/Main!J10-1 -> #DIV/0! | ... K13: =Main!L11/Main!L10-1 -> #DIV/0!
A14: =Main!B12 -> 41547 | B14: =Main!C12/Main!C11-1 -> 0.024252147 | C14: =Main!D12/Main!D11-1 -> #DIV/0! | D14: =Main!E12/Main!E11-1 -> #DIV/0! | E14: =Main!F12/Main!F11-1 -> #DIV/0! | F14: =Main!G12/Main!G11-1 -> #DIV/0! | G14: =Main!H12/Main!H11-1 -> #DIV/0! | H14: =Main!I12/Main!I11-1 -> #DIV/0! | I14: =Main!J12/Main!J11-1 -> #DIV/0! | ... K14: =Main!L12/Main!L11-1 -> #DIV/0!
A15: =Main!B13 -> 41578 | B15: =Main!C13/Main!C12-1 -> 0.017320803 | C15: =Main!D13/Main!D12-1 -> #DIV/0! | D15: =Main!E13/Main!E12-1 -> #DIV/0! | E15: =Main!F13/Main!F12-1 -> #DIV/0! | F15: =Main!G13/Main!G12-1 -> #DIV/0! | G15: =Main!H13/Main!H12-1 -> #DIV/0! | H15: =Main!I13/Main!I12-1 -> #DIV/0! | I15: =Main!J13/Main!J12-1 -> #DIV/0! | ... K15: =Main!L13/Main!L12-1 -> #DIV/0!
A16: =Main!B14 -> 41607 | B16: =Main!C14/Main!C13-1 -> 0.02001449 | C16: =Main!D14/Main!D13-1 -> #DIV/0! | D16: =Main!E14/Main!E13-1 -> #DIV/0! | E16: =Main!F14/Main!F13-1 -> #DIV/0! | F16: =Main!G14/Main!G13-1 -> #DIV/0! | G16: =Main!H14/Main!H13-1 -> #DIV/0! | H16: =Main!I14/Main!I13-1 -> #DIV/0! | I16: =Main!J14/Main!J13-1 -> #DIV/0! | ... K16: =Main!L14/Main!L13-1 -> #DIV/0!
A17: =Main!B15 -> 41639 | B17: =Main!C15/Main!C14-1 -> 0.010032851 | C17: =Main!D15/Main!D14-1 -> #DIV/0! | D17: =Main!E15/Main!E14-1 -> #DIV/0! | E17: =Main!F15/Main!F14-1 -> #DIV/0! | F17: =Main!G15/Main!G14-1 -> #DIV/0! | G17: =Main!H15/Main!H14-1 -> #DIV/0! | H17: =Main!I15/Main!I14-1 -> #DIV/0! | I17: =Main!J15/Main!J14-1 -> #DIV/0! | ... K17: =Main!L15/Main!L14-1 -> #DIV/0!
... A159: =Main!B157 -> 45961 | B159: =Main!C157/Main!C156-1 -> 0.015290905 | C159: =Main!D157/Main!D156-1 -> #DIV/0! | D159: =Main!E157/Main!E156-1 -> #DIV/0! | E159: =Main!F157/Main!F156-1 -> #DIV/0! | F159: =Main!G157/Main!G156-1 -> #DIV/0! | G159: =Main!H157/Main!H156-1 -> #DIV/0! | H159: =Main!I157/Main!I156-1 -> #DIV/0! | I159: =Main!J157/Main!J156-1 -> #DIV/0! | ... K159: =Main!L157/Main!L156-1 -> #DIV/0!
A160: =Main!B158 -> 45989 | B160: =Main!C158/Main!C157-1 -> 0.0020273905
A161: =Main!B159 -> 46022 | B161: =Main!C159/Main!C158-1 -> 0.0046659509
A162: =Main!B160 -> 46052 | B162: =Main!C160/Main!C159-1 -> 0.020180017

Sheet Last 3M
A4: Date | B4: AVF | C4: Hong Kong | D4: Singapore | E4: Malaysia | F4: Korea | G4: Japan | H4: Taiwan | I4: Thailand | J4: AC ASIA PACIFIC | K4: AC ASIA PACIFIC ex JAPAN
A5: =Main!B3 -> 41274
A6: =Main!B4 -> 41305
A7: =Main!B5 -> 41333
A8: =Main!B6 -> 41362 | B8: =Main!C6/Main!C3-1 -> 0.025505629 | C8: =Main!D6/Main!D3-1 -> #DIV/0! | D8: =Main!E6/Main!E3-1 -> #DIV/0! | E8: =Main!F6/Main!F3-1 -> #DIV/0! | F8: =Main!G6/Main!G3-1 -> #DIV/0! | G8: =Main!H6/Main!H3-1 -> #DIV/0! | H8: =Main!I6/Main!I3-1 -> #DIV/0! | I8: =Main!J6/Main!J3-1 -> #DIV/0! | ... K8: =Main!L6/Main!L3-1 -> #DIV/0!
A9: =Main!B7 -> 41394 | B9: =Main!C7/Main!C4-1 -> -0.0029388715 | C9: =Main!D7/Main!D4-1 -> #DIV/0! | D9: =Main!E7/Main!E4-1 -> #DIV/0! | E9: =Main!F7/Main!F4-1 -> #DIV/0! | F9: =Main!G7/Main!G4-1 -> #DIV/0! | G9: =Main!H7/Main!H4-1 -> #DIV/0! | H9: =Main!I7/Main!I4-1 -> #DIV/0! | I9: =Main!J7/Main!J4-1 -> #DIV/0! | ... K9: =Main!L7/Main!L4-1 -> #DIV/0!
A10: =Main!B8 -> 41425 | B10: =Main!C8/Main!C5-1 -> 0.052335178 | C10: =Main!D8/Main!D5-1 -> #DIV/0! | D10: =Main!E8/Main!E5-1 -> #DIV/0! | E10: =Main!F8/Main!F5-1 -> #DIV/0! | F10: =Main!G8/Main!G5-1 -> #DIV/0! | G10: =Main!H8/Main!H5-1 -> #DIV/0! | H10: =Main!I8/Main!I5-1 -> #DIV/0! | I10: =Main!J8/Main!J5-1 -> #DIV/0! | ... K10: =Main!L8/Main!L5-1 -> #DIV/0!
A11: =Main!B9 -> 41453 | B11: =Main!C9/Main!C6-1 -> 0.01739046 | C11: =Main!D9/Main!D6-1 -> #DIV/0! | D11: =Main!E9/Main!E6-1 -> #DIV/0! | E11: =Main!F9/Main!F6-1 -> #DIV/0! | F11: =Main!G9/Main!G6-1 -> #DIV/0! | G11: =Main!H9/Main!H6-1 -> #DIV/0! | H11: =Main!I9/Main!I6-1 -> #DIV/0! | I11: =Main!J9/Main!J6-1 -> #DIV/0! | ... K11: =Main!L9/Main!L6-1 -> #DIV/0!
A12: =Main!B10 -> 41486 | B12: =Main!C10/Main!C7-1 -> 0.043033995 | C12: =Main!D10/Main!D7-1 -> #DIV/0! | D12: =Main!E10/Main!E7-1 -> #DIV/0! | E12: =Main!F10/Main!F7-1 -> #DIV/0! | F12: =Main!G10/Main!G7-1 -> #DIV/0! | G12: =Main!H10/Main!H7-1 -> #DIV/0! | H12: =Main!I10/Main!I7-1 -> #DIV/0! | I12: =Main!J10/Main!J7-1 -> #DIV/0! | ... K12: =Main!L10/Main!L7-1 -> #DIV/0!
A13: =Main!B11 -> 41516 | B13: =Main!C11/Main!C8-1 -> -0.022236575 | C13: =Main!D11/Main!D8-1 -> #DIV/0! | D13: =Main!E11/Main!E8-1 -> #DIV/0! | E13: =Main!F11/Main!F8-1 -> #DIV/0! | F13: =Main!G11/Main!G8-1 -> #DIV/0! | G13: =Main!H11/Main!H8-1 -> #DIV/0! | H13: =Main!I11/Main!I8-1 -> #DIV/0! | I13: =Main!J11/Main!J8-1 -> #DIV/0! | ... K13: =Main!L11/Main!L8-1 -> #DIV/0!
A14: =Main!B12 -> 41547 | B14: =Main!C12/Main!C9-1 -> 0.036478228 | C14: =Main!D12/Main!D9-1 -> #DIV/0! | D14: =Main!E12/Main!E9-1 -> #DIV/0! | E14: =Main!F12/Main!F9-1 -> #DIV/0! | F14: =Main!G12/Main!G9-1 -> #DIV/0! | G14: =Main!H12/Main!H9-1 -> #DIV/0! | H14: =Main!I12/Main!I9-1 -> #DIV/0! | I14: =Main!J12/Main!J9-1 -> #DIV/0! | ... K14: =Main!L12/Main!L9-1 -> #DIV/0!
A15: =Main!B13 -> 41578 | B15: =Main!C13/Main!C10-1 -> 0.040128109 | C15: =Main!D13/Main!D10-1 -> #DIV/0! | D15: =Main!E13/Main!E10-1 -> #DIV/0! | E15: =Main!F13/Main!F10-1 -> #DIV/0! | F15: =Main!G13/Main!G10-1 -> #DIV/0! | G15: =Main!H13/Main!H10-1 -> #DIV/0! | H15: =Main!I13/Main!I10-1 -> #DIV/0! | I15: =Main!J13/Main!J10-1 -> #DIV/0! | ... K15: =Main!L13/Main!L10-1 -> #DIV/0!
A16: =Main!B14 -> 41607 | B16: =Main!C14/Main!C11-1 -> 0.062847976 | C16: =Main!D14/Main!D11-1 -> #DIV/0! | D16: =Main!E14/Main!E11-1 -> #DIV/0! | E16: =Main!F14/Main!F11-1 -> #DIV/0! | F16: =Main!G14/Main!G11-1 -> #DIV/0! | G16: =Main!H14/Main!H11-1 -> #DIV/0! | H16: =Main!I14/Main!I11-1 -> #DIV/0! | I16: =Main!J14/Main!J11-1 -> #DIV/0! | ... K16: =Main!L14/Main!L11-1 -> #DIV/0!
A17: =Main!B15 -> 41639 | B17: =Main!C15/Main!C12-1 -> 0.048092869 | C17: =Main!D15/Main!D12-1 -> #DIV/0! | D17: =Main!E15/Main!E12-1 -> #DIV/0! | E17: =Main!F15/Main!F12-1 -> #DIV/0! | F17: =Main!G15/Main!G12-1 -> #DIV/0! | G17: =Main!H15/Main!H12-1 -> #DIV/0! | H17: =Main!I15/Main!I12-1 -> #DIV/0! | I17: =Main!J15/Main!J12-1 -> #DIV/0! | ... K17: =Main!L15/Main!L12-1 -> #DIV/0!
A18: =Main!B16 -> 41670 | B18: =Main!C16/Main!C13-1 -> 0.029070821 | C18: =Main!D16/Main!D13-1 -> #DIV/0! | D18: =Main!E16/Main!E13-1 -> #DIV/0! | E18: =Main!F16/Main!F13-1 -> #DIV/0! | F18: =Main!G16/Main!G13-1 -> #DIV/0! | G18: =Main!H16/Main!H13-1 -> #DIV/0! | H18: =Main!I16/Main!I13-1 -> #DIV/0! | I18: =Main!J16/Main!J13-1 -> #DIV/0! | ... K18: =Main!L16/Main!L13-1 -> #DIV/0!
A19: =Main!B17 -> 41698 | B19: =Main!C17/Main!C14-1 -> 0.024149871 | C19: =Main!D17/Main!D14-1 -> #DIV/0! | D19: =Main!E17/Main!E14-1 -> #DIV/0! | E19: =Main!F17/Main!F14-1 -> #DIV/0! | F19: =Main!G17/Main!G14-1 -> #DIV/0! | G19: =Main!H17/Main!H14-1 -> #DIV/0! | H19: =Main!I17/Main!I14-1 -> #DIV/0! | I19: =Main!J17/Main!J14-1 -> #DIV/0! | ... K19: =Main!L17/Main!L14-1 -> #DIV/0!
... A159: =Main!B157 -> 45961 | B159: =Main!C157/Main!C154-1 -> 0.052473437 | C159: =Main!D157/Main!D154-1 -> #DIV/0! | D159: =Main!E157/Main!E154-1 -> #DIV/0! | E159: =Main!F157/Main!F154-1 -> #DIV/0! | F159: =Main!G157/Main!G154-1 -> #DIV/0! | G159: =Main!H157/Main!H154-1 -> #DIV/0! | H159: =Main!I157/Main!I154-1 -> #DIV/0! | I159: =Main!J157/Main!J154-1 -> #DIV/0! | ... K159: =Main!L157/Main!L154-1 -> #DIV/0!
A160: =Main!B158 -> 45989 | B160: =Main!C158/Main!C155-1 -> 0.036685073
A161: =Main!B159 -> 46022 | B161: =Main!C159/Main!C156-1 -> 0.022096198
A162: =Main!B160 -> 46052 | B162: =Main!C160/Main!C157-1 -> 0.027018081

Sheet Last 6M
A4: Date | B4: AVF | C4: Hong Kong | D4: Singapore | E4: Malaysia | F4: Korea | G4: Japan | H4: Taiwan | I4: Thailand | J4: AC ASIA PACIFIC | K4: AC ASIA PACIFIC ex JAPAN
A5: =Main!B3 -> 41274
A6: =Main!B4 -> 41305
A7: =Main!B5 -> 41333
A8: =Main!B6 -> 41362
A9: =Main!B7 -> 41394
A10: =Main!B8 -> 41425
A11: =Main!B9 -> 41453 | B11: =Main!C9/Main!C3-1 -> 0.043339643 | C11: =Main!D9/Main!D3-1 -> #DIV/0! | D11: =Main!E9/Main!E3-1 -> #DIV/0! | E11: =Main!F9/Main!F3-1 -> #DIV/0! | F11: =Main!G9/Main!G3-1 -> #DIV/0! | G11: =Main!H9/Main!H3-1 -> #DIV/0! | H11: =Main!I9/Main!I3-1 -> #DIV/0! | I11: =Main!J9/Main!J3-1 -> #DIV/0! | ... K11: =Main!L9/Main!L3-1 -> #DIV/0!
A12: =Main!B10 -> 41486 | B12: =Main!C10/Main!C4-1 -> 0.039968652 | C12: =Main!D10/Main!D4-1 -> #DIV/0! | D12: =Main!E10/Main!E4-1 -> #DIV/0! | E12: =Main!F10/Main!F4-1 -> #DIV/0! | F12: =Main!G10/Main!G4-1 -> #DIV/0! | G12: =Main!H10/Main!H4-1 -> #DIV/0! | H12: =Main!I10/Main!I4-1 -> #DIV/0! | I12: =Main!J10/Main!J4-1 -> #DIV/0! | ... K12: =Main!L10/Main!L4-1 -> #DIV/0!
A13: =Main!B11 -> 41516 | B13: =Main!C11/Main!C5-1 -> 0.028934848 | C13: =Main!D11/Main!D5-1 -> #DIV/0! | D13: =Main!E11/Main!E5-1 -> #DIV/0! | E13: =Main!F11/Main!F5-1 -> #DIV/0! | F13: =Main!G11/Main!G5-1 -> #DIV/0! | G13: =Main!H11/Main!H5-1 -> #DIV/0! | H13: =Main!I11/Main!I5-1 -> #DIV/0! | I13: =Main!J11/Main!J5-1 -> #DIV/0! | ... K13: =Main!L11/Main!L5-1 -> #DIV/0!
A14: =Main!B12 -> 41547 | B14: =Main!C12/Main!C6-1 -> 0.05450306 | C14: =Main!D12/Main!D6-1 -> #DIV/0! | D14: =Main!E12/Main!E6-1 -> #DIV/0! | E14: =Main!F12/Main!F6-1 -> #DIV/0! | F14: =Main!G12/Main!G6-1 -> #DIV/0! | G14: =Main!H12/Main!H6-1 -> #DIV/0! | H14: =Main!I12/Main!I6-1 -> #DIV/0! | I14: =Main!J12/Main!J6-1 -> #DIV/0! | ... K14: =Main!L12/Main!L6-1 -> #DIV/0!
A15: =Main!B13 -> 41578 | B15: =Main!C13/Main!C7-1 -> 0.084888976 | C15: =Main!D13/Main!D7-1 -> #DIV/0! | D15: =Main!E13/Main!E7-1 -> #DIV/0! | E15: =Main!F13/Main!F7-1 -> #DIV/0! | F15: =Main!G13/Main!G7-1 -> #DIV/0! | G15: =Main!H13/Main!H7-1 -> #DIV/0! | H15: =Main!I13/Main!I7-1 -> #DIV/0! | I15: =Main!J13/Main!J7-1 -> #DIV/0! | ... K15: =Main!L13/Main!L7-1 -> #DIV/0!
A16: =Main!B14 -> 41607 | B16: =Main!C14/Main!C8-1 -> 0.039213877 | C16: =Main!D14/Main!D8-1 -> #DIV/0! | D16: =Main!E14/Main!E8-1 -> #DIV/0! | E16: =Main!F14/Main!F8-1 -> #DIV/0! | F16: =Main!G14/Main!G8-1 -> #DIV/0! | G16: =Main!H14/Main!H8-1 -> #DIV/0! | H16: =Main!I14/Main!I8-1 -> #DIV/0! | I16: =Main!J14/Main!J8-1 -> #DIV/0! | ... K16: =Main!L14/Main!L8-1 -> #DIV/0!
A17: =Main!B15 -> 41639 | B17: =Main!C15/Main!C9-1 -> 0.086325439 | C17: =Main!D15/Main!D9-1 -> #DIV/0! | D17: =Main!E15/Main!E9-1 -> #DIV/0! | E17: =Main!F15/Main!F9-1 -> #DIV/0! | F17: =Main!G15/Main!G9-1 -> #DIV/0! | G17: =Main!H15/Main!H9-1 -> #DIV/0! | H17: =Main!I15/Main!I9-1 -> #DIV/0! | I17: =Main!J15/Main!J9-1 -> #DIV/0! | ... K17: =Main!L15/Main!L9-1 -> #DIV/0!
A18: =Main!B16 -> 41670 | B18: =Main!C16/Main!C10-1 -> 0.070365486 | C18: =Main!D16/Main!D10-1 -> #DIV/0! | D18: =Main!E16/Main!E10-1 -> #DIV/0! | E18: =Main!F16/Main!F10-1 -> #DIV/0! | F18: =Main!G16/Main!G10-1 -> #DIV/0! | G18: =Main!H16/Main!H10-1 -> #DIV/0! | H18: =Main!I16/Main!I10-1 -> #DIV/0! | I18: =Main!J16/Main!J10-1 -> #DIV/0! | ... K18: =Main!L16/Main!L10-1 -> #DIV/0!
A19: =Main!B17 -> 41698 | B19: =Main!C17/Main!C11-1 -> 0.088515618 | C19: =Main!D17/Main!D11-1 -> #DIV/0! | D19: =Main!E17/Main!E11-1 -> #DIV/0! | E19: =Main!F17/Main!F11-1 -> #DIV/0! | F19: =Main!G17/Main!G11-1 -> #DIV/0! | G19: =Main!H17/Main!H11-1 -> #DIV/0! | H19: =Main!I17/Main!I11-1 -> #DIV/0! | I19: =Main!J17/Main!J11-1 -> #DIV/0! | ... K19: =Main!L17/Main!L11-1 -> #DIV/0!
A20: =Main!B18 -> 41729 | B20: =Main!C18/Main!C12-1 -> 0.06817763 | C20: =Main!D18/Main!D12-1 -> #DIV/0! | D20: =Main!E18/Main!E12-1 -> #DIV/0! | E20: =Main!F18/Main!F12-1 -> #DIV/0! | F20: =Main!G18/Main!G12-1 -> #DIV/0! | G20: =Main!H18/Main!H12-1 -> #DIV/0! | H20: =Main!I18/Main!I12-1 -> #DIV/0! | I20: =Main!J18/Main!J12-1 -> #DIV/0! | ... K20: =Main!L18/Main!L12-1 -> #DIV/0!
A21: =Main!B19 -> 41759 | B21: =Main!C19/Main!C13-1 -> 0.059862344 | C21: =Main!D19/Main!D13-1 -> #DIV/0! | D21: =Main!E19/Main!E13-1 -> #DIV/0! | E21: =Main!F19/Main!F13-1 -> #DIV/0! | F21: =Main!G19/Main!G13-1 -> #DIV/0! | G21: =Main!H19/Main!H13-1 -> #DIV/0! | H21: =Main!I19/Main!I13-1 -> #DIV/0! | I21: =Main!J19/Main!J13-1 -> #DIV/0! | ... K21: =Main!L19/Main!L13-1 -> #DIV/0!
A22: =Main!B20 -> 41789 | B22: =Main!C20/Main!C14-1 -> 0.051584835 | C22: =Main!D20/Main!D14-1 -> #DIV/0! | D22: =Main!E20/Main!E14-1 -> #DIV/0! | E22: =Main!F20/Main!F14-1 -> #DIV/0! | F22: =Main!G20/Main!G14-1 -> #DIV/0! | G22: =Main!H20/Main!H14-1 -> #DIV/0! | H22: =Main!I20/Main!I14-1 -> #DIV/0! | I22: =Main!J20/Main!J14-1 -> #DIV/0! | ... K22: =Main!L20/Main!L14-1 -> #DIV/0!
... A39: =Main!B37 -> 42307 | B39: =Main!C37/Main!C31-1 -> -0.066243194 | C39: =Main!D37/Main!D31-1 -> #DIV/0! | D39: =Main!E37/Main!E31-1 -> #DIV/0! | E39: =Main!F37/Main!F31-1 -> #DIV/0! | F39: =Main!G37/Main!G31-1 -> #DIV/0! | G39: =Main!H37/Main!H31-1 -> #DIV/0! | H39: =Main!I37/Main!I31-1 -> #DIV/0! | I39: =Main!J37/Main!J31-1 -> #DIV/0! | ... K39: =Main!L37/Main!L31-1 -> #DIV/0!
A40: =Main!B38 -> 42338 | B40: =Main!C38/Main!C32-1 -> -0.10143759 | C40: =Main!D38/Main!D32-1 -> #DIV/0! | D40: =Main!E38/Main!E32-1 -> #DIV/0! | E40: =Main!F38/Main!F32-1 -> #DIV/0! | F40: =Main!G38/Main!G32-1 -> #DIV/0! | G40: =Main!H38/Main!H32-1 -> #DIV/0! | H40: =Main!I38/Main!I32-1 -> #DIV/0! | I40: =Main!J38/Main!J32-1 -> #DIV/0! | ... K40: =Main!L38/Main!L32-1 -> #DIV/0! | T40: EQS
A41: =Main!B39 -> 42369 | B41: =Main!C39/Main!C33-1 -> -0.08115487 | C41: =Main!D39/Main!D33-1 -> #DIV/0! | D41: =Main!E39/Main!E33-1 -> #DIV/0! | E41: =Main!F39/Main!F33-1 -> #DIV/0! | F41: =Main!G39/Main!G33-1 -> #DIV/0! | G41: =Main!H39/Main!H33-1 -> #DIV/0! | H41: =Main!I39/Main!I33-1 -> #DIV/0! | I41: =Main!J39/Main!J33-1 -> #DIV/0! | ... K41: =Main!L39/Main!L33-1 -> #DIV/0!
A42: =Main!B40 -> 42398 | B42: =Main!C40/Main!C34-1 -> -0.095570257 | C42: =Main!D40/Main!D34-1 -> #DIV/0! | D42: =Main!E40/Main!E34-1 -> #DIV/0! | E42: =Main!F40/Main!F34-1 -> #DIV/0! | F42: =Main!G40/Main!G34-1 -> #DIV/0! | G42: =Main!H40/Main!H34-1 -> #DIV/0! | H42: =Main!I40/Main!I34-1 -> #DIV/0! | I42: =Main!J40/Main!J34-1 -> #DIV/0! | ... K42: =Main!L40/Main!L34-1 -> #DIV/0!
A43: =Main!B41 -> 42429 | B43: =Main!C41/Main!C35-1 -> -0.03232057 | C43: =Main!D41/Main!D35-1 -> #DIV/0! | D43: =Main!E41/Main!E35-1 -> #DIV/0! | E43: =Main!F41/Main!F35-1 -> #DIV/0! | F43: =Main!G41/Main!G35-1 -> #DIV/0! | G43: =Main!H41/Main!H35-1 -> #DIV/0! | H43: =Main!I41/Main!I35-1 -> #DIV/0! | I43: =Main!J41/Main!J35-1 -> #DIV/0! | ... K43: =Main!L41/Main!L35-1 -> #DIV/0!
A44: =Main!B42 -> 42460 | B44: =Main!C42/Main!C36-1 -> 0.016196205 | C44: =Main!D42/Main!D36-1 -> #DIV/0! | D44: =Main!E42/Main!E36-1 -> #DIV/0! | E44: =Main!F42/Main!F36-1 -> #DIV/0! | F44: =Main!G42/Main!G36-1 -> #DIV/0! | G44: =Main!H42/Main!H36-1 -> #DIV/0! | H44: =Main!I42/Main!I36-1 -> #DIV/0! | I44: =Main!J42/Main!J36-1 -> #DIV/0! | ... K44: =Main!L42/Main!L36-1 -> #DIV/0!
A45: =Main!B43 -> 42489 | B45: =Main!C43/Main!C37-1 -> -0.0068774763 | C45: =Main!D43/Main!D37-1 -> #DIV/0! | D45: =Main!E43/Main!E37-1 -> #DIV/0! | E45: =Main!F43/Main!F37-1 -> #DIV/0! | F45: =Main!G43/Main!G37-1 -> #DIV/0! | G45: =Main!H43/Main!H37-1 -> #DIV/0! | H45: =Main!I43/Main!I37-1 -> #DIV/0! | I45: =Main!J43/Main!J37-1 -> #DIV/0! | ... K45: =Main!L43/Main!L37-1 -> #DIV/0!
A46: =Main!B44 -> 42521 | B46: =Main!C44/Main!C38-1 -> -0.013531699 | C46: =Main!D44/Main!D38-1 -> #DIV/0! | D46: =Main!E44/Main!E38-1 -> #DIV/0! | E46: =Main!F44/Main!F38-1 -> #DIV/0! | F46: =Main!G44/Main!G38-1 -> #DIV/0! | G46: =Main!H44/Main!H38-1 -> #DIV/0! | H46: =Main!I44/Main!I38-1 -> #DIV/0! | I46: =Main!J44/Main!J38-1 -> #DIV/0! | ... K46: =Main!L44/Main!L38-1 -> #DIV/0!
A47: =Main!B45 -> 42551 | B47: =Main!C45/Main!C39-1 -> -0.02228495 | C47: =Main!D45/Main!D39-1 -> #DIV/0! | D47: =Main!E45/Main!E39-1 -> #DIV/0! | E47: =Main!F45/Main!F39-1 -> #DIV/0! | F47: =Main!G45/Main!G39-1 -> #DIV/0! | G47: =Main!H45/Main!H39-1 -> #DIV/0! | H47: =Main!I45/Main!I39-1 -> #DIV/0! | I47: =Main!J45/Main!J39-1 -> #DIV/0! | ... K47: =Main!L45/Main!L39-1 -> #DIV/0!
A48: =Main!B46 -> 42580 | B48: =Main!C46/Main!C40-1 -> 0.067742705 | C48: =Main!D46/Main!D40-1 -> #DIV/0! | D48: =Main!E46/Main!E40-1 -> #DIV/0! | E48: =Main!F46/Main!F40-1 -> #DIV/0! | F48: =Main!G46/Main!G40-1 -> #DIV/0! | G48: =Main!H46/Main!H40-1 -> #DIV/0! | H48: =Main!I46/Main!I40-1 -> #DIV/0! | I48: =Main!J46/Main!J40-1 -> #DIV/0! | ... K48: =Main!L46/Main!L40-1 -> #DIV/0!
A49: =Main!B47 -> 42613 | B49: =Main!C47/Main!C41-1 -> 0.12102523 | C49: =Main!D47/Main!D41-1 -> #DIV/0! | D49: =Main!E47/Main!E41-1 -> #DIV/0! | E49: =Main!F47/Main!F41-1 -> #DIV/0! | F49: =Main!G47/Main!G41-1 -> #DIV/0! | G49: =Main!H47/Main!H41-1 -> #DIV/0! | H49: =Main!I47/Main!I41-1 -> #DIV/0! | I49: =Main!J47/Main!J41-1 -> #DIV/0! | ... K49: =Main!L47/Main!L41-1 -> #DIV/0!
A50: =Main!B48 -> 42643 | B50: =Main!C48/Main!C42-1 -> 0.091302368 | C50: =Main!D48/Main!D42-1 -> #DIV/0! | D50: =Main!E48/Main!E42-1 -> #DIV/0! | E50: =Main!F48/Main!F42-1 -> #DIV/0! | F50: =Main!G48/Main!G42-1 -> #DIV/0! | G50: =Main!H48/Main!H42-1 -> #DIV/0! | H50: =Main!I48/Main!I42-1 -> #DIV/0! | I50: =Main!J48/Main!J42-1 -> #DIV/0! | ... K50: =Main!L48/Main!L42-1 -> #DIV/0!
A51: =Main!B49 -> 42674 | B51: =Main!C49/Main!C43-1 -> 0.10801656 | C51: =Main!D49/Main!D43-1 -> #DIV/0! | D51: =Main!E49/Main!E43-1 -> #DIV/0! | E51: =Main!F49/Main!F43-1 -> #DIV/0! | F51: =Main!G49/Main!G43-1 -> #DIV/0! | G51: =Main!H49/Main!H43-1 -> #DIV/0! | H51: =Main!I49/Main!I43-1 -> #DIV/0! | I51: =Main!J49/Main!J43-1 -> #DIV/0! | ... K51: =Main!L49/Main!L43-1 -> #DIV/0!
A52: =Main!B50 -> 42704 | B52: =Main!C50/Main!C44-1 -> 0.13345964 | C52: =Main!D50/Main!D44-1 -> #DIV/0! | D52: =Main!E50/Main!E44-1 -> #DIV/0! | E52: =Main!F50/Main!F44-1 -> #DIV/0! | F52: =Main!G50/Main!G44-1 -> #DIV/0! | G52: =Main!H50/Main!H44-1 -> #DIV/0! | H52: =Main!I50/Main!I44-1 -> #DIV/0! | I52: =Main!J50/Main!J44-1 -> #DIV/0! | ... K52: =Main!L50/Main!L44-1 -> #DIV/0!
... A159: =Main!B157 -> 45961 | B159: =Main!C157/Main!C151-1 -> 0.13013186 | C159: =Main!D157/Main!D151-1 -> #DIV/0! | D159: =Main!E157/Main!E151-1 -> #DIV/0! | E159: =Main!F157/Main!F151-1 -> #DIV/0! | F159: =Main!G157/Main!G151-1 -> #DIV/0! | G159: =Main!H157/Main!H151-1 -> #DIV/0! | H159: =Main!I157/Main!I151-1 -> #DIV/0! | I159: =Main!J157/Main!J151-1 -> #DIV/0! | ... K159: =Main!L157/Main!L151-1 -> #DIV/0!
A160: =Main!B158 -> 45989 | B160: =Main!C158/Main!C152-1 -> 0.099718463
A161: =Main!B159 -> 46022 | B161: =Main!C159/Main!C153-1 -> 0.0890739
A162: =Main!B160 -> 46052 | B162: =Main!C160/Main!C154-1 -> 0.080909249

Sheet Last 9M
A1: Last
A4: Date | B4: AVF | C4: Hong Kong | D4: Singapore | E4: Malaysia | F4: Korea | G4: Japan | H4: Taiwan | I4: Thailand | J4: AC ASIA PACIFIC | K4: AC ASIA PACIFIC ex JAPAN
A5: =Main!B3 -> 41274
A6: =Main!B4 -> 41305
A7: =Main!B5 -> 41333
A8: =Main!B6 -> 41362
A9: =Main!B7 -> 41394
A10: =Main!B8 -> 41425
A11: =Main!B9 -> 41453
A12: =Main!B10 -> 41486
A13: =Main!B11 -> 41516
A14: =Main!B12 -> 41547 | B14: =Main!C12/Main!C3-1 -> 0.081398824 | C14: =Main!D12/Main!D3-1 -> #DIV/0! | D14: =Main!E12/Main!E3-1 -> #DIV/0! | E14: =Main!F12/Main!F3-1 -> #DIV/0! | F14: =Main!G12/Main!G3-1 -> #DIV/0! | G14: =Main!H12/Main!H3-1 -> #DIV/0! | H14: =Main!I12/Main!I3-1 -> #DIV/0! | I14: =Main!J12/Main!J3-1 -> #DIV/0! | ... K14: =Main!L12/Main!L3-1 -> #DIV/0!
A15: =Main!B13 -> 41578 | B15: =Main!C13/Main!C4-1 -> 0.081700627 | C15: =Main!D13/Main!D4-1 -> #DIV/0! | D15: =Main!E13/Main!E4-1 -> #DIV/0! | E15: =Main!F13/Main!F4-1 -> #DIV/0! | F15: =Main!G13/Main!G4-1 -> #DIV/0! | G15: =Main!H13/Main!H4-1 -> #DIV/0! | H15: =Main!I13/Main!I4-1 -> #DIV/0! | I15: =Main!J13/Main!J4-1 -> #DIV/0! | ... K15: =Main!L13/Main!L4-1 -> #DIV/0!
A16: =Main!B14 -> 41607 | B16: =Main!C14/Main!C5-1 -> 0.093601321 | C16: =Main!D14/Main!D5-1 -> #DIV/0! | D16: =Main!E14/Main!E5-1 -> #DIV/0! | E16: =Main!F14/Main!F5-1 -> #DIV/0! | F16: =Main!G14/Main!G5-1 -> #DIV/0! | G16: =Main!H14/Main!H5-1 -> #DIV/0! | H16: =Main!I14/Main!I5-1 -> #DIV/0! | I16: =Main!J14/Main!J5-1 -> #DIV/0! | ... K16: =Main!L14/Main!L5-1 -> #DIV/0!
A17: =Main!B15 -> 41639 | B17: =Main!C15/Main!C6-1 -> 0.10521714 | C17: =Main!D15/Main!D6-1 -> #DIV/0! | D17: =Main!E15/Main!E6-1 -> #DIV/0! | E17: =Main!F15/Main!F6-1 -> #DIV/0! | F17: =Main!G15/Main!G6-1 -> #DIV/0! | G17: =Main!H15/Main!H6-1 -> #DIV/0! | H17: =Main!I15/Main!I6-1 -> #DIV/0! | I17: =Main!J15/Main!J6-1 -> #DIV/0! | ... K17: =Main!L15/Main!L6-1 -> #DIV/0!
A18: =Main!B16 -> 41670 | B18: =Main!C16/Main!C7-1 -> 0.11642759 | C18: =Main!D16/Main!D7-1 -> #DIV/0! | D18: =Main!E16/Main!E7-1 -> #DIV/0! | E18: =Main!F16/Main!F7-1 -> #DIV/0! | F18: =Main!G16/Main!G7-1 -> #DIV/0! | G18: =Main!H16/Main!H7-1 -> #DIV/0! | H18: =Main!I16/Main!I7-1 -> #DIV/0! | I18: =Main!J16/Main!J7-1 -> #DIV/0! | ... K18: =Main!L16/Main!L7-1 -> #DIV/0!
A19: =Main!B17 -> 41698 | B19: =Main!C17/Main!C8-1 -> 0.064310758 | C19: =Main!D17/Main!D8-1 -> #DIV/0! | D19: =Main!E17/Main!E8-1 -> #DIV/0! | E19: =Main!F17/Main!F8-1 -> #DIV/0! | F19: =Main!G17/Main!G8-1 -> #DIV/0! | G19: =Main!H17/Main!H8-1 -> #DIV/0! | H19: =Main!I17/Main!I8-1 -> #DIV/0! | I19: =Main!J17/Main!J8-1 -> #DIV/0! | ... K19: =Main!L17/Main!L8-1 -> #DIV/0!
A20: =Main!B18 -> 41729 | B20: =Main!C18/Main!C9-1 -> 0.10714286 | C20: =Main!D18/Main!D9-1 -> #DIV/0! | D20: =Main!E18/Main!E9-1 -> #DIV/0! | E20: =Main!F18/Main!F9-1 -> #DIV/0! | F20: =Main!G18/Main!G9-1 -> #DIV/0! | G20: =Main!H18/Main!H9-1 -> #DIV/0! | H20: =Main!I18/Main!I9-1 -> #DIV/0! | I20: =Main!J18/Main!J9-1 -> #DIV/0! | ... K20: =Main!L18/Main!L9-1 -> #DIV/0!
A21: =Main!B19 -> 41759 | B21: =Main!C19/Main!C10-1 -> 0.10239261 | C21: =Main!D19/Main!D10-1 -> #DIV/0! | D21: =Main!E19/Main!E10-1 -> #DIV/0! | E21: =Main!F19/Main!F10-1 -> #DIV/0! | F21: =Main!G19/Main!G10-1 -> #DIV/0! | G21: =Main!H19/Main!H10-1 -> #DIV/0! | H21: =Main!I19/Main!I10-1 -> #DIV/0! | I21: =Main!J19/Main!J10-1 -> #DIV/0! | ... K21: =Main!L19/Main!L10-1 -> #DIV/0!
A22: =Main!B20 -> 41789 | B22: =Main!C20/Main!C11-1 -> 0.11767481 | C22: =Main!D20/Main!D11-1 -> #DIV/0! | D22: =Main!E20/Main!E11-1 -> #DIV/0! | E22: =Main!F20/Main!F11-1 -> #DIV/0! | F22: =Main!G20/Main!G11-1 -> #DIV/0! | G22: =Main!H20/Main!H11-1 -> #DIV/0! | H22: =Main!I20/Main!I11-1 -> #DIV/0! | I22: =Main!J20/Main!J11-1 -> #DIV/0! | ... K22: =Main!L20/Main!L11-1 -> #DIV/0!
A23: =Main!B21 -> 41820 | B23: =Main!C21/Main!C12-1 -> 0.10493827 | C23: =Main!D21/Main!D12-1 -> #DIV/0! | D23: =Main!E21/Main!E12-1 -> #DIV/0! | E23: =Main!F21/Main!F12-1 -> #DIV/0! | F23: =Main!G21/Main!G12-1 -> #DIV/0! | G23: =Main!H21/Main!H12-1 -> #DIV/0! | H23: =Main!I21/Main!I12-1 -> #DIV/0! | I23: =Main!J21/Main!J12-1 -> #DIV/0! | ... K23: =Main!L21/Main!L12-1 -> #DIV/0!
A24: =Main!B22 -> 41851 | B24: =Main!C22/Main!C13-1 -> 0.1248868 | C24: =Main!D22/Main!D13-1 -> #DIV/0! | D24: =Main!E22/Main!E13-1 -> #DIV/0! | E24: =Main!F22/Main!F13-1 -> #DIV/0! | F24: =Main!G22/Main!G13-1 -> #DIV/0! | G24: =Main!H22/Main!H13-1 -> #DIV/0! | H24: =Main!I22/Main!I13-1 -> #DIV/0! | I24: =Main!J22/Main!J13-1 -> #DIV/0! | ... K24: =Main!L22/Main!L13-1 -> #DIV/0!
A25: =Main!B23 -> 41880 | B25: =Main!C23/Main!C14-1 -> 0.12261387 | C25: =Main!D23/Main!D14-1 -> #DIV/0! | D25: =Main!E23/Main!E14-1 -> #DIV/0! | E25: =Main!F23/Main!F14-1 -> #DIV/0! | F25: =Main!G23/Main!G14-1 -> #DIV/0! | G25: =Main!H23/Main!H14-1 -> #DIV/0! | H25: =Main!I23/Main!I14-1 -> #DIV/0! | I25: =Main!J23/Main!J14-1 -> #DIV/0! | ... K25: =Main!L23/Main!L14-1 -> #DIV/0!
... A159: =Main!B157 -> 45961 | B159: =Main!C157/Main!C148-1 -> 0.11846916 | C159: =Main!D157/Main!D148-1 -> #DIV/0! | D159: =Main!E157/Main!E148-1 -> #DIV/0! | E159: =Main!F157/Main!F148-1 -> #DIV/0! | F159: =Main!G157/Main!G148-1 -> #DIV/0! | G159: =Main!H157/Main!H148-1 -> #DIV/0! | H159: =Main!I157/Main!I148-1 -> #DIV/0! | I159: =Main!J157/Main!J148-1 -> #DIV/0! | ... K159: =Main!L157/Main!L148-1 -> #DIV/0!
A160: =Main!B158 -> 45989 | B160: =Main!C158/Main!C149-1 -> 0.12047747
A161: =Main!B159 -> 46022 | B161: =Main!C159/Main!C150-1 -> 0.11907828
A162: =Main!B160 -> 46052 | B162: =Main!C160/Main!C151-1 -> 0.16066586

Sheet Last 12M
A1: Date | B1: AVF | C1: Hong Kong | D1: Singapore | E1: Malaysia | F1: Korea | G1: Japan | H1: Taiwan | I1: Thailand | J1: AC ASIA PACIFIC | K1: AC ASIA PACIFIC ex JAPAN
A2: =Main!B3 -> 41274
A3: =Main!B4 -> 41305
A4: =Main!B5 -> 41333
A5: =Main!B6 -> 41362
A6: =Main!B7 -> 41394
A7: =Main!B8 -> 41425
A8: =Main!B9 -> 41453
A9: =Main!B10 -> 41486
A10: =Main!B11 -> 41516
A11: =Main!B12 -> 41547
A12: =Main!B13 -> 41578
A13: =Main!B14 -> 41607
A14: =Main!B15 -> 41639 | B14: =Main!C15/Main!C3-1 -> 0.1334064 | C14: =Main!D15/Main!D3-1 -> #DIV/0! | D14: =Main!E15/Main!E3-1 -> #DIV/0! | E14: =Main!F15/Main!F3-1 -> #DIV/0! | F14: =Main!G15/Main!G3-1 -> #DIV/0! | G14: =Main!H15/Main!H3-1 -> #DIV/0! | H14: =Main!I15/Main!I3-1 -> #DIV/0! | I14: =Main!J15/Main!J3-1 -> #DIV/0! | ... K14: =Main!L15/Main!L3-1 -> #DIV/0!
A15: =Main!B16 -> 41670 | B15: =Main!C16/Main!C4-1 -> 0.11314655 | C15: =Main!D16/Main!D4-1 -> #DIV/0! | D15: =Main!E16/Main!E4-1 -> #DIV/0! | E15: =Main!F16/Main!F4-1 -> #DIV/0! | F15: =Main!G16/Main!G4-1 -> #DIV/0! | G15: =Main!H16/Main!H4-1 -> #DIV/0! | H15: =Main!I16/Main!I4-1 -> #DIV/0! | I15: =Main!J16/Main!J4-1 -> #DIV/0! | ... K15: =Main!L16/Main!L4-1 -> #DIV/0!
A16: =Main!B17 -> 41698 | B16: =Main!C17/Main!C5-1 -> 0.12001165 | C16: =Main!D17/Main!D5-1 -> #DIV/0! | D16: =Main!E17/Main!E5-1 -> #DIV/0! | E16: =Main!F17/Main!F5-1 -> #DIV/0! | F16: =Main!G17/Main!G5-1 -> #DIV/0! | G16: =Main!H17/Main!H5-1 -> #DIV/0! | H16: =Main!I17/Main!I5-1 -> #DIV/0! | I16: =Main!J17/Main!J5-1 -> #DIV/0! | ... K16: =Main!L17/Main!L5-1 -> #DIV/0!
A17: =Main!B18 -> 41729 | B17: =Main!C18/Main!C6-1 -> 0.12639658 | C17: =Main!D18/Main!D6-1 -> #DIV/0! | D17: =Main!E18/Main!E6-1 -> #DIV/0! | E17: =Main!F18/Main!F6-1 -> #DIV/0! | F17: =Main!G18/Main!G6-1 -> #DIV/0! | G17: =Main!H18/Main!H6-1 -> #DIV/0! | H17: =Main!I18/Main!I6-1 -> #DIV/0! | I17: =Main!J18/Main!J6-1 -> #DIV/0! | ... K17: =Main!L18/Main!L6-1 -> #DIV/0!
A18: =Main!B19 -> 41759 | B18: =Main!C19/Main!C7-1 -> 0.14983297 | C18: =Main!D19/Main!D7-1 -> #DIV/0! | D18: =Main!E19/Main!E7-1 -> #DIV/0! | E18: =Main!F19/Main!F7-1 -> #DIV/0! | F18: =Main!G19/Main!G7-1 -> #DIV/0! | G18: =Main!H19/Main!H7-1 -> #DIV/0! | H18: =Main!I19/Main!I7-1 -> #DIV/0! | I18: =Main!J19/Main!J7-1 -> #DIV/0! | ... K18: =Main!L19/Main!L7-1 -> #DIV/0!
A19: =Main!B20 -> 41789 | B19: =Main!C20/Main!C8-1 -> 0.092821554 | C19: =Main!D20/Main!D8-1 -> #DIV/0! | D19: =Main!E20/Main!E8-1 -> #DIV/0! | E19: =Main!F20/Main!F8-1 -> #DIV/0! | F19: =Main!G20/Main!G8-1 -> #DIV/0! | G19: =Main!H20/Main!H8-1 -> #DIV/0! | H19: =Main!I20/Main!I8-1 -> #DIV/0! | I19: =Main!J20/Main!J8-1 -> #DIV/0! | ... K19: =Main!L20/Main!L8-1 -> #DIV/0!
A20: =Main!B21 -> 41820 | B20: =Main!C21/Main!C9-1 -> 0.14524446 | C20: =Main!D21/Main!D9-1 -> #DIV/0! | D20: =Main!E21/Main!E9-1 -> #DIV/0! | E20: =Main!F21/Main!F9-1 -> #DIV/0! | F20: =Main!G21/Main!G9-1 -> #DIV/0! | G20: =Main!H21/Main!H9-1 -> #DIV/0! | H20: =Main!I21/Main!I9-1 -> #DIV/0! | I20: =Main!J21/Main!J9-1 -> #DIV/0! | ... K20: =Main!L21/Main!L9-1 -> #DIV/0!
A21: =Main!B22 -> 41851 | B21: =Main!C22/Main!C10-1 -> 0.17002638 | C21: =Main!D22/Main!D10-1 -> #DIV/0! | D21: =Main!E22/Main!E10-1 -> #DIV/0! | E21: =Main!F22/Main!F10-1 -> #DIV/0! | F21: =Main!G22/Main!G10-1 -> #DIV/0! | G21: =Main!H22/Main!H10-1 -> #DIV/0! | H21: =Main!I22/Main!I10-1 -> #DIV/0! | I21: =Main!J22/Main!J10-1 -> #DIV/0! | ... K21: =Main!L22/Main!L10-1 -> #DIV/0!
A22: =Main!B23 -> 41880 | B22: =Main!C23/Main!C11-1 -> 0.19316788 | C22: =Main!D23/Main!D11-1 -> #DIV/0! | D22: =Main!E23/Main!E11-1 -> #DIV/0! | E22: =Main!F23/Main!F11-1 -> #DIV/0! | F22: =Main!G23/Main!G11-1 -> #DIV/0! | G22: =Main!H23/Main!H11-1 -> #DIV/0! | H22: =Main!I23/Main!I11-1 -> #DIV/0! | I22: =Main!J23/Main!J11-1 -> #DIV/0! | ... K22: =Main!L23/Main!L11-1 -> #DIV/0!
A23: =Main!B24 -> 41912 | B23: =Main!C24/Main!C12-1 -> 0.16620601 | C23: =Main!D24/Main!D12-1 -> #DIV/0! | D23: =Main!E24/Main!E12-1 -> #DIV/0! | E23: =Main!F24/Main!F12-1 -> #DIV/0! | F23: =Main!G24/Main!G12-1 -> #DIV/0! | G23: =Main!H24/Main!H12-1 -> #DIV/0! | H23: =Main!I24/Main!I12-1 -> #DIV/0! | I23: =Main!J24/Main!J12-1 -> #DIV/0! | ... K23: =Main!L24/Main!L12-1 -> #DIV/0!
A24: =Main!B25 -> 41943 | B24: =Main!C25/Main!C13-1 -> 0.15404818 | C24: =Main!D25/Main!D13-1 -> #DIV/0! | D24: =Main!E25/Main!E13-1 -> #DIV/0! | E24: =Main!F25/Main!F13-1 -> #DIV/0! | F24: =Main!G25/Main!G13-1 -> #DIV/0! | G24: =Main!H25/Main!H13-1 -> #DIV/0! | H24: =Main!I25/Main!I13-1 -> #DIV/0! | I24: =Main!J25/Main!J13-1 -> #DIV/0! | ... K24: =Main!L25/Main!L13-1 -> #DIV/0!
A25: =Main!B26 -> 41971 | B25: =Main!C26/Main!C14-1 -> 0.14338986 | C25: =Main!D26/Main!D14-1 -> #DIV/0! | D25: =Main!E26/Main!E14-1 -> #DIV/0! | E25: =Main!F26/Main!F14-1 -> #DIV/0! | F25: =Main!G26/Main!G14-1 -> #DIV/0! | G25: =Main!H26/Main!H14-1 -> #DIV/0! | H25: =Main!I26/Main!I14-1 -> #DIV/0! | I25: =Main!J26/Main!J14-1 -> #DIV/0! | ... K25: =Main!L26/Main!L14-1 -> #DIV/0!
... A156: =Main!B157 -> 45961 | B156: =Main!C157/Main!C145-1 -> 0.14463651 | C156: =Main!D157/Main!D145-1 -> #DIV/0! | D156: =Main!E157/Main!E145-1 -> #DIV/0! | E156: =Main!F157/Main!F145-1 -> #DIV/0! | F156: =Main!G157/Main!G145-1 -> #DIV/0! | G156: =Main!H157/Main!H145-1 -> #DIV/0! | H156: =Main!I157/Main!I145-1 -> #DIV/0! | I156: =Main!J157/Main!J145-1 -> #DIV/0! | ... K156: =Main!L157/Main!L145-1 -> #DIV/0!
A157: =Main!B158 -> 45989 | B157: =Main!C158/Main!C146-1 -> 0.13988515
A158: =Main!B159 -> 46022 | B158: =Main!C159/Main!C147-1 -> 0.13046508
A159: =Main!B160 -> 46052 | B159: =Main!C160/Main!C148-1 -> 0.14868805

Sheet Last 2 Years
A4: Date | B4: AVF | C4: Hong Kong | D4: Singapore | E4: Malaysia | F4: Korea | G4: Japan | H4: Taiwan | I4: Thailand | J4: AC ASIA PACIFIC | K4: AC ASIA PACIFIC ex JAPAN
A5: =Main!B3 -> 41274
A6: =Main!B4 -> 41305
A7: =Main!B5 -> 41333
A8: =Main!B6 -> 41362
A9: =Main!B7 -> 41394
A10: =Main!B8 -> 41425
A11: =Main!B9 -> 41453
A12: =Main!B10 -> 41486
A13: =Main!B11 -> 41516
A14: =Main!B12 -> 41547
A15: =Main!B13 -> 41578
A16: =Main!B14 -> 41607
... A28: =Main!B26 -> 41971
A29: =Main!B27 -> 42004 | B29: =Main!C27/Main!C3-1 -> 0.2630268 | C29: =Main!D27/Main!D3-1 -> #DIV/0! | D29: =Main!E27/Main!E3-1 -> #DIV/0! | E29: =Main!F27/Main!F3-1 -> #DIV/0! | F29: =Main!G27/Main!G3-1 -> #DIV/0! | G29: =Main!H27/Main!H3-1 -> #DIV/0! | H29: =Main!I27/Main!I3-1 -> #DIV/0! | I29: =Main!J27/Main!J3-1 -> #DIV/0! | ... K29: =Main!L27/Main!L3-1 -> #DIV/0!
A30: =Main!B28 -> 42034 | B30: =Main!C28/Main!C4-1 -> 0.27635188 | C30: =Main!D28/Main!D4-1 -> #DIV/0! | D30: =Main!E28/Main!E4-1 -> #DIV/0! | E30: =Main!F28/Main!F4-1 -> #DIV/0! | F30: =Main!G28/Main!G4-1 -> #DIV/0! | G30: =Main!H28/Main!H4-1 -> #DIV/0! | H30: =Main!I28/Main!I4-1 -> #DIV/0! | I30: =Main!J28/Main!J4-1 -> #DIV/0! | ... K30: =Main!L28/Main!L4-1 -> #DIV/0!
A31: =Main!B29 -> 42062 | B31: =Main!C29/Main!C5-1 -> 0.2917759 | C31: =Main!D29/Main!D5-1 -> #DIV/0! | D31: =Main!E29/Main!E5-1 -> #DIV/0! | E31: =Main!F29/Main!F5-1 -> #DIV/0! | F31: =Main!G29/Main!G5-1 -> #DIV/0! | G31: =Main!H29/Main!H5-1 -> #DIV/0! | H31: =Main!I29/Main!I5-1 -> #DIV/0! | I31: =Main!J29/Main!J5-1 -> #DIV/0! | ... K31: =Main!L29/Main!L5-1 -> #DIV/0!
A32: =Main!B30 -> 42094 | B32: =Main!C30/Main!C6-1 -> 0.30729622 | C32: =Main!D30/Main!D6-1 -> #DIV/0! | D32: =Main!E30/Main!E6-1 -> #DIV/0! | E32: =Main!F30/Main!F6-1 -> #DIV/0! | F32: =Main!G30/Main!G6-1 -> #DIV/0! | G32: =Main!H30/Main!H6-1 -> #DIV/0! | H32: =Main!I30/Main!I6-1 -> #DIV/0! | I32: =Main!J30/Main!J6-1 -> #DIV/0! | ... K32: =Main!L30/Main!L6-1 -> #DIV/0!
A33: =Main!B31 -> 42124 | B33: =Main!C31/Main!C7-1 -> 0.40754569 | C33: =Main!D31/Main!D7-1 -> #DIV/0! | D33: =Main!E31/Main!E7-1 -> #DIV/0! | E33: =Main!F31/Main!F7-1 -> #DIV/0! | F33: =Main!G31/Main!G7-1 -> #DIV/0! | G33: =Main!H31/Main!H7-1 -> #DIV/0! | H33: =Main!I31/Main!I7-1 -> #DIV/0! | I33: =Main!J31/Main!J7-1 -> #DIV/0! | ... K33: =Main!L31/Main!L7-1 -> #DIV/0!
A34: =Main!B32 -> 42153 | B34: =Main!C32/Main!C8-1 -> 0.37350065 | C34: =Main!D32/Main!D8-1 -> #DIV/0! | D34: =Main!E32/Main!E8-1 -> #DIV/0! | E34: =Main!F32/Main!F8-1 -> #DIV/0! | F34: =Main!G32/Main!G8-1 -> #DIV/0! | G34: =Main!H32/Main!H8-1 -> #DIV/0! | H34: =Main!I32/Main!I8-1 -> #DIV/0! | I34: =Main!J32/Main!J8-1 -> #DIV/0! | ... K34: =Main!L32/Main!L8-1 -> #DIV/0!
A35: =Main!B33 -> 42185 | B35: =Main!C33/Main!C9-1 -> 0.39906417 | C35: =Main!D33/Main!D9-1 -> #DIV/0! | D35: =Main!E33/Main!E9-1 -> #DIV/0! | E35: =Main!F33/Main!F9-1 -> #DIV/0! | F35: =Main!G33/Main!G9-1 -> #DIV/0! | G35: =Main!H33/Main!H9-1 -> #DIV/0! | H35: =Main!I33/Main!I9-1 -> #DIV/0! | I35: =Main!J33/Main!J9-1 -> #DIV/0! | ... K35: =Main!L33/Main!L9-1 -> #DIV/0!
A36: =Main!B34 -> 42216 | B36: =Main!C34/Main!C10-1 -> 0.30990957 | C36: =Main!D34/Main!D10-1 -> #DIV/0! | D36: =Main!E34/Main!E10-1 -> #DIV/0! | E36: =Main!F34/Main!F10-1 -> #DIV/0! | F36: =Main!G34/Main!G10-1 -> #DIV/0! | G36: =Main!H34/Main!H10-1 -> #DIV/0! | H36: =Main!I34/Main!I10-1 -> #DIV/0! | I36: =Main!J34/Main!J10-1 -> #DIV/0! | ... K36: =Main!L34/Main!L10-1 -> #DIV/0!
A37: =Main!B35 -> 42247 | B37: =Main!C35/Main!C11-1 -> 0.21751439 | C37: =Main!D35/Main!D11-1 -> #DIV/0! | D37: =Main!E35/Main!E11-1 -> #DIV/0! | E37: =Main!F35/Main!F11-1 -> #DIV/0! | F37: =Main!G35/Main!G11-1 -> #DIV/0! | G37: =Main!H35/Main!H11-1 -> #DIV/0! | H37: =Main!I35/Main!I11-1 -> #DIV/0! | I37: =Main!J35/Main!J11-1 -> #DIV/0! | ... K37: =Main!L35/Main!L11-1 -> #DIV/0!
A38: =Main!B36 -> 42277 | B38: =Main!C36/Main!C12-1 -> 0.19458264 | C38: =Main!D36/Main!D12-1 -> #DIV/0! | D38: =Main!E36/Main!E12-1 -> #DIV/0! | E38: =Main!F36/Main!F12-1 -> #DIV/0! | F38: =Main!G36/Main!G12-1 -> #DIV/0! | G38: =Main!H36/Main!H12-1 -> #DIV/0! | H38: =Main!I36/Main!I12-1 -> #DIV/0! | I38: =Main!J36/Main!J12-1 -> #DIV/0! | ... K38: =Main!L36/Main!L12-1 -> #DIV/0!
A39: =Main!B37 -> 42307 | B39: =Main!C37/Main!C13-1 -> 0.21146531 | C39: =Main!D37/Main!D13-1 -> #DIV/0! | D39: =Main!E37/Main!E13-1 -> #DIV/0! | E39: =Main!F37/Main!F13-1 -> #DIV/0! | F39: =Main!G37/Main!G13-1 -> #DIV/0! | G39: =Main!H37/Main!H13-1 -> #DIV/0! | H39: =Main!I37/Main!I13-1 -> #DIV/0! | I39: =Main!J37/Main!J13-1 -> #DIV/0! | ... K39: =Main!L37/Main!L13-1 -> #DIV/0!
A40: =Main!B38 -> 42338 | B40: =Main!C38/Main!C14-1 -> 0.18760543 | C40: =Main!D38/Main!D14-1 -> #DIV/0! | D40: =Main!E38/Main!E14-1 -> #DIV/0! | E40: =Main!F38/Main!F14-1 -> #DIV/0! | F40: =Main!G38/Main!G14-1 -> #DIV/0! | G40: =Main!H38/Main!H14-1 -> #DIV/0! | H40: =Main!I38/Main!I14-1 -> #DIV/0! | I40: =Main!J38/Main!J14-1 -> #DIV/0! | ... K40: =Main!L38/Main!L14-1 -> #DIV/0!
... A159: =Main!B157 -> 45961 | B159: =Main!C157/Main!C133-1 -> 0.31324712 | C159: =Main!D157/Main!D133-1 -> #DIV/0! | D159: =Main!E157/Main!E133-1 -> #DIV/0! | E159: =Main!F157/Main!F133-1 -> #DIV/0! | F159: =Main!G157/Main!G133-1 -> #DIV/0! | G159: =Main!H157/Main!H133-1 -> #DIV/0! | H159: =Main!I157/Main!I133-1 -> #DIV/0! | I159: =Main!J157/Main!J133-1 -> #DIV/0! | ... K159: =Main!L157/Main!L133-1 -> #DIV/0!
A160: =Main!B158 -> 45989 | B160: =Main!C158/Main!C134-1 -> 0.28178258
A161: =Main!B159 -> 46022 | B161: =Main!C159/Main!C135-1 -> 0.26165414
A162: =Main!B160 -> 46052 | B162: =Main!C160/Main!C136-1 -> 0.28378588

Sheet Last 3 Years
A4: Date | B4: AVF | C4: Hong Kong | D4: Singapore | E4: Malaysia | F4: Korea | G4: Japan | H4: Taiwan | I4: Thailand | J4: AC ASIA PACIFIC | K4: AC ASIA PACIFIC ex JAPAN
A5: =Main!B3 -> 41274
A6: =Main!B4 -> 41305
A7: =Main!B5 -> 41333
A8: =Main!B6 -> 41362
A9: =Main!B7 -> 41394
A10: =Main!B8 -> 41425
A11: =Main!B9 -> 41453
A12: =Main!B10 -> 41486
A13: =Main!B11 -> 41516
A14: =Main!B12 -> 41547
A15: =Main!B13 -> 41578
A16: =Main!B14 -> 41607
... A40: =Main!B38 -> 42338
A41: =Main!B39 -> 42369 | B41: =Main!C39/Main!C3-1 -> 0.34123742 | C41: =Main!D39/Main!D3-1 -> #DIV/0! | D41: =Main!E39/Main!E3-1 -> #DIV/0! | E41: =Main!F39/Main!F3-1 -> #DIV/0! | F41: =Main!G39/Main!G3-1 -> #DIV/0! | G41: =Main!H39/Main!H3-1 -> #DIV/0! | H41: =Main!I39/Main!I3-1 -> #DIV/0! | I41: =Main!J39/Main!J3-1 -> #DIV/0! | ... K41: =Main!L39/Main!L3-1 -> #DIV/0!
A42: =Main!B40 -> 42398 | B42: =Main!C40/Main!C4-1 -> 0.23207288 | C42: =Main!D40/Main!D4-1 -> #DIV/0! | D42: =Main!E40/Main!E4-1 -> #DIV/0! | E42: =Main!F40/Main!F4-1 -> #DIV/0! | F42: =Main!G40/Main!G4-1 -> #DIV/0! | G42: =Main!H40/Main!H4-1 -> #DIV/0! | H42: =Main!I40/Main!I4-1 -> #DIV/0! | I42: =Main!J40/Main!J4-1 -> #DIV/0! | ... K42: =Main!L40/Main!L4-1 -> #DIV/0!
A43: =Main!B41 -> 42429 | B43: =Main!C41/Main!C5-1 -> 0.21225362 | C43: =Main!D41/Main!D5-1 -> #DIV/0! | D43: =Main!E41/Main!E5-1 -> #DIV/0! | E43: =Main!F41/Main!F5-1 -> #DIV/0! | F43: =Main!G41/Main!G5-1 -> #DIV/0! | G43: =Main!H41/Main!H5-1 -> #DIV/0! | H43: =Main!I41/Main!I5-1 -> #DIV/0! | I43: =Main!J41/Main!J5-1 -> #DIV/0! | ... K43: =Main!L41/Main!L5-1 -> #DIV/0!
A44: =Main!B42 -> 42460 | B44: =Main!C42/Main!C6-1 -> 0.28009327 | C44: =Main!D42/Main!D6-1 -> #DIV/0! | D44: =Main!E42/Main!E6-1 -> #DIV/0! | E44: =Main!F42/Main!F6-1 -> #DIV/0! | F44: =Main!G42/Main!G6-1 -> #DIV/0! | G44: =Main!H42/Main!H6-1 -> #DIV/0! | H44: =Main!I42/Main!I6-1 -> #DIV/0! | I44: =Main!J42/Main!J6-1 -> #DIV/0! | ... K44: =Main!L42/Main!L6-1 -> #DIV/0!
A45: =Main!B43 -> 42489 | B45: =Main!C43/Main!C7-1 -> 0.30526626 | C45: =Main!D43/Main!D7-1 -> #DIV/0! | D45: =Main!E43/Main!E7-1 -> #DIV/0! | E45: =Main!F43/Main!F7-1 -> #DIV/0! | F45: =Main!G43/Main!G7-1 -> #DIV/0! | G45: =Main!H43/Main!H7-1 -> #DIV/0! | H45: =Main!I43/Main!I7-1 -> #DIV/0! | I45: =Main!J43/Main!J7-1 -> #DIV/0! | ... K45: =Main!L43/Main!L7-1 -> #DIV/0!
A46: =Main!B44 -> 42521 | B46: =Main!C44/Main!C8-1 -> 0.21747555 | C46: =Main!D44/Main!D8-1 -> #DIV/0! | D46: =Main!E44/Main!E8-1 -> #DIV/0! | E46: =Main!F44/Main!F8-1 -> #DIV/0! | F46: =Main!G44/Main!G8-1 -> #DIV/0! | G46: =Main!H44/Main!H8-1 -> #DIV/0! | H46: =Main!I44/Main!I8-1 -> #DIV/0! | I46: =Main!J44/Main!J8-1 -> #DIV/0! | ... K46: =Main!L44/Main!L8-1 -> #DIV/0!
A47: =Main!B45 -> 42551 | B47: =Main!C45/Main!C9-1 -> 0.25687548 | C47: =Main!D45/Main!D9-1 -> #DIV/0! | D47: =Main!E45/Main!E9-1 -> #DIV/0! | E47: =Main!F45/Main!F9-1 -> #DIV/0! | F47: =Main!G45/Main!G9-1 -> #DIV/0! | G47: =Main!H45/Main!H9-1 -> #DIV/0! | H47: =Main!I45/Main!I9-1 -> #DIV/0! | I47: =Main!J45/Main!J9-1 -> #DIV/0! | ... K47: =Main!L45/Main!L9-1 -> #DIV/0!
A48: =Main!B46 -> 42580 | B48: =Main!C46/Main!C10-1 -> 0.26497739 | C48: =Main!D46/Main!D10-1 -> #DIV/0! | D48: =Main!E46/Main!E10-1 -> #DIV/0! | E48: =Main!F46/Main!F10-1 -> #DIV/0! | F48: =Main!G46/Main!G10-1 -> #DIV/0! | G48: =Main!H46/Main!H10-1 -> #DIV/0! | H48: =Main!I46/Main!I10-1 -> #DIV/0! | I48: =Main!J46/Main!J10-1 -> #DIV/0! | ... K48: =Main!L46/Main!L10-1 -> #DIV/0!
A49: =Main!B47 -> 42613 | B49: =Main!C47/Main!C11-1 -> 0.32075116 | C49: =Main!D47/Main!D11-1 -> #DIV/0! | D49: =Main!E47/Main!E11-1 -> #DIV/0! | E49: =Main!F47/Main!F11-1 -> #DIV/0! | F49: =Main!G47/Main!G11-1 -> #DIV/0! | G49: =Main!H47/Main!H11-1 -> #DIV/0! | H49: =Main!I47/Main!I11-1 -> #DIV/0! | I49: =Main!J47/Main!J11-1 -> #DIV/0! | ... K49: =Main!L47/Main!L11-1 -> #DIV/0!
A50: =Main!B48 -> 42643 | B50: =Main!C48/Main!C12-1 -> 0.32476506 | C50: =Main!D48/Main!D12-1 -> #DIV/0! | D50: =Main!E48/Main!E12-1 -> #DIV/0! | E50: =Main!F48/Main!F12-1 -> #DIV/0! | F50: =Main!G48/Main!G12-1 -> #DIV/0! | G50: =Main!H48/Main!H12-1 -> #DIV/0! | H50: =Main!I48/Main!I12-1 -> #DIV/0! | I50: =Main!J48/Main!J12-1 -> #DIV/0! | ... K50: =Main!L48/Main!L12-1 -> #DIV/0!
A51: =Main!B49 -> 42674 | B51: =Main!C49/Main!C13-1 -> 0.33309183 | C51: =Main!D49/Main!D13-1 -> #DIV/0! | D51: =Main!E49/Main!E13-1 -> #DIV/0! | E51: =Main!F49/Main!F13-1 -> #DIV/0! | F51: =Main!G49/Main!G13-1 -> #DIV/0! | G51: =Main!H49/Main!H13-1 -> #DIV/0! | H51: =Main!I49/Main!I13-1 -> #DIV/0! | I51: =Main!J49/Main!J13-1 -> #DIV/0! | ... K51: =Main!L49/Main!L13-1 -> #DIV/0!
A52: =Main!B50 -> 42704 | B52: =Main!C50/Main!C14-1 -> 0.32788777 | C52: =Main!D50/Main!D14-1 -> #DIV/0! | D52: =Main!E50/Main!E14-1 -> #DIV/0! | E52: =Main!F50/Main!F14-1 -> #DIV/0! | F52: =Main!G50/Main!G14-1 -> #DIV/0! | G52: =Main!H50/Main!H14-1 -> #DIV/0! | H52: =Main!I50/Main!I14-1 -> #DIV/0! | I52: =Main!J50/Main!J14-1 -> #DIV/0! | ... K52: =Main!L50/Main!L14-1 -> #DIV/0!
... A159: =Main!B157 -> 45961 | B159: =Main!C157/Main!C121-1 -> 0.43393652 | C159: =Main!D157/Main!D121-1 -> #DIV/0! | D159: =Main!E157/Main!E121-1 -> #DIV/0! | E159: =Main!F157/Main!F121-1 -> #DIV/0! | F159: =Main!G157/Main!G121-1 -> #DIV/0! | G159: =Main!H157/Main!H121-1 -> #DIV/0! | H159: =Main!I157/Main!I121-1 -> #DIV/0! | I159: =Main!J157/Main!J121-1 -> #DIV/0! | ... K159: =Main!L157/Main!L121-1 -> #DIV/0!
A160: =Main!B158 -> 45989 | B160: =Main!C158/Main!C122-1 -> 0.35933992
A161: =Main!B159 -> 46022 | B161: =Main!C159/Main!C123-1 -> 0.35919781
A162: =Main!B160 -> 46052 | B162: =Main!C160/Main!C124-1 -> 0.33775263

Sheet Last 5 Years
A1: Date | B1: AVF | C1: Hong Kong | D1: Singapore | E1: Malaysia | F1: Korea | G1: Japan | H1: Taiwan | I1: Thailand | J1: AC ASIA PACIFIC | K1: AC ASIA PACIFIC ex JAPAN
A2: =Main!B3 -> 41274
A3: =Main!B4 -> 41305
A4: =Main!B5 -> 41333
A5: =Main!B6 -> 41362
A6: =Main!B7 -> 41394
A7: =Main!B8 -> 41425
A8: =Main!B9 -> 41453
A9: =Main!B10 -> 41486
A10: =Main!B11 -> 41516
A11: =Main!B12 -> 41547
A12: =Main!B13 -> 41578
A13: =Main!B14 -> 41607
... A61: =Main!B62 -> 43069
A62: =Main!B63 -> 43100 | B62: =Main!C63/Main!C3-1 -> 0.68317226 | C62: =Main!D63/Main!D3-1 -> #DIV/0! | D62: =Main!E63/Main!E3-1 -> #DIV/0! | E62: =Main!F63/Main!F3-1 -> #DIV/0! | F62: =Main!G63/Main!G3-1 -> #DIV/0! | G62: =Main!H63/Main!H3-1 -> #DIV/0! | H62: =Main!I63/Main!I3-1 -> #DIV/0! | I62: =Main!J63/Main!J3-1 -> #DIV/0! | ... K62: =Main!L63/Main!L3-1 -> #DIV/0!
A63: =Main!B64 -> 43131 | B63: =Main!C64/Main!C4-1 -> 0.70689655 | C63: =Main!D64/Main!D4-1 -> #DIV/0! | D63: =Main!E64/Main!E4-1 -> #DIV/0! | E63: =Main!F64/Main!F4-1 -> #DIV/0! | F63: =Main!G64/Main!G4-1 -> #DIV/0! | G63: =Main!H64/Main!H4-1 -> #DIV/0! | H63: =Main!I64/Main!I4-1 -> #DIV/0! | I63: =Main!J64/Main!J4-1 -> #DIV/0! | ... K63: =Main!L64/Main!L4-1 -> #DIV/0!
A64: =Main!B65 -> 43159 | B64: =Main!C65/Main!C5-1 -> 0.6565686 | C64: =Main!D65/Main!D5-1 -> #DIV/0! | D64: =Main!E65/Main!E5-1 -> #DIV/0! | E64: =Main!F65/Main!F5-1 -> #DIV/0! | F64: =Main!G65/Main!G5-1 -> #DIV/0! | G64: =Main!H65/Main!H5-1 -> #DIV/0! | H64: =Main!I65/Main!I5-1 -> #DIV/0! | I64: =Main!J65/Main!J5-1 -> #DIV/0! | ... K64: =Main!L65/Main!L5-1 -> #DIV/0!
A65: =Main!B66 -> 43190 | B65: =Main!C66/Main!C6-1 -> 0.62712523 | C65: =Main!D66/Main!D6-1 -> #DIV/0! | D65: =Main!E66/Main!E6-1 -> #DIV/0! | E65: =Main!F66/Main!F6-1 -> #DIV/0! | F65: =Main!G66/Main!G6-1 -> #DIV/0! | G65: =Main!H66/Main!H6-1 -> #DIV/0! | H65: =Main!I66/Main!I6-1 -> #DIV/0! | I65: =Main!J66/Main!J6-1 -> #DIV/0! | ... K65: =Main!L66/Main!L6-1 -> #DIV/0!
A66: =Main!B67 -> 43220 | B66: =Main!C67/Main!C7-1 -> 0.66800943 | C66: =Main!D67/Main!D7-1 -> #DIV/0! | D66: =Main!E67/Main!E7-1 -> #DIV/0! | E66: =Main!F67/Main!F7-1 -> #DIV/0! | F66: =Main!G67/Main!G7-1 -> #DIV/0! | G66: =Main!H67/Main!H7-1 -> #DIV/0! | H66: =Main!I67/Main!I7-1 -> #DIV/0! | I66: =Main!J67/Main!J7-1 -> #DIV/0! | ... K66: =Main!L67/Main!L7-1 -> #DIV/0!
A67: =Main!B68 -> 43251 | B67: =Main!C68/Main!C8-1 -> 0.59162207 | C67: =Main!D68/Main!D8-1 -> #DIV/0! | D67: =Main!E68/Main!E8-1 -> #DIV/0! | E67: =Main!F68/Main!F8-1 -> #DIV/0! | F67: =Main!G68/Main!G8-1 -> #DIV/0! | G67: =Main!H68/Main!H8-1 -> #DIV/0! | H67: =Main!I68/Main!I8-1 -> #DIV/0! | I67: =Main!J68/Main!J8-1 -> #DIV/0! | ... K67: =Main!L68/Main!L8-1 -> #DIV/0!
A68: =Main!B69 -> 43281 | B68: =Main!C69/Main!C9-1 -> 0.60475554 | C68: =Main!D69/Main!D9-1 -> #DIV/0! | D68: =Main!E69/Main!E9-1 -> #DIV/0! | E68: =Main!F69/Main!F9-1 -> #DIV/0! | F68: =Main!G69/Main!G9-1 -> #DIV/0! | G68: =Main!H69/Main!H9-1 -> #DIV/0! | H68: =Main!I69/Main!I9-1 -> #DIV/0! | I68: =Main!J69/Main!J9-1 -> #DIV/0! | ... K68: =Main!L69/Main!L9-1 -> #DIV/0!
A69: =Main!B70 -> 43312 | B69: =Main!C70/Main!C10-1 -> 0.56461944 | C69: =Main!D70/Main!D10-1 -> #DIV/0! | D69: =Main!E70/Main!E10-1 -> #DIV/0! | E69: =Main!F70/Main!F10-1 -> #DIV/0! | F69: =Main!G70/Main!G10-1 -> #DIV/0! | G69: =Main!H70/Main!H10-1 -> #DIV/0! | H69: =Main!I70/Main!I10-1 -> #DIV/0! | I69: =Main!J70/Main!J10-1 -> #DIV/0! | ... K69: =Main!L70/Main!L10-1 -> #DIV/0!
A70: =Main!B71 -> 43343 | B70: =Main!C71/Main!C11-1 -> 0.5527036 | C70: =Main!D71/Main!D11-1 -> #DIV/0! | D70: =Main!E71/Main!E11-1 -> #DIV/0! | E70: =Main!F71/Main!F11-1 -> #DIV/0! | F70: =Main!G71/Main!G11-1 -> #DIV/0! | G70: =Main!H71/Main!H11-1 -> #DIV/0! | H70: =Main!I71/Main!I11-1 -> #DIV/0! | I70: =Main!J71/Main!J11-1 -> #DIV/0! | ... K70: =Main!L71/Main!L11-1 -> #DIV/0!
A71: =Main!B72 -> 43373 | B71: =Main!C72/Main!C12-1 -> 0.49695965 | C71: =Main!D72/Main!D12-1 -> #DIV/0! | D71: =Main!E72/Main!E12-1 -> #DIV/0! | E71: =Main!F72/Main!F12-1 -> #DIV/0! | F71: =Main!G72/Main!G12-1 -> #DIV/0! | G71: =Main!H72/Main!H12-1 -> #DIV/0! | H71: =Main!I72/Main!I12-1 -> #DIV/0! | I71: =Main!J72/Main!J12-1 -> #DIV/0! | ... K71: =Main!L72/Main!L12-1 -> #DIV/0!
A72: =Main!B73 -> 43404 | B72: =Main!C73/Main!C13-1 -> 0.35826843 | C72: =Main!D73/Main!D13-1 -> #DIV/0! | D72: =Main!E73/Main!E13-1 -> #DIV/0! | E72: =Main!F73/Main!F13-1 -> #DIV/0! | F72: =Main!G73/Main!G13-1 -> #DIV/0! | G72: =Main!H73/Main!H13-1 -> #DIV/0! | H72: =Main!I73/Main!I13-1 -> #DIV/0! | I72: =Main!J73/Main!J13-1 -> #DIV/0! | ... K72: =Main!L73/Main!L13-1 -> #DIV/0!
A73: =Main!B74 -> 43434 | B73: =Main!C74/Main!C14-1 -> 0.3646453 | C73: =Main!D74/Main!D14-1 -> #DIV/0! | D73: =Main!E74/Main!E14-1 -> #DIV/0! | E73: =Main!F74/Main!F14-1 -> #DIV/0! | F73: =Main!G74/Main!G14-1 -> #DIV/0! | G73: =Main!H74/Main!H14-1 -> #DIV/0! | H73: =Main!I74/Main!I14-1 -> #DIV/0! | I73: =Main!J74/Main!J14-1 -> #DIV/0! | ... K73: =Main!L74/Main!L14-1 -> #DIV/0!
... A156: =Main!B157 -> 45961 | B156: =Main!C157/Main!C97-1 -> 0.69084931 | C156: =Main!D157/Main!D97-1 -> #DIV/0! | D156: =Main!E157/Main!E97-1 -> #DIV/0! | E156: =Main!F157/Main!F97-1 -> #DIV/0! | F156: =Main!G157/Main!G97-1 -> #DIV/0! | G156: =Main!H157/Main!H97-1 -> #DIV/0! | H156: =Main!I157/Main!I97-1 -> #DIV/0! | I156: =Main!J157/Main!J97-1 -> #DIV/0! | ... K156: =Main!L157/Main!L97-1 -> #DIV/0!
A157: =Main!B158 -> 45989 | B157: =Main!C158/Main!C98-1 -> 0.5573275
A158: =Main!B159 -> 46022 | B158: =Main!C159/Main!C99-1 -> 0.50591075
A159: =Main!B160 -> 46052 | B159: =Main!C160/Main!C100-1 -> 0.51556967

Sheet Last 10 Years
A1: Date | B1: AVF | C1: Hong Kong | D1: Singapore | E1: Malaysia | F1: Korea | G1: Japan | H1: Taiwan | I1: Thailand | J1: AC ASIA PACIFIC | K1: AC ASIA PACIFIC ex JAPAN
A2: =Main!B3 -> 41274
A3: =Main!B4 -> 41305
A4: =Main!B5 -> 41333
A5: =Main!B6 -> 41362
A6: =Main!B7 -> 41394
A7: =Main!B8 -> 41425
A8: =Main!B9 -> 41453
A9: =Main!B10 -> 41486
A10: =Main!B11 -> 41516
A11: =Main!B12 -> 41547
A12: =Main!B13 -> 41578
A13: =Main!B14 -> 41607
... A61: =Main!B62 -> 43069
A62: =Main!B63 -> 43100 | C62: =Main!D63/Main!D3-1 -> #DIV/0! | D62: =Main!E63/Main!E3-1 -> #DIV/0! | E62: =Main!F63/Main!F3-1 -> #DIV/0! | F62: =Main!G63/Main!G3-1 -> #DIV/0! | G62: =Main!H63/Main!H3-1 -> #DIV/0! | H62: =Main!I63/Main!I3-1 -> #DIV/0! | I62: =Main!J63/Main!J3-1 -> #DIV/0! | J62: =Main!K63/Main!K3-1 -> #DIV/0! | K62: =Main!L63/Main!L3-1 -> #DIV/0!
A63: =Main!B64 -> 43131 | C63: =Main!D64/Main!D4-1 -> #DIV/0! | D63: =Main!E64/Main!E4-1 -> #DIV/0! | E63: =Main!F64/Main!F4-1 -> #DIV/0! | F63: =Main!G64/Main!G4-1 -> #DIV/0! | G63: =Main!H64/Main!H4-1 -> #DIV/0! | H63: =Main!I64/Main!I4-1 -> #DIV/0! | I63: =Main!J64/Main!J4-1 -> #DIV/0! | J63: =Main!K64/Main!K4-1 -> #DIV/0! | K63: =Main!L64/Main!L4-1 -> #DIV/0!
A64: =Main!B65 -> 43159 | C64: =Main!D65/Main!D5-1 -> #DIV/0! | D64: =Main!E65/Main!E5-1 -> #DIV/0! | E64: =Main!F65/Main!F5-1 -> #DIV/0! | F64: =Main!G65/Main!G5-1 -> #DIV/0! | G64: =Main!H65/Main!H5-1 -> #DIV/0! | H64: =Main!I65/Main!I5-1 -> #DIV/0! | I64: =Main!J65/Main!J5-1 -> #DIV/0! | J64: =Main!K65/Main!K5-1 -> #DIV/0! | K64: =Main!L65/Main!L5-1 -> #DIV/0!
A65: =Main!B66 -> 43190 | C65: =Main!D66/Main!D6-1 -> #DIV/0! | D65: =Main!E66/Main!E6-1 -> #DIV/0! | E65: =Main!F66/Main!F6-1 -> #DIV/0! | F65: =Main!G66/Main!G6-1 -> #DIV/0! | G65: =Main!H66/Main!H6-1 -> #DIV/0! | H65: =Main!I66/Main!I6-1 -> #DIV/0! | I65: =Main!J66/Main!J6-1 -> #DIV/0! | J65: =Main!K66/Main!K6-1 -> #DIV/0! | K65: =Main!L66/Main!L6-1 -> #DIV/0!
A66: =Main!B67 -> 43220 | C66: =Main!D67/Main!D7-1 -> #DIV/0! | D66: =Main!E67/Main!E7-1 -> #DIV/0! | E66: =Main!F67/Main!F7-1 -> #DIV/0! | F66: =Main!G67/Main!G7-1 -> #DIV/0! | G66: =Main!H67/Main!H7-1 -> #DIV/0! | H66: =Main!I67/Main!I7-1 -> #DIV/0! | I66: =Main!J67/Main!J7-1 -> #DIV/0! | J66: =Main!K67/Main!K7-1 -> #DIV/0! | K66: =Main!L67/Main!L7-1 -> #DIV/0!
A67: =Main!B68 -> 43251 | C67: =Main!D68/Main!D8-1 -> #DIV/0! | D67: =Main!E68/Main!E8-1 -> #DIV/0! | E67: =Main!F68/Main!F8-1 -> #DIV/0! | F67: =Main!G68/Main!G8-1 -> #DIV/0! | G67: =Main!H68/Main!H8-1 -> #DIV/0! | H67: =Main!I68/Main!I8-1 -> #DIV/0! | I67: =Main!J68/Main!J8-1 -> #DIV/0! | J67: =Main!K68/Main!K8-1 -> #DIV/0! | K67: =Main!L68/Main!L8-1 -> #DIV/0!
A68: =Main!B69 -> 43281 | C68: =Main!D69/Main!D9-1 -> #DIV/0! | D68: =Main!E69/Main!E9-1 -> #DIV/0! | E68: =Main!F69/Main!F9-1 -> #DIV/0! | F68: =Main!G69/Main!G9-1 -> #DIV/0! | G68: =Main!H69/Main!H9-1 -> #DIV/0! | H68: =Main!I69/Main!I9-1 -> #DIV/0! | I68: =Main!J69/Main!J9-1 -> #DIV/0! | J68: =Main!K69/Main!K9-1 -> #DIV/0! | K68: =Main!L69/Main!L9-1 -> #DIV/0!
A69: =Main!B70 -> 43312 | C69: =Main!D70/Main!D10-1 -> #DIV/0! | D69: =Main!E70/Main!E10-1 -> #DIV/0! | E69: =Main!F70/Main!F10-1 -> #DIV/0! | F69: =Main!G70/Main!G10-1 -> #DIV/0! | G69: =Main!H70/Main!H10-1 -> #DIV/0! | H69: =Main!I70/Main!I10-1 -> #DIV/0! | I69: =Main!J70/Main!J10-1 -> #DIV/0! | J69: =Main!K70/Main!K10-1 -> #DIV/0! | K69: =Main!L70/Main!L10-1 -> #DIV/0!
A70: =Main!B71 -> 43343 | C70: =Main!D71/Main!D11-1 -> #DIV/0! | D70: =Main!E71/Main!E11-1 -> #DIV/0! | E70: =Main!F71/Main!F11-1 -> #DIV/0! | F70: =Main!G71/Main!G11-1 -> #DIV/0! | G70: =Main!H71/Main!H11-1 -> #DIV/0! | H70: =Main!I71/Main!I11-1 -> #DIV/0! | I70: =Main!J71/Main!J11-1 -> #DIV/0! | J70: =Main!K71/Main!K11-1 -> #DIV/0! | K70: =Main!L71/Main!L11-1 -> #DIV/0!
A71: =Main!B72 -> 43373 | C71: =Main!D72/Main!D12-1 -> #DIV/0! | D71: =Main!E72/Main!E12-1 -> #DIV/0! | E71: =Main!F72/Main!F12-1 -> #DIV/0! | F71: =Main!G72/Main!G12-1 -> #DIV/0! | G71: =Main!H72/Main!H12-1 -> #DIV/0! | H71: =Main!I72/Main!I12-1 -> #DIV/0! | I71: =Main!J72/Main!J12-1 -> #DIV/0! | J71: =Main!K72/Main!K12-1 -> #DIV/0! | K71: =Main!L72/Main!L12-1 -> #DIV/0!
A72: =Main!B73 -> 43404 | C72: =Main!D73/Main!D13-1 -> #DIV/0! | D72: =Main!E73/Main!E13-1 -> #DIV/0! | E72: =Main!F73/Main!F13-1 -> #DIV/0! | F72: =Main!G73/Main!G13-1 -> #DIV/0! | G72: =Main!H73/Main!H13-1 -> #DIV/0! | H72: =Main!I73/Main!I13-1 -> #DIV/0! | I72: =Main!J73/Main!J13-1 -> #DIV/0! | J72: =Main!K73/Main!K13-1 -> #DIV/0! | K72: =Main!L73/Main!L13-1 -> #DIV/0!
A73: =Main!B74 -> 43434 | C73: =Main!D74/Main!D14-1 -> #DIV/0! | D73: =Main!E74/Main!E14-1 -> #DIV/0! | E73: =Main!F74/Main!F14-1 -> #DIV/0! | F73: =Main!G74/Main!G14-1 -> #DIV/0! | G73: =Main!H74/Main!H14-1 -> #DIV/0! | H73: =Main!I74/Main!I14-1 -> #DIV/0! | I73: =Main!J74/Main!J14-1 -> #DIV/0! | J73: =Main!K74/Main!K14-1 -> #DIV/0! | K73: =Main!L74/Main!L14-1 -> #DIV/0!
... A121: =Main!B122 -> 44895 | C121: =Main!D122/Main!D62-1 -> #DIV/0! | D121: =Main!E122/Main!E62-1 -> #DIV/0! | E121: =Main!F122/Main!F62-1 -> #DIV/0! | F121: =Main!G122/Main!G62-1 -> #DIV/0! | G121: =Main!H122/Main!H62-1 -> #DIV/0! | H121: =Main!I122/Main!I62-1 -> #DIV/0! | I121: =Main!J122/Main!J62-1 -> #DIV/0! | J121: =Main!K122/Main!K62-1 -> #DIV/0! | K121: =Main!L122/Main!L62-1 -> #DIV/0!
A122: =Main!B123 -> 44926 | B122: =Main!C123/Main!C3-1 -> 0.78350105 | C122: =Main!D123/Main!D63-1 -> #DIV/0! | D122: =Main!E123/Main!E63-1 -> #DIV/0! | E122: =Main!F123/Main!F63-1 -> #DIV/0! | F122: =Main!G123/Main!G63-1 -> #DIV/0! | G122: =Main!H123/Main!H63-1 -> #DIV/0! | H122: =Main!I123/Main!I63-1 -> #DIV/0! | I122: =Main!J123/Main!J63-1 -> #DIV/0! | J122: =Main!K123/Main!K63-1 -> #DIV/0! | K122: =Main!L123/Main!L63-1 -> #DIV/0!
A123: =Main!B124 -> 44957 | B123: =Main!C124/Main!C4-1 -> 0.81769201 | C123: =Main!D124/Main!D64-1 -> #DIV/0! | D123: =Main!E124/Main!E64-1 -> #DIV/0! | E123: =Main!F124/Main!F64-1 -> #DIV/0! | F123: =Main!G124/Main!G64-1 -> #DIV/0! | G123: =Main!H124/Main!H64-1 -> #DIV/0! | H123: =Main!I124/Main!I64-1 -> #DIV/0! | I123: =Main!J124/Main!J64-1 -> #DIV/0! | J123: =Main!K124/Main!K64-1 -> #DIV/0! | K123: =Main!L124/Main!L64-1 -> #DIV/0!
A124: =Main!B125 -> 44985 | B124: =Main!C125/Main!C5-1 -> 0.79813574 | C124: =Main!D125/Main!D65-1 -> #DIV/0! | D124: =Main!E125/Main!E65-1 -> #DIV/0! | E124: =Main!F125/Main!F65-1 -> #DIV/0! | F124: =Main!G125/Main!G65-1 -> #DIV/0! | G124: =Main!H125/Main!H65-1 -> #DIV/0! | H124: =Main!I125/Main!I65-1 -> #DIV/0! | I124: =Main!J125/Main!J65-1 -> #DIV/0! | J124: =Main!K125/Main!K65-1 -> #DIV/0! | K124: =Main!L125/Main!L65-1 -> #DIV/0!
A125: =Main!B126 -> 45016 | B125: =Main!C126/Main!C6-1 -> 0.7958807 | C125: =Main!D126/Main!D66-1 -> #DIV/0! | D125: =Main!E126/Main!E66-1 -> #DIV/0! | E125: =Main!F126/Main!F66-1 -> #DIV/0! | F125: =Main!G126/Main!G66-1 -> #DIV/0! | G125: =Main!H126/Main!H66-1 -> #DIV/0! | H125: =Main!I126/Main!I66-1 -> #DIV/0! | I125: =Main!J126/Main!J66-1 -> #DIV/0! | J125: =Main!K126/Main!K66-1 -> #DIV/0! | K125: =Main!L126/Main!L66-1 -> #DIV/0!
A126: =Main!B127 -> 45046 | B126: =Main!C127/Main!C7-1 -> 0.85262331 | C126: =Main!D127/Main!D67-1 -> #DIV/0! | D126: =Main!E127/Main!E67-1 -> #DIV/0! | E126: =Main!F127/Main!F67-1 -> #DIV/0! | F126: =Main!G127/Main!G67-1 -> #DIV/0! | G126: =Main!H127/Main!H67-1 -> #DIV/0! | H126: =Main!I127/Main!I67-1 -> #DIV/0! | I126: =Main!J127/Main!J67-1 -> #DIV/0! | J126: =Main!K127/Main!K67-1 -> #DIV/0! | K126: =Main!L127/Main!L67-1 -> #DIV/0!
A127: =Main!B128 -> 45077 | B127: =Main!C128/Main!C8-1 -> 0.71267762 | C127: =Main!D128/Main!D68-1 -> #DIV/0! | D127: =Main!E128/Main!E68-1 -> #DIV/0! | E127: =Main!F128/Main!F68-1 -> #DIV/0! | F127: =Main!G128/Main!G68-1 -> #DIV/0! | G127: =Main!H128/Main!H68-1 -> #DIV/0! | H127: =Main!I128/Main!I68-1 -> #DIV/0! | I127: =Main!J128/Main!J68-1 -> #DIV/0! | J127: =Main!K128/Main!K68-1 -> #DIV/0! | K127: =Main!L128/Main!L68-1 -> #DIV/0!
A128: =Main!B129 -> 45107 | B128: =Main!C129/Main!C9-1 -> 0.81407563 | C128: =Main!D129/Main!D69-1 -> #DIV/0! | D128: =Main!E129/Main!E69-1 -> #DIV/0! | E128: =Main!F129/Main!F69-1 -> #DIV/0! | F128: =Main!G129/Main!G69-1 -> #DIV/0! | G128: =Main!H129/Main!H69-1 -> #DIV/0! | H128: =Main!I129/Main!I69-1 -> #DIV/0! | I128: =Main!J129/Main!J69-1 -> #DIV/0! | J128: =Main!K129/Main!K69-1 -> #DIV/0! | K128: =Main!L129/Main!L69-1 -> #DIV/0!
A129: =Main!B130 -> 45138 | B129: =Main!C130/Main!C10-1 -> 0.81951771 | C129: =Main!D130/Main!D70-1 -> #DIV/0! | D129: =Main!E130/Main!E70-1 -> #DIV/0! | E129: =Main!F130/Main!F70-1 -> #DIV/0! | F129: =Main!G130/Main!G70-1 -> #DIV/0! | G129: =Main!H130/Main!H70-1 -> #DIV/0! | H129: =Main!I130/Main!I70-1 -> #DIV/0! | I129: =Main!J130/Main!J70-1 -> #DIV/0! | J129: =Main!K130/Main!K70-1 -> #DIV/0! | K129: =Main!L130/Main!L70-1 -> #DIV/0!
A130: =Main!B131 -> 45169 | B130: =Main!C131/Main!C11-1 -> 0.78654336 | C130: =Main!D131/Main!D71-1 -> #DIV/0! | D130: =Main!E131/Main!E71-1 -> #DIV/0! | E130: =Main!F131/Main!F71-1 -> #DIV/0! | F130: =Main!G131/Main!G71-1 -> #DIV/0! | G130: =Main!H131/Main!H71-1 -> #DIV/0! | H130: =Main!I131/Main!I71-1 -> #DIV/0! | I130: =Main!J131/Main!J71-1 -> #DIV/0! | J130: =Main!K131/Main!K71-1 -> #DIV/0! | K130: =Main!L131/Main!L71-1 -> #DIV/0!
A131: =Main!B132 -> 45198 | B131: =Main!C132/Main!C12-1 -> 0.74709784 | C131: =Main!D132/Main!D72-1 -> #DIV/0! | D131: =Main!E132/Main!E72-1 -> #DIV/0! | E131: =Main!F132/Main!F72-1 -> #DIV/0! | F131: =Main!G132/Main!G72-1 -> #DIV/0! | G131: =Main!H132/Main!H72-1 -> #DIV/0! | H131: =Main!I132/Main!I72-1 -> #DIV/0! | I131: =Main!J132/Main!J72-1 -> #DIV/0! | J131: =Main!K132/Main!K72-1 -> #DIV/0! | K131: =Main!L132/Main!L72-1 -> #DIV/0!
A132: =Main!B133 -> 45230 | B132: =Main!C133/Main!C13-1 -> 0.66672704 | C132: =Main!D133/Main!D73-1 -> #DIV/0! | D132: =Main!E133/Main!E73-1 -> #DIV/0! | E132: =Main!F133/Main!F73-1 -> #DIV/0! | F132: =Main!G133/Main!G73-1 -> #DIV/0! | G132: =Main!H133/Main!H73-1 -> #DIV/0! | H132: =Main!I133/Main!I73-1 -> #DIV/0! | I132: =Main!J133/Main!J73-1 -> #DIV/0! | J132: =Main!K133/Main!K73-1 -> #DIV/0! | K132: =Main!L133/Main!L73-1 -> #DIV/0!
A133: =Main!B134 -> 45260 | B133: =Main!C134/Main!C14-1 -> 0.67752819 | C133: =Main!D134/Main!D74-1 -> #DIV/0! | D133: =Main!E134/Main!E74-1 -> #DIV/0! | E133: =Main!F134/Main!F74-1 -> #DIV/0! | F133: =Main!G134/Main!G74-1 -> #DIV/0! | G133: =Main!H134/Main!H74-1 -> #DIV/0! | H133: =Main!I134/Main!I74-1 -> #DIV/0! | I133: =Main!J134/Main!J74-1 -> #DIV/0! | J133: =Main!K134/Main!K74-1 -> #DIV/0! | K133: =Main!L134/Main!L74-1 -> #DIV/0!
... A156: =Main!B157 -> 45961 | B156: =Main!C157/Main!C37-1 -> 0.80675787 | C156: =Main!D157/Main!D97-1 -> #DIV/0! | D156: =Main!E157/Main!E97-1 -> #DIV/0! | E156: =Main!F157/Main!F97-1 -> #DIV/0! | F156: =Main!G157/Main!G97-1 -> #DIV/0! | G156: =Main!H157/Main!H97-1 -> #DIV/0! | H156: =Main!I157/Main!I97-1 -> #DIV/0! | I156: =Main!J157/Main!J97-1 -> #DIV/0! | J156: =Main!K157/Main!K97-1 -> #DIV/0! | K156: =Main!L157/Main!L97-1 -> #DIV/0!
A157: =Main!B158 -> 45989 | B157: =Main!C158/Main!C38-1 -> 0.81055622
A158: =Main!B159 -> 46022 | B158: =Main!C159/Main!C39-1 -> 0.80738375
A159: =Main!B160 -> 46052 | B159: =Main!C160/Main!C40-1 -> 0.97360261

Sheet CAGR
A1: Date | B1: AVF | C1: Hong Kong | D1: Singapore | E1: Malaysia | F1: Korea | G1: Japan | H1: Taiwan | I1: Thailand | J1: AC ASIA PACIFIC | K1: AC ASIA PACIFIC ex JAPAN
A2: =Main!B4 -> 41305 | B2: =RATE((COUNT(Main!C$3:C4)-1)/12,0,-Main!C$3,Main!C4) -> 0.22473138 | C2: =RATE((COUNT(Main!O$3:O4)-1)/12,0,-Main!O$3,Main!O4) -> #NUM! | D2: =RATE((COUNT(Main!P$3:P4)-1)/12,0,-Main!P$3,Main!P4) -> #NUM! | E2: =RATE((COUNT(Main!Q$3:Q4)-1)/12,0,-Main!Q$3,Main!Q4) -> #NUM! | F2: =RATE((COUNT(Main!R$3:R4)-1)/12,0,-Main!R$3,Main!R4) -> #NUM! | G2: =RATE((COUNT(Main!S$3:S4)-1)/12,0,-Main!S$3,Main!S4) -> #NUM! | H2: =RATE((COUNT(Main!T$3:T4)-1)/12,0,-Main!T$3,Main!T4) -> #NUM! | I2: =RATE((COUNT(Main!U$3:U4)-1)/12,0,-Main!U$3,Main!U4) -> #NUM! | J2: =RATE((COUNT(Main!V$3:V4)-1)/12,0,-Main!V$3,Main!V4) -> #NUM! | K2: =RATE((COUNT(Main!W$3:W4)-1)/12,0,-Main!W$3,Main!W4) -> #NUM!
A3: =Main!B5 -> 41333 | B3: =RATE((COUNT(Main!C$3:C5)-1)/12,0,-Main!C$3,Main!C5) -> 0.1672041 | C3: =RATE((COUNT(Main!O$3:O5)-1)/12,0,-Main!O$3,Main!O5) -> #NUM! | D3: =RATE((COUNT(Main!P$3:P5)-1)/12,0,-Main!P$3,Main!P5) -> #NUM! | E3: =RATE((COUNT(Main!Q$3:Q5)-1)/12,0,-Main!Q$3,Main!Q5) -> #NUM! | F3: =RATE((COUNT(Main!R$3:R5)-1)/12,0,-Main!R$3,Main!R5) -> #NUM! | G3: =RATE((COUNT(Main!S$3:S5)-1)/12,0,-Main!S$3,Main!S5) -> #NUM! | H3: =RATE((COUNT(Main!T$3:T5)-1)/12,0,-Main!T$3,Main!T5) -> #NUM! | I3: =RATE((COUNT(Main!U$3:U5)-1)/12,0,-Main!U$3,Main!U5) -> #NUM! | J3: =RATE((COUNT(Main!V$3:V5)-1)/12,0,-Main!V$3,Main!V5) -> #NUM! | K3: =RATE((COUNT(Main!W$3:W5)-1)/12,0,-Main!W$3,Main!W5) -> #NUM!
A4: =Main!B6 -> 41362 | B4: =RATE((COUNT(Main!C$3:C6)-1)/12,0,-Main!C$3,Main!C6) -> 0.10599253 | C4: =RATE((COUNT(Main!O$3:O6)-1)/12,0,-Main!O$3,Main!O6) -> #NUM! | D4: =RATE((COUNT(Main!P$3:P6)-1)/12,0,-Main!P$3,Main!P6) -> #NUM! | E4: =RATE((COUNT(Main!Q$3:Q6)-1)/12,0,-Main!Q$3,Main!Q6) -> #NUM! | F4: =RATE((COUNT(Main!R$3:R6)-1)/12,0,-Main!R$3,Main!R6) -> #NUM! | G4: =RATE((COUNT(Main!S$3:S6)-1)/12,0,-Main!S$3,Main!S6) -> #NUM! | H4: =RATE((COUNT(Main!T$3:T6)-1)/12,0,-Main!T$3,Main!T6) -> #NUM! | I4: =RATE((COUNT(Main!U$3:U6)-1)/12,0,-Main!U$3,Main!U6) -> #NUM! | J4: =RATE((COUNT(Main!V$3:V6)-1)/12,0,-Main!V$3,Main!V6) -> #NUM! | K4: =RATE((COUNT(Main!W$3:W6)-1)/12,0,-Main!W$3,Main!W6) -> #NUM!
A5: =Main!B7 -> 41394 | B5: =RATE((COUNT(Main!C$3:C7)-1)/12,0,-Main!C$3,Main!C7) -> 0.04273888 | C5: =RATE((COUNT(Main!O$3:O7)-1)/12,0,-Main!O$3,Main!O7) -> #NUM! | D5: =RATE((COUNT(Main!P$3:P7)-1)/12,0,-Main!P$3,Main!P7) -> #NUM! | E5: =RATE((COUNT(Main!Q$3:Q7)-1)/12,0,-Main!Q$3,Main!Q7) -> #NUM! | F5: =RATE((COUNT(Main!R$3:R7)-1)/12,0,-Main!R$3,Main!R7) -> #NUM! | G5: =RATE((COUNT(Main!S$3:S7)-1)/12,0,-Main!S$3,Main!S7) -> #NUM! | H5: =RATE((COUNT(Main!T$3:T7)-1)/12,0,-Main!T$3,Main!T7) -> #NUM! | I5: =RATE((COUNT(Main!U$3:U7)-1)/12,0,-Main!U$3,Main!U7) -> #NUM! | J5: =RATE((COUNT(Main!V$3:V7)-1)/12,0,-Main!V$3,Main!V7) -> #NUM! | K5: =RATE((COUNT(Main!W$3:W7)-1)/12,0,-Main!W$3,Main!W7) -> #NUM!
A6: =Main!B8 -> 41425 | B6: =RATE((COUNT(Main!C$3:C8)-1)/12,0,-Main!C$3,Main!C8) -> 0.20234343 | C6: =RATE((COUNT(Main!O$3:O8)-1)/12,0,-Main!O$3,Main!O8) -> #NUM! | D6: =RATE((COUNT(Main!P$3:P8)-1)/12,0,-Main!P$3,Main!P8) -> #NUM! | E6: =RATE((COUNT(Main!Q$3:Q8)-1)/12,0,-Main!Q$3,Main!Q8) -> #NUM! | F6: =RATE((COUNT(Main!R$3:R8)-1)/12,0,-Main!R$3,Main!R8) -> #NUM! | G6: =RATE((COUNT(Main!S$3:S8)-1)/12,0,-Main!S$3,Main!S8) -> #NUM! | H6: =RATE((COUNT(Main!T$3:T8)-1)/12,0,-Main!T$3,Main!T8) -> #NUM! | I6: =RATE((COUNT(Main!U$3:U8)-1)/12,0,-Main!U$3,Main!U8) -> #NUM! | J6: =RATE((COUNT(Main!V$3:V8)-1)/12,0,-Main!V$3,Main!V8) -> #NUM! | K6: =RATE((COUNT(Main!W$3:W8)-1)/12,0,-Main!W$3,Main!W8) -> #NUM!
A7: =Main!B9 -> 41453 | B7: =RATE((COUNT(Main!C$3:C9)-1)/12,0,-Main!C$3,Main!C9) -> 0.088557611 | C7: =RATE((COUNT(Main!O$3:O9)-1)/12,0,-Main!O$3,Main!O9) -> #NUM! | D7: =RATE((COUNT(Main!P$3:P9)-1)/12,0,-Main!P$3,Main!P9) -> #NUM! | E7: =RATE((COUNT(Main!Q$3:Q9)-1)/12,0,-Main!Q$3,Main!Q9) -> #NUM! | F7: =RATE((COUNT(Main!R$3:R9)-1)/12,0,-Main!R$3,Main!R9) -> #NUM! | G7: =RATE((COUNT(Main!S$3:S9)-1)/12,0,-Main!S$3,Main!S9) -> #NUM! | H7: =RATE((COUNT(Main!T$3:T9)-1)/12,0,-Main!T$3,Main!T9) -> #NUM! | I7: =RATE((COUNT(Main!U$3:U9)-1)/12,0,-Main!U$3,Main!U9) -> #NUM! | J7: =RATE((COUNT(Main!V$3:V9)-1)/12,0,-Main!V$3,Main!V9) -> #NUM! | K7: =RATE((COUNT(Main!W$3:W9)-1)/12,0,-Main!W$3,Main!W9) -> #NUM!
A8: =Main!B10 -> 41486 | B8: =RATE((COUNT(Main!C$3:C10)-1)/12,0,-Main!C$3,Main!C10) -> 0.10091765 | C8: =RATE((COUNT(Main!O$3:O10)-1)/12,0,-Main!O$3,Main!O10) -> #NUM! | D8: =RATE((COUNT(Main!P$3:P10)-1)/12,0,-Main!P$3,Main!P10) -> #NUM! | E8: =RATE((COUNT(Main!Q$3:Q10)-1)/12,0,-Main!Q$3,Main!Q10) -> #NUM! | F8: =RATE((COUNT(Main!R$3:R10)-1)/12,0,-Main!R$3,Main!R10) -> #NUM! | G8: =RATE((COUNT(Main!S$3:S10)-1)/12,0,-Main!S$3,Main!S10) -> #NUM! | H8: =RATE((COUNT(Main!T$3:T10)-1)/12,0,-Main!T$3,Main!T10) -> #NUM! | I8: =RATE((COUNT(Main!U$3:U10)-1)/12,0,-Main!U$3,Main!U10) -> #NUM! | J8: =RATE((COUNT(Main!V$3:V10)-1)/12,0,-Main!V$3,Main!V10) -> #NUM! | K8: =RATE((COUNT(Main!W$3:W10)-1)/12,0,-Main!W$3,Main!W10) -> #NUM!
A9: =Main!B11 -> 41516 | B9: =RATE((COUNT(Main!C$3:C11)-1)/12,0,-Main!C$3,Main!C11) -> 0.084847057 | C9: =RATE((COUNT(Main!O$3:O11)-1)/12,0,-Main!O$3,Main!O11) -> #NUM! | D9: =RATE((COUNT(Main!P$3:P11)-1)/12,0,-Main!P$3,Main!P11) -> #NUM! | E9: =RATE((COUNT(Main!Q$3:Q11)-1)/12,0,-Main!Q$3,Main!Q11) -> #NUM! | F9: =RATE((COUNT(Main!R$3:R11)-1)/12,0,-Main!R$3,Main!R11) -> #NUM! | G9: =RATE((COUNT(Main!S$3:S11)-1)/12,0,-Main!S$3,Main!S11) -> #NUM! | H9: =RATE((COUNT(Main!T$3:T11)-1)/12,0,-Main!T$3,Main!T11) -> #NUM! | I9: =RATE((COUNT(Main!U$3:U11)-1)/12,0,-Main!U$3,Main!U11) -> #NUM! | J9: =RATE((COUNT(Main!V$3:V11)-1)/12,0,-Main!V$3,Main!V11) -> #NUM! | K9: =RATE((COUNT(Main!W$3:W11)-1)/12,0,-Main!W$3,Main!W11) -> #NUM!
A10: =Main!B12 -> 41547 | B10: =RATE((COUNT(Main!C$3:C12)-1)/12,0,-Main!C$3,Main!C12) -> 0.10997839 | C10: =RATE((COUNT(Main!O$3:O12)-1)/12,0,-Main!O$3,Main!O12) -> #NUM! | D10: =RATE((COUNT(Main!P$3:P12)-1)/12,0,-Main!P$3,Main!P12) -> #NUM! | E10: =RATE((COUNT(Main!Q$3:Q12)-1)/12,0,-Main!Q$3,Main!Q12) -> #NUM! | F10: =RATE((COUNT(Main!R$3:R12)-1)/12,0,-Main!R$3,Main!R12) -> #NUM! | G10: =RATE((COUNT(Main!S$3:S12)-1)/12,0,-Main!S$3,Main!S12) -> #NUM! | H10: =RATE((COUNT(Main!T$3:T12)-1)/12,0,-Main!T$3,Main!T12) -> #NUM! | I10: =RATE((COUNT(Main!U$3:U12)-1)/12,0,-Main!U$3,Main!U12) -> #NUM! | J10: =RATE((COUNT(Main!V$3:V12)-1)/12,0,-Main!V$3,Main!V12) -> #NUM! | K10: =RATE((COUNT(Main!W$3:W12)-1)/12,0,-Main!W$3,Main!W12) -> #NUM!
A11: =Main!B13 -> 41578 | B11: =RATE((COUNT(Main!C$3:C13)-1)/12,0,-Main!C$3,Main!C13) -> 0.12132778 | C11: =RATE((COUNT(Main!O$3:O13)-1)/12,0,-Main!O$3,Main!O13) -> #NUM! | D11: =RATE((COUNT(Main!P$3:P13)-1)/12,0,-Main!P$3,Main!P13) -> #NUM! | E11: =RATE((COUNT(Main!Q$3:Q13)-1)/12,0,-Main!Q$3,Main!Q13) -> #NUM! | F11: =RATE((COUNT(Main!R$3:R13)-1)/12,0,-Main!R$3,Main!R13) -> #NUM! | G11: =RATE((COUNT(Main!S$3:S13)-1)/12,0,-Main!S$3,Main!S13) -> #NUM! | H11: =RATE((COUNT(Main!T$3:T13)-1)/12,0,-Main!T$3,Main!T13) -> #NUM! | I11: =RATE((COUNT(Main!U$3:U13)-1)/12,0,-Main!U$3,Main!U13) -> #NUM! | J11: =RATE((COUNT(Main!V$3:V13)-1)/12,0,-Main!V$3,Main!V13) -> #NUM! | K11: =RATE((COUNT(Main!W$3:W13)-1)/12,0,-Main!W$3,Main!W13) -> #NUM!
A12: =Main!B14 -> 41607 | B12: =RATE((COUNT(Main!C$3:C14)-1)/12,0,-Main!C$3,Main!C14) -> 0.13396637 | C12: =RATE((COUNT(Main!O$3:O14)-1)/12,0,-Main!O$3,Main!O14) -> #NUM! | D12: =RATE((COUNT(Main!P$3:P14)-1)/12,0,-Main!P$3,Main!P14) -> #NUM! | E12: =RATE((COUNT(Main!Q$3:Q14)-1)/12,0,-Main!Q$3,Main!Q14) -> #NUM! | F12: =RATE((COUNT(Main!R$3:R14)-1)/12,0,-Main!R$3,Main!R14) -> #NUM! | G12: =RATE((COUNT(Main!S$3:S14)-1)/12,0,-Main!S$3,Main!S14) -> #NUM! | H12: =RATE((COUNT(Main!T$3:T14)-1)/12,0,-Main!T$3,Main!T14) -> #NUM! | I12: =RATE((COUNT(Main!U$3:U14)-1)/12,0,-Main!U$3,Main!U14) -> #NUM! | J12: =RATE((COUNT(Main!V$3:V14)-1)/12,0,-Main!V$3,Main!V14) -> #NUM! | K12: =RATE((COUNT(Main!W$3:W14)-1)/12,0,-Main!W$3,Main!W14) -> #NUM!
A13: =Main!B15 -> 41639 | B13: =RATE((COUNT(Main!C$3:C15)-1)/12,0,-Main!C$3,Main!C15) -> 0.1334064 | C13: =RATE((COUNT(Main!O$3:O15)-1)/12,0,-Main!O$3,Main!O15) -> #NUM! | D13: =RATE((COUNT(Main!P$3:P15)-1)/12,0,-Main!P$3,Main!P15) -> #NUM! | E13: =RATE((COUNT(Main!Q$3:Q15)-1)/12,0,-Main!Q$3,Main!Q15) -> #NUM! | F13: =RATE((COUNT(Main!R$3:R15)-1)/12,0,-Main!R$3,Main!R15) -> #NUM! | G13: =RATE((COUNT(Main!S$3:S15)-1)/12,0,-Main!S$3,Main!S15) -> #NUM! | H13: =RATE((COUNT(Main!T$3:T15)-1)/12,0,-Main!T$3,Main!T15) -> #NUM! | I13: =RATE((COUNT(Main!U$3:U15)-1)/12,0,-Main!U$3,Main!U15) -> #NUM! | J13: =RATE((COUNT(Main!V$3:V15)-1)/12,0,-Main!V$3,Main!V15) -> #NUM! | K13: =RATE((COUNT(Main!W$3:W15)-1)/12,0,-Main!W$3,Main!W15) -> #NUM!
... A155: =Main!B157 -> 45961 | B155: =RATE((COUNT(Main!C$3:C157)-1)/12,0,-Main!C$3,Main!C157) -> 0.070876361 | C155: =RATE((COUNT(Main!O$3:O157)-1)/12,0,-Main!O$3,Main!O157) -> #NUM! | D155: =RATE((COUNT(Main!P$3:P157)-1)/12,0,-Main!P$3,Main!P157) -> #NUM! | E155: =RATE((COUNT(Main!Q$3:Q157)-1)/12,0,-Main!Q$3,Main!Q157) -> #NUM! | F155: =RATE((COUNT(Main!R$3:R157)-1)/12,0,-Main!R$3,Main!R157) -> #NUM! | G155: =RATE((COUNT(Main!S$3:S157)-1)/12,0,-Main!S$3,Main!S157) -> #NUM! | H155: =RATE((COUNT(Main!T$3:T157)-1)/12,0,-Main!T$3,Main!T157) -> #NUM! | I155: =RATE((COUNT(Main!U$3:U157)-1)/12,0,-Main!U$3,Main!U157) -> #NUM! | J155: =RATE((COUNT(Main!V$3:V157)-1)/12,0,-Main!V$3,Main!V157) -> #NUM! | K155: =RATE((COUNT(Main!W$3:W157)-1)/12,0,-Main!W$3,Main!W157) -> #NUM!
A156: =Main!B158 -> 45989 | B156: =RATE((COUNT(Main!C$3:C158)-1)/12,0,-Main!C$3,Main!C158) -> 0.070571216
A157: =Main!B159 -> 46022 | B157: =RATE((COUNT(Main!C$3:C159)-1)/12,0,-Main!C$3,Main!C159) -> 0.070486595
A158: =Main!B160 -> 46052 | B158: =RATE((COUNT(Main!C$3:C160)-1)/12,0,-Main!C$3,Main!C160) -> 0.071657515

Sheet summary
B2: Latest Result | C2: 46052
B4: Period | C4: AVF | D4: Hong Kong | E4: Singapore | F4: Malaysia | G4: Taiwan | H4: Thailand | I4: AC Asia Pacific | J4: AC ASIA PACIFIC ex JAPAN | K4: Outperformance against AC Asia Pacific
B5: Last 1M | C5: =INDEX('Last 1M'!$B$5:$J$1048576,MATCH($C$2,'Last 1M'!$A$5:$A$4979,0),MATCH(summary!C$4,'Last 1M'!$B$4:$J$4,0)) -> 0.020180017 | D5: =INDEX('Last 1M'!$B$5:$J$1048576,MATCH($C$2,'Last 1M'!$A$5:$A$4979,0),MATCH(summary!D$4,'Last 1M'!$B$4:$J$4,0)) -> 0 | E5: =INDEX('Last 1M'!$B$5:$J$1048576,MATCH($C$2,'Last 1M'!$A$5:$A$4979,0),MATCH(summary!E$4,'Last 1M'!$B$4:$J$4,0)) -> 0 | F5: =INDEX('Last 1M'!$B$5:$J$1048576,MATCH($C$2,'Last 1M'!$A$5:$A$4979,0),MATCH(summary!F$4,'Last 1M'!$B$4:$J$4,0)) -> 0 | G5: =INDEX('Last 1M'!$B$5:$J$1048576,MATCH($C$2,'Last 1M'!$A$5:$A$4979,0),MATCH(summary!G$4,'Last 1M'!$B$4:$J$4,0)) -> 0 | H5: =INDEX('Last 1M'!$B$5:$J$1048576,MATCH($C$2,'Last 1M'!$A$5:$A$4979,0),MATCH(summary!H$4,'Last 1M'!$B$4:$J$4,0)) -> 0 | I5: =INDEX('Last 1M'!$B$5:$K$1048576,MATCH($C$2,'Last 1M'!$A$5:$A$4979,0),MATCH(summary!I$4,'Last 1M'!$B$4:$K$4,0)) -> 0 | J5: =INDEX('Last 1M'!$B$5:$K$1048576,MATCH($C$2,'Last 1M'!$A$5:$A$4979,0),MATCH(summary!J$4,'Last 1M'!$B$4:$K$4,0)) -> 0 | K5: =C5-I5 -> 0.020180017
B6: Last 3M | C6: =INDEX('Last 3M'!$B$5:$J$1048576,MATCH($C$2,'Last 3M'!$A$5:$A$477,0),MATCH(summary!C$4,'Last 3M'!$B$4:$J$4,0)) -> 0.027018081 | D6: =INDEX('Last 3M'!$B$5:$J$1048576,MATCH($C$2,'Last 3M'!$A$5:$A$477,0),MATCH(summary!D$4,'Last 3M'!$B$4:$J$4,0)) -> 0 | E6: =INDEX('Last 3M'!$B$5:$J$1048576,MATCH($C$2,'Last 3M'!$A$5:$A$477,0),MATCH(summary!E$4,'Last 3M'!$B$4:$J$4,0)) -> 0 | F6: =INDEX('Last 3M'!$B$5:$J$1048576,MATCH($C$2,'Last 3M'!$A$5:$A$477,0),MATCH(summary!F$4,'Last 3M'!$B$4:$J$4,0)) -> 0 | G6: =INDEX('Last 3M'!$B$5:$J$1048576,MATCH($C$2,'Last 3M'!$A$5:$A$477,0),MATCH(summary!G$4,'Last 3M'!$B$4:$J$4,0)) -> 0 | H6: =INDEX('Last 3M'!$B$5:$J$1048576,MATCH($C$2,'Last 3M'!$A$5:$A$477,0),MATCH(summary!H$4,'Last 3M'!$B$4:$J$4,0)) -> 0 | I6: =INDEX('Last 3M'!$B$5:$K$1048576,MATCH($C$2,'Last 3M'!$A$5:$A$477,0),MATCH(summary!I$4,'Last 3M'!$B$4:$K$4,0)) -> 0 | J6: =INDEX('Last 3M'!$B$5:$K$1048576,MATCH($C$2,'Last 3M'!$A$5:$A$477,0),MATCH(summary!J$4,'Last 3M'!$B$4:$K$4,0)) -> 0 | K6: =C6-I6 -> 0.027018081
B7: Last 6M | C7: =INDEX('Last 6M'!$B$5:$J$1048576,MATCH($C$2,'Last 6M'!$A$5:$A$478,0),MATCH(summary!C$4,'Last 6M'!$B$4:$J$4,0)) -> 0.080909249 | D7: =INDEX('Last 6M'!$B$5:$J$1048576,MATCH($C$2,'Last 6M'!$A$5:$A$478,0),MATCH(summary!D$4,'Last 6M'!$B$4:$J$4,0)) -> 0 | E7: =INDEX('Last 6M'!$B$5:$J$1048576,MATCH($C$2,'Last 6M'!$A$5:$A$478,0),MATCH(summary!E$4,'Last 6M'!$B$4:$J$4,0)) -> 0 | F7: =INDEX('Last 6M'!$B$5:$J$1048576,MATCH($C$2,'Last 6M'!$A$5:$A$478,0),MATCH(summary!F$4,'Last 6M'!$B$4:$J$4,0)) -> 0 | G7: =INDEX('Last 6M'!$B$5:$J$1048576,MATCH($C$2,'Last 6M'!$A$5:$A$478,0),MATCH(summary!G$4,'Last 6M'!$B$4:$J$4,0)) -> 0 | H7: =INDEX('Last 6M'!$B$5:$J$1048576,MATCH($C$2,'Last 6M'!$A$5:$A$478,0),MATCH(summary!H$4,'Last 6M'!$B$4:$J$4,0)) -> 0 | I7: =INDEX('Last 6M'!$B$5:$K$1048576,MATCH($C$2,'Last 6M'!$A$5:$A$478,0),MATCH(summary!I$4,'Last 6M'!$B$4:$K$4,0)) -> 0 | J7: =INDEX('Last 6M'!$B$5:$K$1048576,MATCH($C$2,'Last 6M'!$A$5:$A$478,0),MATCH(summary!J$4,'Last 6M'!$B$4:$K$4,0)) -> 0 | K7: =C7-I7 -> 0.080909249
B8: Last 9M | C8: =INDEX('Last 9M'!$B$5:$J$1048576,MATCH($C$2,'Last 9M'!$A$5:$A$478,0),MATCH(summary!C$4,'Last 9M'!$B$4:$J$4,0)) -> 0.16066586 | D8: =INDEX('Last 9M'!$B$5:$J$1048576,MATCH($C$2,'Last 9M'!$A$5:$A$478,0),MATCH(summary!D$4,'Last 9M'!$B$4:$J$4,0)) -> 0 | E8: =INDEX('Last 9M'!$B$5:$J$1048576,MATCH($C$2,'Last 9M'!$A$5:$A$478,0),MATCH(summary!E$4,'Last 9M'!$B$4:$J$4,0)) -> 0 | F8: =INDEX('Last 9M'!$B$5:$J$1048576,MATCH($C$2,'Last 9M'!$A$5:$A$478,0),MATCH(summary!F$4,'Last 9M'!$B$4:$J$4,0)) -> 0 | G8: =INDEX('Last 9M'!$B$5:$J$1048576,MATCH($C$2,'Last 9M'!$A$5:$A$478,0),MATCH(summary!G$4,'Last 9M'!$B$4:$J$4,0)) -> 0 | H8: =INDEX('Last 9M'!$B$5:$J$1048576,MATCH($C$2,'Last 9M'!$A$5:$A$478,0),MATCH(summary!H$4,'Last 9M'!$B$4:$J$4,0)) -> 0 | I8: =INDEX('Last 9M'!$B$5:$K$1048576,MATCH($C$2,'Last 9M'!$A$5:$A$478,0),MATCH(summary!I$4,'Last 9M'!$B$4:$K$4,0)) -> 0 | J8: =INDEX('Last 9M'!$B$5:$K$1048576,MATCH($C$2,'Last 9M'!$A$5:$A$478,0),MATCH(summary!J$4,'Last 9M'!$B$4:$K$4,0)) -> 0 | K8: =C8-I8 -> 0.16066586
B9: Last 12M | C9: =INDEX('Last 12M'!$B$2:$J$1048576,MATCH($C$2,'Last 12M'!$A$2:$A$475,0),MATCH(summary!C$4,'Last 12M'!$B$1:$J$1,0)) -> 0.14868805 | D9: =INDEX('Last 12M'!$B$2:$J$1048576,MATCH($C$2,'Last 12M'!$A$2:$A$475,0),MATCH(summary!D$4,'Last 12M'!$B$1:$J$1,0)) -> 0 | E9: =INDEX('Last 12M'!$B$2:$J$1048576,MATCH($C$2,'Last 12M'!$A$2:$A$475,0),MATCH(summary!E$4,'Last 12M'!$B$1:$J$1,0)) -> 0 | F9: =INDEX('Last 12M'!$B$2:$J$1048576,MATCH($C$2,'Last 12M'!$A$2:$A$475,0),MATCH(summary!F$4,'Last 12M'!$B$1:$J$1,0)) -> 0 | G9: =INDEX('Last 12M'!$B$2:$J$1048576,MATCH($C$2,'Last 12M'!$A$2:$A$475,0),MATCH(summary!G$4,'Last 12M'!$B$1:$J$1,0)) -> 0 | H9: =INDEX('Last 12M'!$B$2:$J$1048576,MATCH($C$2,'Last 12M'!$A$2:$A$475,0),MATCH(summary!H$4,'Last 12M'!$B$1:$J$1,0)) -> 0 | I9: =INDEX('Last 12M'!$B$2:$K$1048576,MATCH($C$2,'Last 12M'!$A$2:$A$475,0),MATCH(summary!I$4,'Last 12M'!$B$1:$K$1,0)) -> 0 | J9: =INDEX('Last 12M'!$B$2:$K$1048576,MATCH($C$2,'Last 12M'!$A$2:$A$475,0),MATCH(summary!J$4,'Last 12M'!$B$1:$K$1,0)) -> 0 | K9: =C9-I9 -> 0.14868805
B10: Last 2 Years | C10: =INDEX('Last 2 Years'!$B$5:$J$1048576,MATCH($C$2,'Last 2 Years'!$A$5:$A$478,0),MATCH(summary!C$4,'Last 2 Years'!$B$4:$J$4,0)) -> 0.28378588 | D10: =INDEX('Last 2 Years'!$B$5:$J$1048576,MATCH($C$2,'Last 2 Years'!$A$5:$A$478,0),MATCH(summary!D$4,'Last 2 Years'!$B$4:$J$4,0)) -> 0 | E10: =INDEX('Last 2 Years'!$B$5:$J$1048576,MATCH($C$2,'Last 2 Years'!$A$5:$A$478,0),MATCH(summary!E$4,'Last 2 Years'!$B$4:$J$4,0)) -> 0 | F10: =INDEX('Last 2 Years'!$B$5:$J$1048576,MATCH($C$2,'Last 2 Years'!$A$5:$A$478,0),MATCH(summary!F$4,'Last 2 Years'!$B$4:$J$4,0)) -> 0 | G10: =INDEX('Last 2 Years'!$B$5:$J$1048576,MATCH($C$2,'Last 2 Years'!$A$5:$A$478,0),MATCH(summary!G$4,'Last 2 Years'!$B$4:$J$4,0)) -> 0 | H10: =INDEX('Last 2 Years'!$B$5:$J$1048576,MATCH($C$2,'Last 2 Years'!$A$5:$A$478,0),MATCH(summary!H$4,'Last 2 Years'!$B$4:$J$4,0)) -> 0 | I10: =INDEX('Last 2 Years'!$B$5:$K$1048576,MATCH($C$2,'Last 2 Years'!$A$5:$A$478,0),MATCH(summary!I$4,'Last 2 Years'!$B$4:$K$4,0)) -> 0 | J10: =INDEX('Last 2 Years'!$B$5:$K$1048576,MATCH($C$2,'Last 2 Years'!$A$5:$A$478,0),MATCH(summary!J$4,'Last 2 Years'!$B$4:$K$4,0)) -> 0 | K10: =C10-I10 -> 0.28378588
B11: Last 3 Years | C11: =INDEX('Last 3 Years'!$B$5:$J$1048576,MATCH($C$2,'Last 3 Years'!$A$5:$A$478,0),MATCH(summary!C$4,'Last 3 Years'!$B$4:$J$4,0)) -> 0.33775263 | D11: =INDEX('Last 3 Years'!$B$5:$J$1048576,MATCH($C$2,'Last 3 Years'!$A$5:$A$478,0),MATCH(summary!D$4,'Last 3 Years'!$B$4:$J$4,0)) -> 0 | E11: =INDEX('Last 3 Years'!$B$5:$J$1048576,MATCH($C$2,'Last 3 Years'!$A$5:$A$478,0),MATCH(summary!E$4,'Last 3 Years'!$B$4:$J$4,0)) -> 0 | F11: =INDEX('Last 3 Years'!$B$5:$J$1048576,MATCH($C$2,'Last 3 Years'!$A$5:$A$478,0),MATCH(summary!F$4,'Last 3 Years'!$B$4:$J$4,0)) -> 0 | G11: =INDEX('Last 3 Years'!$B$5:$J$1048576,MATCH($C$2,'Last 3 Years'!$A$5:$A$478,0),MATCH(summary!G$4,'Last 3 Years'!$B$4:$J$4,0)) -> 0 | H11: =INDEX('Last 3 Years'!$B$5:$J$1048576,MATCH($C$2,'Last 3 Years'!$A$5:$A$478,0),MATCH(summary!H$4,'Last 3 Years'!$B$4:$J$4,0)) -> 0 | I11: =INDEX('Last 3 Years'!$B$5:$K$1048576,MATCH($C$2,'Last 3 Years'!$A$5:$A$478,0),MATCH(summary!I$4,'Last 3 Years'!$B$4:$K$4,0)) -> 0 | J11: =INDEX('Last 3 Years'!$B$5:$K$1048576,MATCH($C$2,'Last 3 Years'!$A$5:$A$478,0),MATCH(summary!J$4,'Last 3 Years'!$B$4:$K$4,0)) -> 0 | K11: =C11-I11 -> 0.33775263
B12: Last 5 Years | C12: =VLOOKUP($C$2,'Last 5 Years'!A:B,2,FALSE) -> 0.51556967
B13: Last 10 Years | C13: =VLOOKUP($C$2,'Last 10 Years'!A:B,2,FALSE) -> 0.97360261
B14: Since Inception | C14: =VLOOKUP(C2,Main!B:C,2,FALSE)/Main!$C$3-1 -> 1.4730497 | D14: -1 | E14: -1 | F14: -1 | G14: -1 | H14: -1 | I14: -1 | J14: -1 | K14: =C14-I14 -> 2.4730497
B15: CAGR | C15: =INDEX(CAGR!$A$1:$K$1048556,MATCH(summary!$C$2,CAGR!$A$1:$A$1048556,0),MATCH(summary!C$4,CAGR!$A$1:$K$1,0)) -> 0.071657515 | D15: =INDEX(CAGR!$A$1:$K$1048556,MATCH(summary!$C$2,CAGR!$A$1:$A$1048556,0),MATCH(summary!D$4,CAGR!$A$1:$K$1,0)) -> 0 | E15: =INDEX(CAGR!$A$1:$K$1048556,MATCH(summary!$C$2,CAGR!$A$1:$A$1048556,0),MATCH(summary!E$4,CAGR!$A$1:$K$1,0)) -> 0 | F15: =INDEX(CAGR!$A$1:$K$1048556,MATCH(summary!$C$2,CAGR!$A$1:$A$1048556,0),MATCH(summary!F$4,CAGR!$A$1:$K$1,0)) -> 0 | G15: =INDEX(CAGR!$A$1:$K$1048556,MATCH(summary!$C$2,CAGR!$A$1:$A$1048556,0),MATCH(summary!G$4,CAGR!$A$1:$K$1,0)) -> 0 | H15: =INDEX(CAGR!$A$1:$K$1048556,MATCH(summary!$C$2,CAGR!$A$1:$A$1048556,0),MATCH(summary!H$4,CAGR!$A$1:$K$1,0)) -> 0 | I15: =INDEX(CAGR!$A$1:$K$1048556,MATCH(summary!$C$2,CAGR!$A$1:$A$1048556,0),MATCH(summary!I$4,CAGR!$A$1:$K$1,0)) -> 0 | J15: =INDEX(CAGR!$A$1:$K$1048556,MATCH(summary!$C$2,CAGR!$A$1:$A$1048556,0),MATCH(summary!J$4,CAGR!$A$1:$K$1,0)) -> 0 | K15: =C15-I15 -> 0.071657515
B16: 2013 | C16: =Main!AN29 -> 0.1334064 | D16: =Main!D15/Main!D3-1 -> #DIV/0! | E16: =Main!E15/Main!E3-1 -> #DIV/0! | F16: =Main!F15/Main!F3-1 -> #DIV/0! | G16: =Main!I15/Main!I3-1 -> #DIV/0! | H16: =Main!J15/Main!J3-1 -> #DIV/0! | I16: =Main!K15/Main!K3-1 -> #DIV/0! | J16: =Main!L15/Main!L3-1 -> #DIV/0! | K16: =C16-I16 -> #DIV/0!
B17: 2014 | C17: =Main!AN30 -> 0.11436357 | D17: =Main!D27/Main!D15-1 -> #DIV/0! | E17: =Main!E27/Main!E15-1 -> #DIV/0! | F17: =Main!F27/Main!F15-1 -> #DIV/0! | G17: =Main!I27/Main!I15-1 -> #DIV/0! | H17: =Main!J27/Main!J15-1 -> #DIV/0! | I17: =Main!K27/Main!K15-1 -> #DIV/0! | J17: =Main!L27/Main!L15-1 -> #DIV/0! | K17: =C17-I17 -> #DIV/0!
B18: 2015 | C18: =Main!AN31 -> 0.061923168 | D18: =Main!D39/Main!D27-1 -> #DIV/0! | E18: =Main!E39/Main!E27-1 -> #DIV/0! | F18: =Main!F39/Main!F27-1 -> #DIV/0! | G18: =Main!I39/Main!I27-1 -> #DIV/0! | H18: =Main!J39/Main!J27-1 -> #DIV/0! | I18: =Main!K39/Main!K27-1 -> #DIV/0! | J18: =Main!L39/Main!L27-1 -> #DIV/0! | K18: =C18-I18 -> #DIV/0!
B19: 2016 | C19: =Main!AN32 -> 0.11357896 | D19: =Main!D51/Main!D39-1 -> #DIV/0! | E19: =Main!E51/Main!E39-1 -> #DIV/0! | F19: =Main!F51/Main!F39-1 -> #DIV/0! | G19: =Main!I51/Main!I39-1 -> #DIV/0! | H19: =Main!J51/Main!J39-1 -> #DIV/0! | I19: =Main!K51/Main!K39-1 -> #DIV/0! | J19: =Main!L51/Main!L39-1 -> #DIV/0! | K19: =C19-I19 -> #DIV/0!
B20: 2017 | C20: =Main!AN33 -> 0.12694283 | D20: ='Last 12M'!C62 -> #DIV/0! | E20: ='Last 12M'!D62 -> #DIV/0! | F20: ='Last 12M'!E62 -> #DIV/0! | G20: ='Last 12M'!H62 -> #DIV/0! | H20: ='Last 12M'!I62 -> #DIV/0! | I20: ='Last 12M'!J62 -> #DIV/0! | J20: ='Last 12M'!K62 -> #DIV/0! | K20: =C20-I20 -> #DIV/0!
B21: 2018 | C21: =Main!AN34 -> -0.10204806 | D21: -0.076987021 | E21: -0.076068465 | F21: -0.04048984 | G21: -0.059406157 | H21: -0.056150901 | I21: ='Last 12M'!J74 -> #DIV/0! | J21: ='Last 12M'!K74 -> #DIV/0! | K21: =C21-I21 -> #DIV/0!
B22: 2019 | C22: =Main!AN35 -> 0.022742254 | D22: -1 | E22: -1 | F22: -1 | G22: -1 | H22: -1 | I22: -1 | J22: ='Last 12M'!L86 -> 0 | K22: =C22-I22 -> 1.0227423
B23: 2020 | C23: =Main!AN36 -> 0.04137931 | D23: 0.053454877 | E23: -0.090497117 | F23: 0.019390623 | G23: 0.32151307 | H23: -0.11664557 | I23: ='Last 12M'!J98 -> #DIV/0! | J23: ='Last 12M'!K98 -> #DIV/0! | K23: =C23-I23 -> #DIV/0!
B24: 2021 | C24: =Main!AN37 -> 0.1825834 | D24: -0.034147622 | E24: 0.078091221 | F24: -0.028943831 | G24: 0.24199797 | H24: 0.099287445 | I24: ='Last 12M'!J110 -> #DIV/0! | J24: ='Last 12M'!K110 -> #DIV/0! | K24: =C24-I24 -> #DIV/0!
B25: 2022 | C25: =Main!AN38 -> -0.063118229 | D25: -0.046127572 | E25: -0.11459455 | F25: -0.0037068026 | G25: -0.21975332 | H25: 0.08834516 | I25: -0.17752611 | J25: -0.12838244 | K25: =C25-I25 -> 0.11440788
B26: 2023 | C26: =Main!AN39 -> 0.077314117 | D26: -0.14729551 | E26: 0.036677653 | F26: 0.0067133565 | G26: 0.3023651 | H26: -0.11791751 | I26: 0.097814823 | J26: 0.076689829 | K26: =C26-I26 -> -0.020500706
B27: 2024 | C27: =Main!AN40 -> 0.11604874 | D27: -1 | E27: -1 | F27: -1 | G27: -1 | H27: -1 | I27: -1 | J27: -1 | K27: =C27-I27 -> 1.1160487
B28: 2025 | C28: =Main!AN41 -> 0.13046508 | D28: -1 | E28: -1 | F28: -1 | G28: -1 | H28: -1 | I28: -1 | J28: -1 | K28: =C28-I28 -> 1.1304651
B29: 2026 | C29: =Main!AN42 -> 0.020180017
B32: =B4 -> Period | C32: =C4 -> AVF | D32: =I4 -> AC Asia Pacific | E32: =K4 -> Outperformance against AC Asia Pacific | G32: =D4 -> Hong Kong | H32: =E4 -> Singapore | I32: =F4 -> Malaysia | J32: =#REF! -> #REF! | K32: =#REF! -> #REF! | L32: =G4 -> Taiwan | M32: =H4 -> Thailand
B33: =B5 -> Last 1M | C33: =C5 -> 0.020180017 | D33: =I5 -> 0 | E33: =K5 -> 0.020180017 | G33: =D5 -> 0 | H33: =E5 -> 0 | I33: =F5 -> 0 | J33: =#REF! -> #REF! | K33: =#REF! -> #REF! | L33: =G5 -> 0 | M33: =H5 -> 0
B34: =B6 -> Last 3M | C34: =C6 -> 0.027018081 | D34: =I6 -> 0 | E34: =K6 -> 0.027018081 | G34: =D6 -> 0 | H34: =E6 -> 0 | I34: =F6 -> 0 | J34: =#REF! -> #REF! | K34: =#REF! -> #REF! | L34: =G6 -> 0 | M34: =H6 -> 0
B35: =B7 -> Last 6M | C35: =C7 -> 0.080909249 | D35: =I7 -> 0 | E35: =K7 -> 0.080909249 | G35: =D7 -> 0 | H35: =E7 -> 0 | I35: =F7 -> 0 | J35: =#REF! -> #REF! | K35: =#REF! -> #REF! | L35: =G7 -> 0 | M35: =H7 -> 0
B36: Last 9M | C36: =C8 -> 0.16066586 | D36: =I8 -> 0 | E36: =K8 -> 0.16066586 | G36: =D8 -> 0 | H36: =E8 -> 0 | I36: =F8 -> 0 | J36: =#REF! -> #REF! | K36: =#REF! -> #REF! | L36: =G8 -> 0 | M36: =H8 -> 0
B37: =B9 -> Last 12M | C37: =C9 -> 0.14868805 | D37: =I9 -> 0 | E37: =K9 -> 0.14868805 | G37: =D9 -> 0 | H37: =E9 -> 0 | I37: =F9 -> 0 | J37: =#REF! -> #REF! | K37: =#REF! -> #REF! | L37: =G9 -> 0 | M37: =H9 -> 0
B38: Last 2 Yrs | C38: =C10 -> 0.28378588 | D38: =I10 -> 0 | E38: =K10 -> 0.28378588 | G38: =D10 -> 0 | H38: =E10 -> 0 | I38: =F10 -> 0 | J38: =#REF! -> #REF! | K38: =#REF! -> #REF! | L38: =G10 -> 0 | M38: =H10 -> 0
B39: Last 3 Yrs | C39: =C11 -> 0.33775263 | D39: =I11 -> 0 | E39: =K11 -> 0.33775263 | G39: =D11 -> 0 | H39: =E11 -> 0 | I39: =F11 -> 0 | J39: =#REF! -> #REF! | K39: =#REF! -> #REF! | L39: =G11 -> 0 | M39: =H11 -> 0
B40: Last 5 Yrs | C40: =C12 -> 0.51556967
B41: Last 10 Yrs | C41: =C13 -> 0.97360261
B42: =B14 -> Since Inception | C42: =C14 -> 1.4730497 | D42: =I14 -> -1 | E42: =K14 -> 2.4730497 | G42: =D14 -> -1 | H42: =E14 -> -1 | I42: =F14 -> -1 | J42: =#REF! -> #REF! | K42: =#REF! -> #REF! | L42: =G14 -> -1 | M42: =H14 -> -1
B43: =B15 -> CAGR | C43: =C15 -> 0.071657515 | D43: =I15 -> 0 | E43: =K15 -> 0.071657515 | G43: =D15 -> 0 | H43: =E15 -> 0 | I43: =F15 -> 0 | J43: =#REF! -> #REF! | K43: =#REF! -> #REF! | L43: =G15 -> 0 | M43: =H15 -> 0
B44: =B16 -> 2013 | C44: =C16 -> 0.1334064 | D44: =I16 -> #DIV/0! | E44: =K16 -> #DIV/0! | G44: =D16 -> #DIV/0! | H44: =E16 -> #DIV/0! | I44: =F16 -> #DIV/0! | J44: =#REF! -> #REF! | K44: =#REF! -> #REF! | L44: =G16 -> #DIV/0! | M44: =H16 -> #DIV/0!
B45: =B17 -> 2014 | C45: =C17 -> 0.11436357 | D45: =I17 -> #DIV/0! | G45: =D17 -> #DIV/0! | H45: =E17 -> #DIV/0! | I45: =F17 -> #DIV/0! | J45: =#REF! -> #REF! | K45: =#REF! -> #REF! | L45: =G17 -> #DIV/0! | M45: =H17 -> #DIV/0!
B46: =B18 -> 2015 | C46: =C18 -> 0.061923168 | D46: =I18 -> #DIV/0! | E46: =K18 -> #DIV/0! | G46: =D18 -> #DIV/0! | H46: =E18 -> #DIV/0! | I46: =F18 -> #DIV/0! | J46: =#REF! -> #REF! | K46: =#REF! -> #REF! | L46: =G18 -> #DIV/0! | M46: =H18 -> #DIV/0!
B47: =B19 -> 2016 | C47: =C19 -> 0.11357896 | D47: =I19 -> #DIV/0! | E47: =K19 -> #DIV/0! | G47: =D19 -> #DIV/0! | H47: =E19 -> #DIV/0! | I47: =F19 -> #DIV/0! | J47: =#REF! -> #REF! | K47: =#REF! -> #REF! | L47: =G19 -> #DIV/0! | M47: =H19 -> #DIV/0!
B48: 2017 | C48: =C20 -> 0.12694283 | D48: =I20 -> #DIV/0! | E48: =K20 -> #DIV/0! | G48: =D20 -> #DIV/0! | H48: =E20 -> #DIV/0! | I48: =F20 -> #DIV/0! | J48: =#REF! -> #REF! | K48: =#REF! -> #REF! | L48: =G20 -> #DIV/0! | M48: =H20 -> #DIV/0!
B49: 2018 | C49: =C21 -> -0.10204806 | D49: =I21 -> #DIV/0! | E49: =K21 -> #DIV/0! | G49: =D21 -> -0.076987021 | H49: =E21 -> -0.076068465 | I49: =F21 -> -0.04048984 | J49: =#REF! -> #REF! | K49: =#REF! -> #REF! | L49: =G21 -> -0.059406157 | M49: =H21 -> -0.056150901
B50: 2019 | C50: =C22 -> 0.022742254 | D50: =I22 -> -1 | E50: =K22 -> 1.0227423 | G50: =D22 -> -1 | H50: =E22 -> -1 | I50: =F22 -> -1 | J50: =#REF! -> #REF! | K50: =#REF! -> #REF! | L50: =G22 -> -1 | M50: =H22 -> -1
B51: 2020 | C51: =C23 -> 0.04137931 | D51: =I23 -> #DIV/0! | E51: =K23 -> #DIV/0! | G51: =D23 -> 0.053454877 | H51: =E23 -> -0.090497117 | I51: =F23 -> 0.019390623 | J51: =#REF! -> #REF! | K51: =#REF! -> #REF! | L51: =G23 -> 0.32151307 | M51: =H23 -> -0.11664557
B52: 2021 | C52: =C24 -> 0.1825834 | D52: =I24 -> #DIV/0! | E52: =K24 -> #DIV/0! | G52: =D24 -> -0.034147622 | H52: =E24 -> 0.078091221 | I52: =F24 -> -0.028943831 | J52: =#REF! -> #REF! | K52: =#REF! -> #REF! | L52: =G24 -> 0.24199797 | M52: =H24 -> 0.099287445
B53: 2022 | C53: =C25 -> -0.063118229 | D53: =I25 -> -0.17752611 | E53: =K25 -> 0.11440788 | G53: =D25 -> -0.046127572 | H53: =E25 -> -0.11459455 | I53: =F25 -> -0.0037068026 | J53: =#REF! -> #REF! | K53: =#REF! -> #REF! | L53: =G25 -> -0.21975332 | M53: =H25 -> 0.08834516
B54: 2023 | C54: =C26 -> 0.077314117 | D54: =I26 -> 0.097814823 | E54: =K26 -> -0.020500706 | G54: =D26 -> -0.14729551 | H54: =E26 -> 0.036677653 | I54: =F26 -> 0.0067133565 | J54: =#REF! -> #REF! | K54: =#REF! -> #REF! | L54: =G26 -> 0.3023651 | M54: =H26 -> -0.11791751
B55: 2024 | C55: =C27 -> 0.11604874 | D55: =I27 -> -1 | E55: =K27 -> 1.1160487 | G55: =D27 -> -1 | H55: =E27 -> -1 | I55: =F27 -> -1 | J55: =#REF! -> #REF! | K55: =#REF! -> #REF! | L55: =G27 -> -1 | M55: =H27 -> -1
B56: 2025 | C56: =C28 -> 0.13046508 | D56: =I28 -> -1 | E56: =K28 -> 1.1304651 | G56: =D28 -> -1 | H56: =E28 -> -1 | I56: =F28 -> -1 | J56: =#REF! -> #REF! | K56: =#REF! -> #REF! | L56: =G28 -> -1 | M56: =H28 -> -1
B57: 2026 | C57: =C29 -> 0.020180017

Sheet Stddev sharpe
B1: montly return | M1: std deviation (since inception) | W1: avg return | AG1: sharpe monthly | AR1: Summary
A2: =Main!B2 -> Date | B2: =Main!C2 -> Aggregate Value Fund Class A | C2: =Main!D2 -> 0 | D2: =Main!E2 -> 0 | E2: =Main!F2 -> 0 | F2: =Main!G2 -> 0 | G2: =Main!H2 -> 0 | H2: =Main!I2 -> 0 | ... J2: =Main!K2 -> 0 | K2: weighted
A3: =Main!B3 -> 41274 | AR3: RISK STATISTICS | AS3: =B2 -> Aggregate Value Fund Class A | AT3: =C2 -> 0 | AU3: =D2 -> 0 | AV3: =E2 -> 0 | AW3: =F2 -> 0 | AX3: =G2 -> 0 | AY3: =H2 -> 0 | AZ3: =I2 -> 0 | BA3: =J2 -> 0
A4: =Main!B4 -> 41305 | B4: =Main!C4/Main!C3-1 -> 0.017036963 | C4: =Main!D4/Main!D3-1 -> #DIV/0! | D4: =Main!E4/Main!E3-1 -> #DIV/0! | E4: =Main!F4/Main!F3-1 -> #DIV/0! | F4: =Main!G4/Main!G3-1 -> #DIV/0! | G4: =Main!H4/Main!H3-1 -> #DIV/0! | H4: =Main!I4/Main!I3-1 -> #DIV/0! | I4: =Main!J4/Main!J3-1 -> #DIV/0! | J4: =Main!K4/Main!K3-1 -> #DIV/0! | K4: =0.5*C4+0.1*D4+0.1*E4+0.1*F4+0.1*G4+0.05*H4+0.05*I4 -> #DIV/0! | AR4: Std Dev (Mthly) | AS4: =INDEX(M:M,COUNT(M:M)+4) -> 0.027897095 | AT4: =N130 -> #DIV/0! | AU4: =O130 -> #DIV/0! | AV4: =P130 -> #DIV/0! | AW4: =Q130 -> #DIV/0! | AX4: =R130 -> #DIV/0! | AY4: =S130 -> #DIV/0! | AZ4: =T130 -> #DIV/0! | BA4: =U130 -> #DIV/0!
A5: =Main!B5 -> 41333 | B5: =Main!C5/Main!C4-1 -> 0.0089145768 | C5: =Main!D5/Main!D4-1 -> #DIV/0! | D5: =Main!E5/Main!E4-1 -> #DIV/0! | E5: =Main!F5/Main!F4-1 -> #DIV/0! | F5: =Main!G5/Main!G4-1 -> #DIV/0! | G5: =Main!H5/Main!H4-1 -> #DIV/0! | H5: =Main!I5/Main!I4-1 -> #DIV/0! | I5: =Main!J5/Main!J4-1 -> #DIV/0! | J5: =Main!K5/Main!K4-1 -> #DIV/0! | K5: =0.5*C5+0.1*D5+0.1*E5+0.1*F5+0.1*G5+0.05*H5+0.05*I5 -> #DIV/0! | M5: =STDEV($B$4:B5) -> 0.0057433945 | N5: =STDEV($C$4:C5) -> #DIV/0! | O5: =STDEV($D$4:D5) -> #DIV/0! | P5: =STDEV($E$4:E5) -> #DIV/0! | Q5: =STDEV($F$4:F5) -> #DIV/0! | R5: =STDEV($G$4:G5) -> #DIV/0! | S5: =STDEV($H$4:H5) -> #DIV/0! | T5: =STDEV($I$4:I5) -> #DIV/0! | U5: =STDEV($J$4:J5) -> #DIV/0! | W5: =AVERAGE($B$4:B5) -> 0.01297577 | X5: =AVERAGE($C$4:C5) -> #DIV/0! | Y5: =AVERAGE($D$4:D5) -> #DIV/0! | Z5: =AVERAGE($E$4:E5) -> #DIV/0! | AA5: =AVERAGE($F$4:F5) -> #DIV/0! | AB5: =AVERAGE($G$4:G5) -> #DIV/0! | AC5: =AVERAGE($H$4:H5) -> #DIV/0! | AD5: =AVERAGE($I$4:I5) -> #DIV/0! | AE5: =AVERAGE($J$4:J5) -> #DIV/0! | AG5: =(W5-(2%/12))/M5 -> 1.9690626 | AH5: =(X5-(2%/12))/N5 -> #DIV/0! | AI5: =(Y5-(2%/12))/O5 -> #DIV/0! | AJ5: =(Z5-(2%/12))/P5 -> #DIV/0! | AK5: =(AA5-(2%/12))/Q5 -> #DIV/0! | AL5: =(AB5-(2%/12))/R5 -> #DIV/0! | AM5: =(AC5-(2%/12))/S5 -> #DIV/0! | AN5: =(AD5-(2%/12))/T5 -> #DIV/0! | AO5: =(AE5-(2%/12))/U5 -> #DIV/0! | AR5: Avg Mthly Return | AS5: =INDEX(W:W,COUNT(W:W)+4) -> 0.0061776448 | AT5: =X130 -> #DIV/0! | AU5: =Y130 -> #DIV/0! | AV5: =Z130 -> #DIV/0! | AW5: =AA130 -> #DIV/0! | AX5: =AB130 -> #DIV/0! | AY5: =AC130 -> #DIV/0! | AZ5: =AD130 -> #DIV/0! | BA5: =AE130 -> #DIV/0!
A6: =Main!B6 -> 41362 | B6: =Main!C6/Main!C5-1 -> -0.00058258083 | C6: =Main!D6/Main!D5-1 -> #DIV/0! | D6: =Main!E6/Main!E5-1 -> #DIV/0! | E6: =Main!F6/Main!F5-1 -> #DIV/0! | F6: =Main!G6/Main!G5-1 -> #DIV/0! | G6: =Main!H6/Main!H5-1 -> #DIV/0! | H6: =Main!I6/Main!I5-1 -> #DIV/0! | I6: =Main!J6/Main!J5-1 -> #DIV/0! | J6: =Main!K6/Main!K5-1 -> #DIV/0! | K6: =0.5*C6+0.1*D6+0.1*E6+0.1*F6+0.1*G6+0.05*H6+0.05*I6 -> #DIV/0! | M6: =STDEV($B$4:B6) -> 0.0088187064 | N6: =STDEV($C$4:C6) -> #DIV/0! | O6: =STDEV($D$4:D6) -> #DIV/0! | P6: =STDEV($E$4:E6) -> #DIV/0! | Q6: =STDEV($F$4:F6) -> #DIV/0! | R6: =STDEV($G$4:G6) -> #DIV/0! | S6: =STDEV($H$4:H6) -> #DIV/0! | T6: =STDEV($I$4:I6) -> #DIV/0! | U6: =STDEV($J$4:J6) -> #DIV/0! | W6: =AVERAGE($B$4:B6) -> 0.0084563197 | X6: =AVERAGE($C$4:C6) -> #DIV/0! | Y6: =AVERAGE($D$4:D6) -> #DIV/0! | Z6: =AVERAGE($E$4:E6) -> #DIV/0! | AA6: =AVERAGE($F$4:F6) -> #DIV/0! | AB6: =AVERAGE($G$4:G6) -> #DIV/0! | AC6: =AVERAGE($H$4:H6) -> #DIV/0! | AD6: =AVERAGE($I$4:I6) -> #DIV/0! | AE6: =AVERAGE($J$4:J6) -> #DIV/0! | AG6: =(W6-(2%/12))/M6 -> 0.76991485 | AH6: =(X6-(2%/12))/N6 -> #DIV/0! | AI6: =(Y6-(2%/12))/O6 -> #DIV/0! | AJ6: =(Z6-(2%/12))/P6 -> #DIV/0! | AK6: =(AA6-(2%/12))/Q6 -> #DIV/0! | AL6: =(AB6-(2%/12))/R6 -> #DIV/0! | AM6: =(AC6-(2%/12))/S6 -> #DIV/0! | AN6: =(AD6-(2%/12))/T6 -> #DIV/0! | AO6: =(AE6-(2%/12))/U6 -> #DIV/0! | AR6: 10 Yr SGS Bonds (p.a.) | AS6: 0.02 | AT6: 0.022 | AU6: 0.022 | AV6: 0.022 | AW6: 0.022 | AX6: 0.022 | AY6: 0.022 | AZ6: 0.022 | BA6: 0.022
A7: =Main!B7 -> 41394 | B7: =Main!C7/Main!C6-1 -> -0.011172642 | C7: =Main!D7/Main!D6-1 -> #DIV/0! | D7: =Main!E7/Main!E6-1 -> #DIV/0! | E7: =Main!F7/Main!F6-1 -> #DIV/0! | F7: =Main!G7/Main!G6-1 -> #DIV/0! | G7: =Main!H7/Main!H6-1 -> #DIV/0! | H7: =Main!I7/Main!I6-1 -> #DIV/0! | I7: =Main!J7/Main!J6-1 -> #DIV/0! | J7: =Main!K7/Main!K6-1 -> #DIV/0! | K7: =0.5*C7+0.1*D7+0.1*E7+0.1*F7+0.1*G7+0.05*H7+0.05*I7 -> #DIV/0! | M7: =STDEV($B$4:B7) -> 0.012172527 | N7: =STDEV($C$4:C7) -> #DIV/0! | O7: =STDEV($D$4:D7) -> #DIV/0! | P7: =STDEV($E$4:E7) -> #DIV/0! | Q7: =STDEV($F$4:F7) -> #DIV/0! | R7: =STDEV($G$4:G7) -> #DIV/0! | S7: =STDEV($H$4:H7) -> #DIV/0! | T7: =STDEV($I$4:I7) -> #DIV/0! | U7: =STDEV($J$4:J7) -> #DIV/0! | W7: =AVERAGE($B$4:B7) -> 0.0035490794 | X7: =AVERAGE($C$4:C7) -> #DIV/0! | Y7: =AVERAGE($D$4:D7) -> #DIV/0! | Z7: =AVERAGE($E$4:E7) -> #DIV/0! | AA7: =AVERAGE($F$4:F7) -> #DIV/0! | AB7: =AVERAGE($G$4:G7) -> #DIV/0! | AC7: =AVERAGE($H$4:H7) -> #DIV/0! | AD7: =AVERAGE($I$4:I7) -> #DIV/0! | AE7: =AVERAGE($J$4:J7) -> #DIV/0! | AG7: =(W7-(2%/12))/M7 -> 0.15464436 | AH7: =(X7-(2%/12))/N7 -> #DIV/0! | AI7: =(Y7-(2%/12))/O7 -> #DIV/0! | AJ7: =(Z7-(2%/12))/P7 -> #DIV/0! | AK7: =(AA7-(2%/12))/Q7 -> #DIV/0! | AL7: =(AB7-(2%/12))/R7 -> #DIV/0! | AM7: =(AC7-(2%/12))/S7 -> #DIV/0! | AN7: =(AD7-(2%/12))/T7 -> #DIV/0! | AO7: =(AE7-(2%/12))/U7 -> #DIV/0! | AR7: Sharpe Ratio (Mth) | AS7: =(AS5-(AS6/12))/AS4 -> 0.16170064 | AT7: =(AT5-(AT6/12))/AT4 -> #DIV/0! | AU7: =(AU5-(AU6/12))/AU4 -> #DIV/0! | AV7: =(AV5-(AV6/12))/AV4 -> #DIV/0! | AW7: =(AW5-(AW6/12))/AW4 -> #DIV/0! | AX7: =(AX5-(AX6/12))/AX4 -> #DIV/0! | AY7: =(AY5-(AY6/12))/AY4 -> #DIV/0! | AZ7: =(AZ5-(AZ6/12))/AZ4 -> #DIV/0! | BA7: =(BA5-(BA6/12))/BA4 -> #DIV/0!
A8: =Main!B8 -> 41425 | B8: =Main!C8/Main!C7-1 -> 0.064845746 | C8: =Main!D8/Main!D7-1 -> #DIV/0! | D8: =Main!E8/Main!E7-1 -> #DIV/0! | E8: =Main!F8/Main!F7-1 -> #DIV/0! | F8: =Main!G8/Main!G7-1 -> #DIV/0! | G8: =Main!H8/Main!H7-1 -> #DIV/0! | H8: =Main!I8/Main!I7-1 -> #DIV/0! | I8: =Main!J8/Main!J7-1 -> #DIV/0! | J8: =Main!K8/Main!K7-1 -> #DIV/0! | K8: =0.5*C8+0.1*D8+0.1*E8+0.1*F8+0.1*G8+0.05*H8+0.05*I8 -> #DIV/0! | M8: =STDEV($B$4:B8) -> 0.029369782 | N8: =STDEV($C$4:C8) -> #DIV/0! | O8: =STDEV($D$4:D8) -> #DIV/0! | P8: =STDEV($E$4:E8) -> #DIV/0! | Q8: =STDEV($F$4:F8) -> #DIV/0! | R8: =STDEV($G$4:G8) -> #DIV/0! | S8: =STDEV($H$4:H8) -> #DIV/0! | T8: =STDEV($I$4:I8) -> #DIV/0! | U8: =STDEV($J$4:J8) -> #DIV/0! | W8: =AVERAGE($B$4:B8) -> 0.015808413 | X8: =AVERAGE($C$4:C8) -> #DIV/0! | Y8: =AVERAGE($D$4:D8) -> #DIV/0! | Z8: =AVERAGE($E$4:E8) -> #DIV/0! | AA8: =AVERAGE($F$4:F8) -> #DIV/0! | AB8: =AVERAGE($G$4:G8) -> #DIV/0! | AC8: =AVERAGE($H$4:H8) -> #DIV/0! | AD8: =AVERAGE($I$4:I8) -> #DIV/0! | AE8: =AVERAGE($J$4:J8) -> #DIV/0! | AG8: =(W8-(2%/12))/M8 -> 0.48150668 | AH8: =(X8-(2%/12))/N8 -> #DIV/0! | AI8: =(Y8-(2%/12))/O8 -> #DIV/0! | AJ8: =(Z8-(2%/12))/P8 -> #DIV/0! | AK8: =(AA8-(2%/12))/Q8 -> #DIV/0! | AL8: =(AB8-(2%/12))/R8 -> #DIV/0! | AM8: =(AC8-(2%/12))/S8 -> #DIV/0! | AN8: =(AD8-(2%/12))/T8 -> #DIV/0! | AO8: =(AE8-(2%/12))/U8 -> #DIV/0! | AR8: Sharpe Ratio (Annualized) | AS8: =AS7*SQRT(12) -> 0.56014745 | AT8: =AT7*SQRT(12) -> #DIV/0! | AU8: =AU7*SQRT(12) -> #DIV/0! | AV8: =AV7*SQRT(12) -> #DIV/0! | AW8: =AW7*SQRT(12) -> #DIV/0! | AX8: =AX7*SQRT(12) -> #DIV/0! | AY8: =AY7*SQRT(12) -> #DIV/0! | AZ8: =AZ7*SQRT(12) -> #DIV/0! | BA8: =BA7*SQRT(12) -> #DIV/0!
A9: =Main!B9 -> 41453 | B9: =Main!C9/Main!C8-1 -> -0.033770068 | C9: =Main!D9/Main!D8-1 -> #DIV/0! | D9: =Main!E9/Main!E8-1 -> #DIV/0! | E9: =Main!F9/Main!F8-1 -> #DIV/0! | F9: =Main!G9/Main!G8-1 -> #DIV/0! | G9: =Main!H9/Main!H8-1 -> #DIV/0! | H9: =Main!I9/Main!I8-1 -> #DIV/0! | I9: =Main!J9/Main!J8-1 -> #DIV/0! | J9: =Main!K9/Main!K8-1 -> #DIV/0! | K9: =0.5*C9+0.1*D9+0.1*E9+0.1*F9+0.1*G9+0.05*H9+0.05*I9 -> #DIV/0! | M9: =STDEV($B$4:B9) -> 0.033162301 | N9: =STDEV($C$4:C9) -> #DIV/0! | O9: =STDEV($D$4:D9) -> #DIV/0! | P9: =STDEV($E$4:E9) -> #DIV/0! | Q9: =STDEV($F$4:F9) -> #DIV/0! | R9: =STDEV($G$4:G9) -> #DIV/0! | S9: =STDEV($H$4:H9) -> #DIV/0! | T9: =STDEV($I$4:I9) -> #DIV/0! | U9: =STDEV($J$4:J9) -> #DIV/0! | W9: =AVERAGE($B$4:B9) -> 0.0075453325 | X9: =AVERAGE($C$4:C9) -> #DIV/0! | Y9: =AVERAGE($D$4:D9) -> #DIV/0! | Z9: =AVERAGE($E$4:E9) -> #DIV/0! | AA9: =AVERAGE($F$4:F9) -> #DIV/0! | AB9: =AVERAGE($G$4:G9) -> #DIV/0! | AC9: =AVERAGE($H$4:H9) -> #DIV/0! | AD9: =AVERAGE($I$4:I9) -> #DIV/0! | AE9: =AVERAGE($J$4:J9) -> #DIV/0! | AG9: =(W9-(2%/12))/M9 -> 0.17726954 | AH9: =(X9-(2%/12))/N9 -> #DIV/0! | AI9: =(Y9-(2%/12))/O9 -> #DIV/0! | AJ9: =(Z9-(2%/12))/P9 -> #DIV/0! | AK9: =(AA9-(2%/12))/Q9 -> #DIV/0! | AL9: =(AB9-(2%/12))/R9 -> #DIV/0! | AM9: =(AC9-(2%/12))/S9 -> #DIV/0! | AN9: =(AD9-(2%/12))/T9 -> #DIV/0! | AO9: =(AE9-(2%/12))/U9 -> #DIV/0! | AR9: Sharpe Ratio (incep) | AS9: =(summary!C15-'Stddev sharpe'!AS6)/(_xlfn.STDEV.S(B$5:B$160)*SQRT(12)) -> 0.53308913 | AT9: =(summary!D15-'Stddev sharpe'!AT6)/_xlfn.STDEV.P(summary!D16:D26) -> #DIV/0! | AU9: =(summary!E15-'Stddev sharpe'!AU6)/_xlfn.STDEV.P(summary!E16:E26) -> #DIV/0! | AV9: =(summary!F15-'Stddev sharpe'!AV6)/_xlfn.STDEV.P(summary!F16:F26) -> #DIV/0! | AW9: =(summary!#REF!-'Stddev sharpe'!AW6)/_xlfn.STDEV.P(summary!#REF!) -> #REF! | AX9: =(summary!#REF!-'Stddev sharpe'!AX6)/_xlfn.STDEV.P(summary!#REF!) -> #REF! | AY9: =(summary!G15-'Stddev sharpe'!AY6)/_xlfn.STDEV.P(summary!G16:G26) -> #DIV/0! | AZ9: =(summary!H15-'Stddev sharpe'!AZ6)/_xlfn.STDEV.P(summary!H16:H26) -> #DIV/0! | BA9: =(summary!I15-'Stddev sharpe'!BA6)/_xlfn.STDEV.P(summary!I16:I26) -> #DIV/0!
A10: =Main!B10 -> 41486 | B10: =Main!C10/Main!C9-1 -> 0.013750955 | C10: =Main!D10/Main!D9-1 -> #DIV/0! | D10: =Main!E10/Main!E9-1 -> #DIV/0! | E10: =Main!F10/Main!F9-1 -> #DIV/0! | F10: =Main!G10/Main!G9-1 -> #DIV/0! | G10: =Main!H10/Main!H9-1 -> #DIV/0! | H10: =Main!I10/Main!I9-1 -> #DIV/0! | I10: =Main!J10/Main!J9-1 -> #DIV/0! | J10: =Main!K10/Main!K9-1 -> #DIV/0! | K10: =0.5*C10+0.1*D10+0.1*E10+0.1*F10+0.1*G10+0.05*H10+0.05*I10 -> #DIV/0! | M10: =STDEV($B$4:B10) -> 0.030363628 | N10: =STDEV($C$4:C10) -> #DIV/0! | O10: =STDEV($D$4:D10) -> #DIV/0! | P10: =STDEV($E$4:E10) -> #DIV/0! | Q10: =STDEV($F$4:F10) -> #DIV/0! | R10: =STDEV($G$4:G10) -> #DIV/0! | S10: =STDEV($H$4:H10) -> #DIV/0! | T10: =STDEV($I$4:I10) -> #DIV/0! | U10: =STDEV($J$4:J10) -> #DIV/0! | W10: =AVERAGE($B$4:B10) -> 0.00843185 | X10: =AVERAGE($C$4:C10) -> #DIV/0! | Y10: =AVERAGE($D$4:D10) -> #DIV/0! | Z10: =AVERAGE($E$4:E10) -> #DIV/0! | AA10: =AVERAGE($F$4:F10) -> #DIV/0! | AB10: =AVERAGE($G$4:G10) -> #DIV/0! | AC10: =AVERAGE($H$4:H10) -> #DIV/0! | AD10: =AVERAGE($I$4:I10) -> #DIV/0! | AE10: =AVERAGE($J$4:J10) -> #DIV/0! | AG10: =(W10-(2%/12))/M10 -> 0.2228055 | AH10: =(X10-(2%/12))/N10 -> #DIV/0! | AI10: =(Y10-(2%/12))/O10 -> #DIV/0! | AJ10: =(Z10-(2%/12))/P10 -> #DIV/0! | AK10: =(AA10-(2%/12))/Q10 -> #DIV/0! | AL10: =(AB10-(2%/12))/R10 -> #DIV/0! | AM10: =(AC10-(2%/12))/S10 -> #DIV/0! | AN10: =(AD10-(2%/12))/T10 -> #DIV/0! | AO10: =(AE10-(2%/12))/U10 -> #DIV/0!
A11: =Main!B11 -> 41516 | B11: =Main!C11/Main!C10-1 -> -0.0017897513 | C11: =Main!D11/Main!D10-1 -> #DIV/0! | D11: =Main!E11/Main!E10-1 -> #DIV/0! | E11: =Main!F11/Main!F10-1 -> #DIV/0! | F11: =Main!G11/Main!G10-1 -> #DIV/0! | G11: =Main!H11/Main!H10-1 -> #DIV/0! | H11: =Main!I11/Main!I10-1 -> #DIV/0! | I11: =Main!J11/Main!J10-1 -> #DIV/0! | J11: =Main!K11/Main!K10-1 -> #DIV/0! | K11: =0.5*C11+0.1*D11+0.1*E11+0.1*F11+0.1*G11+0.05*H11+0.05*I11 -> #DIV/0! | M11: =STDEV($B$4:B11) -> 0.028342599 | N11: =STDEV($C$4:C11) -> #DIV/0! | O11: =STDEV($D$4:D11) -> #DIV/0! | P11: =STDEV($E$4:E11) -> #DIV/0! | Q11: =STDEV($F$4:F11) -> #DIV/0! | R11: =STDEV($G$4:G11) -> #DIV/0! | S11: =STDEV($H$4:H11) -> #DIV/0! | T11: =STDEV($I$4:I11) -> #DIV/0! | U11: =STDEV($J$4:J11) -> #DIV/0! | W11: =AVERAGE($B$4:B11) -> 0.0071541498 | X11: =AVERAGE($C$4:C11) -> #DIV/0! | Y11: =AVERAGE($D$4:D11) -> #DIV/0! | Z11: =AVERAGE($E$4:E11) -> #DIV/0! | AA11: =AVERAGE($F$4:F11) -> #DIV/0! | AB11: =AVERAGE($G$4:G11) -> #DIV/0! | AC11: =AVERAGE($H$4:H11) -> #DIV/0! | AD11: =AVERAGE($I$4:I11) -> #DIV/0! | AE11: =AVERAGE($J$4:J11) -> #DIV/0! | AG11: =(W11-(2%/12))/M11 -> 0.19361256 | AH11: =(X11-(2%/12))/N11 -> #DIV/0! | AI11: =(Y11-(2%/12))/O11 -> #DIV/0! | AJ11: =(Z11-(2%/12))/P11 -> #DIV/0! | AK11: =(AA11-(2%/12))/Q11 -> #DIV/0! | AL11: =(AB11-(2%/12))/R11 -> #DIV/0! | AM11: =(AC11-(2%/12))/S11 -> #DIV/0! | AN11: =(AD11-(2%/12))/T11 -> #DIV/0! | AO11: =(AE11-(2%/12))/U11 -> #DIV/0!
A12: =Main!B12 -> 41547 | B12: =Main!C12/Main!C11-1 -> 0.024252147 | C12: =Main!D12/Main!D11-1 -> #DIV/0! | D12: =Main!E12/Main!E11-1 -> #DIV/0! | E12: =Main!F12/Main!F11-1 -> #DIV/0! | F12: =Main!G12/Main!G11-1 -> #DIV/0! | G12: =Main!H12/Main!H11-1 -> #DIV/0! | H12: =Main!I12/Main!I11-1 -> #DIV/0! | I12: =Main!J12/Main!J11-1 -> #DIV/0! | J12: =Main!K12/Main!K11-1 -> #DIV/0! | K12: =0.5*C12+0.1*D12+0.1*E12+0.1*F12+0.1*G12+0.05*H12+0.05*I12 -> #DIV/0! | M12: =STDEV($B$4:B12) -> 0.027117752 | N12: =STDEV($C$4:C12) -> #DIV/0! | O12: =STDEV($D$4:D12) -> #DIV/0! | P12: =STDEV($E$4:E12) -> #DIV/0! | Q12: =STDEV($F$4:F12) -> #DIV/0! | R12: =STDEV($G$4:G12) -> #DIV/0! | S12: =STDEV($H$4:H12) -> #DIV/0! | T12: =STDEV($I$4:I12) -> #DIV/0! | U12: =STDEV($J$4:J12) -> #DIV/0! | W12: =AVERAGE($B$4:B12) -> 0.0090539273 | X12: =AVERAGE($C$4:C12) -> #DIV/0! | Y12: =AVERAGE($D$4:D12) -> #DIV/0! | Z12: =AVERAGE($E$4:E12) -> #DIV/0! | AA12: =AVERAGE($F$4:F12) -> #DIV/0! | AB12: =AVERAGE($G$4:G12) -> #DIV/0! | AC12: =AVERAGE($H$4:H12) -> #DIV/0! | AD12: =AVERAGE($I$4:I12) -> #DIV/0! | AE12: =AVERAGE($J$4:J12) -> #DIV/0! | AG12: =(W12-(2%/12))/M12 -> 0.2724142 | AH12: =(X12-(2%/12))/N12 -> #DIV/0! | AI12: =(Y12-(2%/12))/O12 -> #DIV/0! | AJ12: =(Z12-(2%/12))/P12 -> #DIV/0! | AK12: =(AA12-(2%/12))/Q12 -> #DIV/0! | AL12: =(AB12-(2%/12))/R12 -> #DIV/0! | AM12: =(AC12-(2%/12))/S12 -> #DIV/0! | AN12: =(AD12-(2%/12))/T12 -> #DIV/0! | AO12: =(AE12-(2%/12))/U12 -> #DIV/0!
A13: =Main!B13 -> 41578 | B13: =Main!C13/Main!C12-1 -> 0.017320803 | C13: =Main!D13/Main!D12-1 -> #DIV/0! | D13: =Main!E13/Main!E12-1 -> #DIV/0! | E13: =Main!F13/Main!F12-1 -> #DIV/0! | F13: =Main!G13/Main!G12-1 -> #DIV/0! | G13: =Main!H13/Main!H12-1 -> #DIV/0! | H13: =Main!I13/Main!I12-1 -> #DIV/0! | I13: =Main!J13/Main!J12-1 -> #DIV/0! | J13: =Main!K13/Main!K12-1 -> #DIV/0! | K13: =0.5*C13+0.1*D13+0.1*E13+0.1*F13+0.1*G13+0.05*H13+0.05*I13 -> #DIV/0! | M13: =STDEV($B$4:B13) -> 0.025700166 | N13: =STDEV($C$4:C13) -> #DIV/0! | O13: =STDEV($D$4:D13) -> #DIV/0! | P13: =STDEV($E$4:E13) -> #DIV/0! | Q13: =STDEV($F$4:F13) -> #DIV/0! | R13: =STDEV($G$4:G13) -> #DIV/0! | S13: =STDEV($H$4:H13) -> #DIV/0! | T13: =STDEV($I$4:I13) -> #DIV/0! | U13: =STDEV($J$4:J13) -> #DIV/0! | W13: =AVERAGE($B$4:B13) -> 0.0098806149 | X13: =AVERAGE($C$4:C13) -> #DIV/0! | Y13: =AVERAGE($D$4:D13) -> #DIV/0! | Z13: =AVERAGE($E$4:E13) -> #DIV/0! | AA13: =AVERAGE($F$4:F13) -> #DIV/0! | AB13: =AVERAGE($G$4:G13) -> #DIV/0! | AC13: =AVERAGE($H$4:H13) -> #DIV/0! | AD13: =AVERAGE($I$4:I13) -> #DIV/0! | AE13: =AVERAGE($J$4:J13) -> #DIV/0! | AG13: =(W13-(2%/12))/M13 -> 0.31960682 | AH13: =(X13-(2%/12))/N13 -> #DIV/0! | AI13: =(Y13-(2%/12))/O13 -> #DIV/0! | AJ13: =(Z13-(2%/12))/P13 -> #DIV/0! | AK13: =(AA13-(2%/12))/Q13 -> #DIV/0! | AL13: =(AB13-(2%/12))/R13 -> #DIV/0! | AM13: =(AC13-(2%/12))/S13 -> #DIV/0! | AN13: =(AD13-(2%/12))/T13 -> #DIV/0! | AO13: =(AE13-(2%/12))/U13 -> #DIV/0!
A14: =Main!B14 -> 41607 | B14: =Main!C14/Main!C13-1 -> 0.02001449 | C14: =Main!D14/Main!D13-1 -> #DIV/0! | D14: =Main!E14/Main!E13-1 -> #DIV/0! | E14: =Main!F14/Main!F13-1 -> #DIV/0! | F14: =Main!G14/Main!G13-1 -> #DIV/0! | G14: =Main!H14/Main!H13-1 -> #DIV/0! | H14: =Main!I14/Main!I13-1 -> #DIV/0! | I14: =Main!J14/Main!J13-1 -> #DIV/0! | J14: =Main!K14/Main!K13-1 -> #DIV/0! | K14: =0.5*C14+0.1*D14+0.1*E14+0.1*F14+0.1*G14+0.05*H14+0.05*I14 -> #DIV/0! | M14: =STDEV($B$4:B14) -> 0.024572029 | N14: =STDEV($C$4:C14) -> #DIV/0! | O14: =STDEV($D$4:D14) -> #DIV/0! | P14: =STDEV($E$4:E14) -> #DIV/0! | Q14: =STDEV($F$4:F14) -> #DIV/0! | R14: =STDEV($G$4:G14) -> #DIV/0! | S14: =STDEV($H$4:H14) -> #DIV/0! | T14: =STDEV($I$4:I14) -> #DIV/0! | U14: =STDEV($J$4:J14) -> #DIV/0! | W14: =AVERAGE($B$4:B14) -> 0.010801876 | X14: =AVERAGE($C$4:C14) -> #DIV/0! | Y14: =AVERAGE($D$4:D14) -> #DIV/0! | Z14: =AVERAGE($E$4:E14) -> #DIV/0! | AA14: =AVERAGE($F$4:F14) -> #DIV/0! | AB14: =AVERAGE($G$4:G14) -> #DIV/0! | AC14: =AVERAGE($H$4:H14) -> #DIV/0! | AD14: =AVERAGE($I$4:I14) -> #DIV/0! | AE14: =AVERAGE($J$4:J14) -> #DIV/0! | AG14: =(W14-(2%/12))/M14 -> 0.3717727 | AH14: =(X14-(2%/12))/N14 -> #DIV/0! | AI14: =(Y14-(2%/12))/O14 -> #DIV/0! | AJ14: =(Z14-(2%/12))/P14 -> #DIV/0! | AK14: =(AA14-(2%/12))/Q14 -> #DIV/0! | AL14: =(AB14-(2%/12))/R14 -> #DIV/0! | AM14: =(AC14-(2%/12))/S14 -> #DIV/0! | AN14: =(AD14-(2%/12))/T14 -> #DIV/0! | AO14: =(AE14-(2%/12))/U14 -> #DIV/0!
A15: =Main!B15 -> 41639 | B15: =Main!C15/Main!C14-1 -> 0.010032851 | C15: =Main!D15/Main!D14-1 -> #DIV/0! | D15: =Main!E15/Main!E14-1 -> #DIV/0! | E15: =Main!F15/Main!F14-1 -> #DIV/0! | F15: =Main!G15/Main!G14-1 -> #DIV/0! | G15: =Main!H15/Main!H14-1 -> #DIV/0! | H15: =Main!I15/Main!I14-1 -> #DIV/0! | I15: =Main!J15/Main!J14-1 -> #DIV/0! | J15: =Main!K15/Main!K14-1 -> #DIV/0! | K15: =0.5*C15+0.1*D15+0.1*E15+0.1*F15+0.1*G15+0.05*H15+0.05*I15 -> #DIV/0! | M15: =STDEV($B$4:B15) -> 0.023429562 | N15: =STDEV($C$4:C15) -> #DIV/0! | O15: =STDEV($D$4:D15) -> #DIV/0! | P15: =STDEV($E$4:E15) -> #DIV/0! | Q15: =STDEV($F$4:F15) -> #DIV/0! | R15: =STDEV($G$4:G15) -> #DIV/0! | S15: =STDEV($H$4:H15) -> #DIV/0! | T15: =STDEV($I$4:I15) -> #DIV/0! | U15: =STDEV($J$4:J15) -> #DIV/0! | W15: =AVERAGE($B$4:B15) -> 0.010737791 | X15: =AVERAGE($C$4:C15) -> #DIV/0! | Y15: =AVERAGE($D$4:D15) -> #DIV/0! | Z15: =AVERAGE($E$4:E15) -> #DIV/0! | AA15: =AVERAGE($F$4:F15) -> #DIV/0! | AB15: =AVERAGE($G$4:G15) -> #DIV/0! | AC15: =AVERAGE($H$4:H15) -> #DIV/0! | AD15: =AVERAGE($I$4:I15) -> #DIV/0! | AE15: =AVERAGE($J$4:J15) -> #DIV/0! | AG15: =(W15-(2%/12))/M15 -> 0.38716575 | AH15: =(X15-(2%/12))/N15 -> #DIV/0! | AI15: =(Y15-(2%/12))/O15 -> #DIV/0! | AJ15: =(Z15-(2%/12))/P15 -> #DIV/0! | AK15: =(AA15-(2%/12))/Q15 -> #DIV/0! | AL15: =(AB15-(2%/12))/R15 -> #DIV/0! | AM15: =(AC15-(2%/12))/S15 -> #DIV/0! | AN15: =(AD15-(2%/12))/T15 -> #DIV/0! | AO15: =(AE15-(2%/12))/U15 -> #DIV/0!
A16: =Main!B16 -> 41670 | B16: =Main!C16/Main!C15-1 -> -0.0011427567 | C16: =Main!D16/Main!D15-1 -> #DIV/0! | D16: =Main!E16/Main!E15-1 -> #DIV/0! | E16: =Main!F16/Main!F15-1 -> #DIV/0! | F16: =Main!G16/Main!G15-1 -> #DIV/0! | G16: =Main!H16/Main!H15-1 -> #DIV/0! | H16: =Main!I16/Main!I15-1 -> #DIV/0! | I16: =Main!J16/Main!J15-1 -> #DIV/0! | J16: =Main!K16/Main!K15-1 -> #DIV/0! | K16: =0.5*C16+0.1*D16+0.1*E16+0.1*F16+0.1*G16+0.05*H16+0.05*I16 -> #DIV/0! | L16: =(1+B4)*(1+B5)*(1+B6)*(1+B7)*(1+B8)*(1+B9)*(1+B10)*(1+B11)*(1+B12)*(1+B13)*(1+B14)*(1+B15)-1 -> 0.1334064 | M16: =STDEV($B$4:B16) -> 0.022672814 | N16: =STDEV($C$4:C16) -> #DIV/0! | O16: =STDEV($D$4:D16) -> #DIV/0! | P16: =STDEV($E$4:E16) -> #DIV/0! | Q16: =STDEV($F$4:F16) -> #DIV/0! | R16: =STDEV($G$4:G16) -> #DIV/0! | S16: =STDEV($H$4:H16) -> #DIV/0! | T16: =STDEV($I$4:I16) -> #DIV/0! | U16: =STDEV($J$4:J16) -> #DIV/0! | W16: =AVERAGE($B$4:B16) -> 0.0098239026 | X16: =AVERAGE($C$4:C16) -> #DIV/0! | Y16: =AVERAGE($D$4:D16) -> #DIV/0! | Z16: =AVERAGE($E$4:E16) -> #DIV/0! | AA16: =AVERAGE($F$4:F16) -> #DIV/0! | AB16: =AVERAGE($G$4:G16) -> #DIV/0! | AC16: =AVERAGE($H$4:H16) -> #DIV/0! | AD16: =AVERAGE($I$4:I16) -> #DIV/0! | AE16: =AVERAGE($J$4:J16) -> #DIV/0! | AG16: =(W16-(2%/12))/M16 -> 0.35978047 | AH16: =(X16-(2%/12))/N16 -> #DIV/0! | AI16: =(Y16-(2%/12))/O16 -> #DIV/0! | AJ16: =(Z16-(2%/12))/P16 -> #DIV/0! | AK16: =(AA16-(2%/12))/Q16 -> #DIV/0! | AL16: =(AB16-(2%/12))/R16 -> #DIV/0! | AM16: =(AC16-(2%/12))/S16 -> #DIV/0! | AN16: =(AD16-(2%/12))/T16 -> #DIV/0! | AO16: =(AE16-(2%/12))/U16 -> #DIV/0!
A17: =Main!B17 -> 41698 | B17: =Main!C17/Main!C16-1 -> 0.015136848 | C17: =Main!D17/Main!D16-1 -> #DIV/0! | D17: =Main!E17/Main!E16-1 -> #DIV/0! | E17: =Main!F17/Main!F16-1 -> #DIV/0! | F17: =Main!G17/Main!G16-1 -> #DIV/0! | G17: =Main!H17/Main!H16-1 -> #DIV/0! | H17: =Main!I17/Main!I16-1 -> #DIV/0! | I17: =Main!J17/Main!J16-1 -> #DIV/0! | J17: =Main!K17/Main!K16-1 -> #DIV/0! | K17: =0.5*C17+0.1*D17+0.1*E17+0.1*F17+0.1*G17+0.05*H17+0.05*I17 -> #DIV/0! | M17: =STDEV($B$4:B17) -> 0.021829566 | N17: =STDEV($C$4:C17) -> #DIV/0! | O17: =STDEV($D$4:D17) -> #DIV/0! | P17: =STDEV($E$4:E17) -> #DIV/0! | Q17: =STDEV($F$4:F17) -> #DIV/0! | R17: =STDEV($G$4:G17) -> #DIV/0! | S17: =STDEV($H$4:H17) -> #DIV/0! | T17: =STDEV($I$4:I17) -> #DIV/0! | U17: =STDEV($J$4:J17) -> #DIV/0! | W17: =AVERAGE($B$4:B17) -> 0.010203399 | X17: =AVERAGE($C$4:C17) -> #DIV/0! | Y17: =AVERAGE($D$4:D17) -> #DIV/0! | Z17: =AVERAGE($E$4:E17) -> #DIV/0! | AA17: =AVERAGE($F$4:F17) -> #DIV/0! | AB17: =AVERAGE($G$4:G17) -> #DIV/0! | AC17: =AVERAGE($H$4:H17) -> #DIV/0! | AD17: =AVERAGE($I$4:I17) -> #DIV/0! | AE17: =AVERAGE($J$4:J17) -> #DIV/0! | AG17: =(W17-(2%/12))/M17 -> 0.39106284 | AH17: =(X17-(2%/12))/N17 -> #DIV/0! | AI17: =(Y17-(2%/12))/O17 -> #DIV/0! | AJ17: =(Z17-(2%/12))/P17 -> #DIV/0! | AK17: =(AA17-(2%/12))/Q17 -> #DIV/0! | AL17: =(AB17-(2%/12))/R17 -> #DIV/0! | AM17: =(AC17-(2%/12))/S17 -> #DIV/0! | AN17: =(AD17-(2%/12))/T17 -> #DIV/0! | AO17: =(AE17-(2%/12))/U17 -> #DIV/0!
A18: =Main!B18 -> 41729 | B18: =Main!C18/Main!C17-1 -> 0.0051148678 | C18: =Main!D18/Main!D17-1 -> #DIV/0! | D18: =Main!E18/Main!E17-1 -> #DIV/0! | E18: =Main!F18/Main!F17-1 -> #DIV/0! | F18: =Main!G18/Main!G17-1 -> #DIV/0! | G18: =Main!H18/Main!H17-1 -> #DIV/0! | H18: =Main!I18/Main!I17-1 -> #DIV/0! | I18: =Main!J18/Main!J17-1 -> #DIV/0! | J18: =Main!K18/Main!K17-1 -> #DIV/0! | K18: =0.5*C18+0.1*D18+0.1*E18+0.1*F18+0.1*G18+0.05*H18+0.05*I18 -> #DIV/0! | M18: =STDEV($B$4:B18) -> 0.021076487 | N18: =STDEV($C$4:C18) -> #DIV/0! | O18: =STDEV($D$4:D18) -> #DIV/0! | P18: =STDEV($E$4:E18) -> #DIV/0! | Q18: =STDEV($F$4:F18) -> #DIV/0! | R18: =STDEV($G$4:G18) -> #DIV/0! | S18: =STDEV($H$4:H18) -> #DIV/0! | T18: =STDEV($I$4:I18) -> #DIV/0! | U18: =STDEV($J$4:J18) -> #DIV/0! | W18: =AVERAGE($B$4:B18) -> 0.0098641632 | X18: =AVERAGE($C$4:C18) -> #DIV/0! | Y18: =AVERAGE($D$4:D18) -> #DIV/0! | Z18: =AVERAGE($E$4:E18) -> #DIV/0! | AA18: =AVERAGE($F$4:F18) -> #DIV/0! | AB18: =AVERAGE($G$4:G18) -> #DIV/0! | AC18: =AVERAGE($H$4:H18) -> #DIV/0! | AD18: =AVERAGE($I$4:I18) -> #DIV/0! | AE18: =AVERAGE($J$4:J18) -> #DIV/0! | AG18: =(W18-(2%/12))/M18 -> 0.38894037 | AH18: =(X18-(2%/12))/N18 -> #DIV/0! | AI18: =(Y18-(2%/12))/O18 -> #DIV/0! | AJ18: =(Z18-(2%/12))/P18 -> #DIV/0! | AK18: =(AA18-(2%/12))/Q18 -> #DIV/0! | AL18: =(AB18-(2%/12))/R18 -> #DIV/0! | AM18: =(AC18-(2%/12))/S18 -> #DIV/0! | AN18: =(AD18-(2%/12))/T18 -> #DIV/0! | AO18: =(AE18-(2%/12))/U18 -> #DIV/0!
A19: =Main!B19 -> 41759 | B19: =Main!C19/Main!C18-1 -> 0.0094014145 | C19: =Main!D19/Main!D18-1 -> #DIV/0! | D19: =Main!E19/Main!E18-1 -> #DIV/0! | E19: =Main!F19/Main!F18-1 -> #DIV/0! | F19: =Main!G19/Main!G18-1 -> #DIV/0! | G19: =Main!H19/Main!H18-1 -> #DIV/0! | H19: =Main!I19/Main!I18-1 -> #DIV/0! | I19: =Main!J19/Main!J18-1 -> #DIV/0! | J19: =Main!K19/Main!K18-1 -> #DIV/0! | K19: =0.5*C19+0.1*D19+0.1*E19+0.1*F19+0.1*G19+0.05*H19+0.05*I19 -> #DIV/0! | M19: =STDEV($B$4:B19) -> 0.02036215 | N19: =STDEV($C$4:C19) -> #DIV/0! | O19: =STDEV($D$4:D19) -> #DIV/0! | P19: =STDEV($E$4:E19) -> #DIV/0! | Q19: =STDEV($F$4:F19) -> #DIV/0! | R19: =STDEV($G$4:G19) -> #DIV/0! | S19: =STDEV($H$4:H19) -> #DIV/0! | T19: =STDEV($I$4:I19) -> #DIV/0! | U19: =STDEV($J$4:J19) -> #DIV/0! | W19: =AVERAGE($B$4:B19) -> 0.0098352415 | X19: =AVERAGE($C$4:C19) -> #DIV/0! | Y19: =AVERAGE($D$4:D19) -> #DIV/0! | Z19: =AVERAGE($E$4:E19) -> #DIV/0! | AA19: =AVERAGE($F$4:F19) -> #DIV/0! | AB19: =AVERAGE($G$4:G19) -> #DIV/0! | AC19: =AVERAGE($H$4:H19) -> #DIV/0! | AD19: =AVERAGE($I$4:I19) -> #DIV/0! | AE19: =AVERAGE($J$4:J19) -> #DIV/0! | AG19: =(W19-(2%/12))/M19 -> 0.40116466 | AH19: =(X19-(2%/12))/N19 -> #DIV/0! | AI19: =(Y19-(2%/12))/O19 -> #DIV/0! | AJ19: =(Z19-(2%/12))/P19 -> #DIV/0! | AK19: =(AA19-(2%/12))/Q19 -> #DIV/0! | AL19: =(AB19-(2%/12))/R19 -> #DIV/0! | AM19: =(AC19-(2%/12))/S19 -> #DIV/0! | AN19: =(AD19-(2%/12))/T19 -> #DIV/0! | AO19: =(AE19-(2%/12))/U19 -> #DIV/0!
A20: =Main!B20 -> 41789 | B20: =Main!C20/Main!C19-1 -> 0.012048193 | C20: =Main!D20/Main!D19-1 -> #DIV/0! | D20: =Main!E20/Main!E19-1 -> #DIV/0! | E20: =Main!F20/Main!F19-1 -> #DIV/0! | F20: =Main!G20/Main!G19-1 -> #DIV/0! | G20: =Main!H20/Main!H19-1 -> #DIV/0! | H20: =Main!I20/Main!I19-1 -> #DIV/0! | I20: =Main!J20/Main!J19-1 -> #DIV/0! | J20: =Main!K20/Main!K19-1 -> #DIV/0! | K20: =0.5*C20+0.1*D20+0.1*E20+0.1*F20+0.1*G20+0.05*H20+0.05*I20 -> #DIV/0! | M20: =STDEV($B$4:B20) -> 0.019722871 | N20: =STDEV($C$4:C20) -> #DIV/0! | O20: =STDEV($D$4:D20) -> #DIV/0! | P20: =STDEV($E$4:E20) -> #DIV/0! | Q20: =STDEV($F$4:F20) -> #DIV/0! | R20: =STDEV($G$4:G20) -> #DIV/0! | S20: =STDEV($H$4:H20) -> #DIV/0! | T20: =STDEV($I$4:I20) -> #DIV/0! | U20: =STDEV($J$4:J20) -> #DIV/0! | W20: =AVERAGE($B$4:B20) -> 0.0099654151 | X20: =AVERAGE($C$4:C20) -> #DIV/0! | Y20: =AVERAGE($D$4:D20) -> #DIV/0! | Z20: =AVERAGE($E$4:E20) -> #DIV/0! | AA20: =AVERAGE($F$4:F20) -> #DIV/0! | AB20: =AVERAGE($G$4:G20) -> #DIV/0! | AC20: =AVERAGE($H$4:H20) -> #DIV/0! | AD20: =AVERAGE($I$4:I20) -> #DIV/0! | AE20: =AVERAGE($J$4:J20) -> #DIV/0! | AG20: =(W20-(2%/12))/M20 -> 0.42076777 | AH20: =(X20-(2%/12))/N20 -> #DIV/0! | AI20: =(Y20-(2%/12))/O20 -> #DIV/0! | AJ20: =(Z20-(2%/12))/P20 -> #DIV/0! | AK20: =(AA20-(2%/12))/Q20 -> #DIV/0! | AL20: =(AB20-(2%/12))/R20 -> #DIV/0! | AM20: =(AC20-(2%/12))/S20 -> #DIV/0! | AN20: =(AD20-(2%/12))/T20 -> #DIV/0! | AO20: =(AE20-(2%/12))/U20 -> #DIV/0!
A21: =Main!B21 -> 41820 | B21: =Main!C21/Main!C20-1 -> 0.012580209 | C21: =Main!D21/Main!D20-1 -> #DIV/0! | D21: =Main!E21/Main!E20-1 -> #DIV/0! | E21: =Main!F21/Main!F20-1 -> #DIV/0! | F21: =Main!G21/Main!G20-1 -> #DIV/0! | G21: =Main!H21/Main!H20-1 -> #DIV/0! | H21: =Main!I21/Main!I20-1 -> #DIV/0! | I21: =Main!J21/Main!J20-1 -> #DIV/0! | J21: =Main!K21/Main!K20-1 -> #DIV/0! | K21: =0.5*C21+0.1*D21+0.1*E21+0.1*F21+0.1*G21+0.05*H21+0.05*I21 -> #DIV/0! | M21: =STDEV($B$4:B21) -> 0.019143918 | N21: =STDEV($C$4:C21) -> #DIV/0! | O21: =STDEV($D$4:D21) -> #DIV/0! | P21: =STDEV($E$4:E21) -> #DIV/0! | Q21: =STDEV($F$4:F21) -> #DIV/0! | R21: =STDEV($G$4:G21) -> #DIV/0! | S21: =STDEV($H$4:H21) -> #DIV/0! | T21: =STDEV($I$4:I21) -> #DIV/0! | U21: =STDEV($J$4:J21) -> #DIV/0! | W21: =AVERAGE($B$4:B21) -> 0.010110681 | X21: =AVERAGE($C$4:C21) -> #DIV/0! | Y21: =AVERAGE($D$4:D21) -> #DIV/0! | Z21: =AVERAGE($E$4:E21) -> #DIV/0! | AA21: =AVERAGE($F$4:F21) -> #DIV/0! | AB21: =AVERAGE($G$4:G21) -> #DIV/0! | AC21: =AVERAGE($H$4:H21) -> #DIV/0! | AD21: =AVERAGE($I$4:I21) -> #DIV/0! | AE21: =AVERAGE($J$4:J21) -> #DIV/0! | AG21: =(W21-(2%/12))/M21 -> 0.44108079 | AH21: =(X21-(2%/12))/N21 -> #DIV/0! | AI21: =(Y21-(2%/12))/O21 -> #DIV/0! | AJ21: =(Z21-(2%/12))/P21 -> #DIV/0! | AK21: =(AA21-(2%/12))/Q21 -> #DIV/0! | AL21: =(AB21-(2%/12))/R21 -> #DIV/0! | AM21: =(AC21-(2%/12))/S21 -> #DIV/0! | AN21: =(AD21-(2%/12))/T21 -> #DIV/0! | AO21: =(AE21-(2%/12))/U21 -> #DIV/0!
A22: =Main!B22 -> 41851 | B22: =Main!C22/Main!C21-1 -> 0.035687484 | C22: =Main!D22/Main!D21-1 -> #DIV/0! | D22: =Main!E22/Main!E21-1 -> #DIV/0! | E22: =Main!F22/Main!F21-1 -> #DIV/0! | F22: =Main!G22/Main!G21-1 -> #DIV/0! | G22: =Main!H22/Main!H21-1 -> #DIV/0! | H22: =Main!I22/Main!I21-1 -> #DIV/0! | I22: =Main!J22/Main!J21-1 -> #DIV/0! | J22: =Main!K22/Main!K21-1 -> #DIV/0! | K22: =0.5*C22+0.1*D22+0.1*E22+0.1*F22+0.1*G22+0.05*H22+0.05*I22 -> #DIV/0! | M22: =STDEV($B$4:B22) -> 0.019507927 | N22: =STDEV($C$4:C22) -> #DIV/0! | O22: =STDEV($D$4:D22) -> #DIV/0! | P22: =STDEV($E$4:E22) -> #DIV/0! | Q22: =STDEV($F$4:F22) -> #DIV/0! | R22: =STDEV($G$4:G22) -> #DIV/0! | S22: =STDEV($H$4:H22) -> #DIV/0! | T22: =STDEV($I$4:I22) -> #DIV/0! | U22: =STDEV($J$4:J22) -> #DIV/0! | W22: =AVERAGE($B$4:B22) -> 0.011456829 | X22: =AVERAGE($C$4:C22) -> #DIV/0! | Y22: =AVERAGE($D$4:D22) -> #DIV/0! | Z22: =AVERAGE($E$4:E22) -> #DIV/0! | AA22: =AVERAGE($F$4:F22) -> #DIV/0! | AB22: =AVERAGE($G$4:G22) -> #DIV/0! | AC22: =AVERAGE($H$4:H22) -> #DIV/0! | AD22: =AVERAGE($I$4:I22) -> #DIV/0! | AE22: =AVERAGE($J$4:J22) -> #DIV/0! | AG22: =(W22-(2%/12))/M22 -> 0.50185558 | AH22: =(X22-(2%/12))/N22 -> #DIV/0! | AI22: =(Y22-(2%/12))/O22 -> #DIV/0! | AJ22: =(Z22-(2%/12))/P22 -> #DIV/0! | AK22: =(AA22-(2%/12))/Q22 -> #DIV/0! | AL22: =(AB22-(2%/12))/R22 -> #DIV/0! | AM22: =(AC22-(2%/12))/S22 -> #DIV/0! | AN22: =(AD22-(2%/12))/T22 -> #DIV/0! | AO22: =(AE22-(2%/12))/U22 -> #DIV/0!
A23: =Main!B23 -> 41880 | B23: =Main!C23/Main!C22-1 -> 0.017953466 | C23: =Main!D23/Main!D22-1 -> #DIV/0! | D23: =Main!E23/Main!E22-1 -> #DIV/0! | E23: =Main!F23/Main!F22-1 -> #DIV/0! | F23: =Main!G23/Main!G22-1 -> #DIV/0! | G23: =Main!H23/Main!H22-1 -> #DIV/0! | H23: =Main!I23/Main!I22-1 -> #DIV/0! | I23: =Main!J23/Main!J22-1 -> #DIV/0! | J23: =Main!K23/Main!K22-1 -> #DIV/0! | K23: =0.5*C23+0.1*D23+0.1*E23+0.1*F23+0.1*G23+0.05*H23+0.05*I23 -> #DIV/0! | M23: =STDEV($B$4:B23) -> 0.019043112 | N23: =STDEV($C$4:C23) -> #DIV/0! | O23: =STDEV($D$4:D23) -> #DIV/0! | P23: =STDEV($E$4:E23) -> #DIV/0! | Q23: =STDEV($F$4:F23) -> #DIV/0! | R23: =STDEV($G$4:G23) -> #DIV/0! | S23: =STDEV($H$4:H23) -> #DIV/0! | T23: =STDEV($I$4:I23) -> #DIV/0! | U23: =STDEV($J$4:J23) -> #DIV/0! | W23: =AVERAGE($B$4:B23) -> 0.011781661 | X23: =AVERAGE($C$4:C23) -> #DIV/0! | Y23: =AVERAGE($D$4:D23) -> #DIV/0! | Z23: =AVERAGE($E$4:E23) -> #DIV/0! | AA23: =AVERAGE($F$4:F23) -> #DIV/0! | AB23: =AVERAGE($G$4:G23) -> #DIV/0! | AC23: =AVERAGE($H$4:H23) -> #DIV/0! | AD23: =AVERAGE($I$4:I23) -> #DIV/0! | AE23: =AVERAGE($J$4:J23) -> #DIV/0! | AG23: =(W23-(2%/12))/M23 -> 0.53116288 | AH23: =(X23-(2%/12))/N23 -> #DIV/0! | AI23: =(Y23-(2%/12))/O23 -> #DIV/0! | AJ23: =(Z23-(2%/12))/P23 -> #DIV/0! | AK23: =(AA23-(2%/12))/Q23 -> #DIV/0! | AL23: =(AB23-(2%/12))/R23 -> #DIV/0! | AM23: =(AC23-(2%/12))/S23 -> #DIV/0! | AN23: =(AD23-(2%/12))/T23 -> #DIV/0! | AO23: =(AE23-(2%/12))/U23 -> #DIV/0!
A24: =Main!B24 -> 41912 | B24: =Main!C24/Main!C23-1 -> 0.0011072445 | C24: =Main!D24/Main!D23-1 -> #DIV/0! | D24: =Main!E24/Main!E23-1 -> #DIV/0! | E24: =Main!F24/Main!F23-1 -> #DIV/0! | F24: =Main!G24/Main!G23-1 -> #DIV/0! | G24: =Main!H24/Main!H23-1 -> #DIV/0! | H24: =Main!I24/Main!I23-1 -> #DIV/0! | I24: =Main!J24/Main!J23-1 -> #DIV/0! | J24: =Main!K24/Main!K23-1 -> #DIV/0! | K24: =0.5*C24+0.1*D24+0.1*E24+0.1*F24+0.1*G24+0.05*H24+0.05*I24 -> #DIV/0! | M24: =STDEV($B$4:B24) -> 0.018706522 | N24: =STDEV($C$4:C24) -> #DIV/0! | O24: =STDEV($D$4:D24) -> #DIV/0! | P24: =STDEV($E$4:E24) -> #DIV/0! | Q24: =STDEV($F$4:F24) -> #DIV/0! | R24: =STDEV($G$4:G24) -> #DIV/0! | S24: =STDEV($H$4:H24) -> #DIV/0! | T24: =STDEV($I$4:I24) -> #DIV/0! | U24: =STDEV($J$4:J24) -> #DIV/0! | W24: =AVERAGE($B$4:B24) -> 0.011273355 | X24: =AVERAGE($C$4:C24) -> #DIV/0! | Y24: =AVERAGE($D$4:D24) -> #DIV/0! | Z24: =AVERAGE($E$4:E24) -> #DIV/0! | AA24: =AVERAGE($F$4:F24) -> #DIV/0! | AB24: =AVERAGE($G$4:G24) -> #DIV/0! | AC24: =AVERAGE($H$4:H24) -> #DIV/0! | AD24: =AVERAGE($I$4:I24) -> #DIV/0! | AE24: =AVERAGE($J$4:J24) -> #DIV/0! | AG24: =(W24-(2%/12))/M24 -> 0.51354755 | AH24: =(X24-(2%/12))/N24 -> #DIV/0! | AI24: =(Y24-(2%/12))/O24 -> #DIV/0! | AJ24: =(Z24-(2%/12))/P24 -> #DIV/0! | AK24: =(AA24-(2%/12))/Q24 -> #DIV/0! | AL24: =(AB24-(2%/12))/R24 -> #DIV/0! | AM24: =(AC24-(2%/12))/S24 -> #DIV/0! | AN24: =(AD24-(2%/12))/T24 -> #DIV/0! | AO24: =(AE24-(2%/12))/U24 -> #DIV/0!
A25: =Main!B25 -> 41943 | B25: =Main!C25/Main!C24-1 -> 0.0067151209 | C25: =Main!D25/Main!D24-1 -> #DIV/0! | D25: =Main!E25/Main!E24-1 -> #DIV/0! | E25: =Main!F25/Main!F24-1 -> #DIV/0! | F25: =Main!G25/Main!G24-1 -> #DIV/0! | G25: =Main!H25/Main!H24-1 -> #DIV/0! | H25: =Main!I25/Main!I24-1 -> #DIV/0! | I25: =Main!J25/Main!J24-1 -> #DIV/0! | J25: =Main!K25/Main!K24-1 -> #DIV/0! | K25: =0.5*C25+0.1*D25+0.1*E25+0.1*F25+0.1*G25+0.05*H25+0.05*I25 -> #DIV/0! | M25: =STDEV($B$4:B25) -> 0.018281545 | N25: =STDEV($C$4:C25) -> #DIV/0! | O25: =STDEV($D$4:D25) -> #DIV/0! | P25: =STDEV($E$4:E25) -> #DIV/0! | Q25: =STDEV($F$4:F25) -> #DIV/0! | R25: =STDEV($G$4:G25) -> #DIV/0! | S25: =STDEV($H$4:H25) -> #DIV/0! | T25: =STDEV($I$4:I25) -> #DIV/0! | U25: =STDEV($J$4:J25) -> #DIV/0! | W25: =AVERAGE($B$4:B25) -> 0.011066163 | X25: =AVERAGE($C$4:C25) -> #DIV/0! | Y25: =AVERAGE($D$4:D25) -> #DIV/0! | Z25: =AVERAGE($E$4:E25) -> #DIV/0! | AA25: =AVERAGE($F$4:F25) -> #DIV/0! | AB25: =AVERAGE($G$4:G25) -> #DIV/0! | AC25: =AVERAGE($H$4:H25) -> #DIV/0! | AD25: =AVERAGE($I$4:I25) -> #DIV/0! | AE25: =AVERAGE($J$4:J25) -> #DIV/0! | AG25: =(W25-(2%/12))/M25 -> 0.51415218 | AH25: =(X25-(2%/12))/N25 -> #DIV/0! | AI25: =(Y25-(2%/12))/O25 -> #DIV/0! | AJ25: =(Z25-(2%/12))/P25 -> #DIV/0! | AK25: =(AA25-(2%/12))/Q25 -> #DIV/0! | AL25: =(AB25-(2%/12))/R25 -> #DIV/0! | AM25: =(AC25-(2%/12))/S25 -> #DIV/0! | AN25: =(AD25-(2%/12))/T25 -> #DIV/0! | AO25: =(AE25-(2%/12))/U25 -> #DIV/0!
A26: =Main!B26 -> 41971 | B26: =Main!C26/Main!C25-1 -> 0.010594052 | C26: =Main!D26/Main!D25-1 -> #DIV/0! | M26: =STDEV($B$4:B26) -> 0.017861494 | N26: =STDEV($C$4:C26) -> #DIV/0! | O26: =STDEV($D$4:D26) -> #DIV/0! | P26: =STDEV($E$4:E26) -> #DIV/0! | Q26: =STDEV($F$4:F26) -> #DIV/0! | R26: =STDEV($G$4:G26) -> #DIV/0! | S26: =STDEV($H$4:H26) -> #DIV/0! | T26: =STDEV($I$4:I26) -> #DIV/0! | U26: =STDEV($J$4:J26) -> #DIV/0! | W26: =AVERAGE($B$4:B26) -> 0.011045636 | X26: =AVERAGE($C$4:C26) -> #DIV/0! | Y26: =AVERAGE($D$4:D26) -> #DIV/0! | Z26: =AVERAGE($E$4:E26) -> #DIV/0! | AA26: =AVERAGE($F$4:F26) -> #DIV/0! | AB26: =AVERAGE($G$4:G26) -> #DIV/0! | AC26: =AVERAGE($H$4:H26) -> #DIV/0! | AD26: =AVERAGE($I$4:I26) -> #DIV/0! | AE26: =AVERAGE($J$4:J26) -> #DIV/0! | AG26: =(W26-(2%/12))/M26 -> 0.52509433 | AH26: =(X26-(2%/12))/N26 -> #DIV/0! | AI26: =(Y26-(2%/12))/O26 -> #DIV/0! | AJ26: =(Z26-(2%/12))/P26 -> #DIV/0! | AK26: =(AA26-(2%/12))/Q26 -> #DIV/0! | AL26: =(AB26-(2%/12))/R26 -> #DIV/0! | AM26: =(AC26-(2%/12))/S26 -> #DIV/0! | AN26: =(AD26-(2%/12))/T26 -> #DIV/0! | AO26: =(AE26-(2%/12))/U26 -> #DIV/0!
A27: =Main!B27 -> 42004 | B27: =Main!C27/Main!C26-1 -> -0.015608014 | C27: =Main!D27/Main!D26-1 -> #DIV/0! | D27: =Main!E27/Main!E26-1 -> #DIV/0! | E27: =Main!F27/Main!F26-1 -> #DIV/0! | F27: =Main!G27/Main!G26-1 -> #DIV/0! | G27: =Main!H27/Main!H26-1 -> #DIV/0! | H27: =Main!I27/Main!I26-1 -> #DIV/0! | I27: =Main!J27/Main!J26-1 -> #DIV/0! | J27: =Main!K27/Main!K26-1 -> #DIV/0! | K27: =0.5*C27+0.1*D27+0.1*E27+0.1*F27+0.1*G27+0.05*H27+0.05*I27 -> #DIV/0! | M27: =STDEV($B$4:B27) -> 0.018296521 | N27: =STDEV($C$4:C27) -> #DIV/0! | O27: =STDEV($D$4:D27) -> #DIV/0! | P27: =STDEV($E$4:E27) -> #DIV/0! | Q27: =STDEV($F$4:F27) -> #DIV/0! | R27: =STDEV($G$4:G27) -> #DIV/0! | S27: =STDEV($H$4:H27) -> #DIV/0! | T27: =STDEV($I$4:I27) -> #DIV/0! | U27: =STDEV($J$4:J27) -> #DIV/0! | W27: =AVERAGE($B$4:B27) -> 0.0099350675 | X27: =AVERAGE($C$4:C27) -> #DIV/0! | Y27: =AVERAGE($D$4:D27) -> #DIV/0! | Z27: =AVERAGE($E$4:E27) -> #DIV/0! | AA27: =AVERAGE($F$4:F27) -> #DIV/0! | AB27: =AVERAGE($G$4:G27) -> #DIV/0! | AC27: =AVERAGE($H$4:H27) -> #DIV/0! | AD27: =AVERAGE($I$4:I27) -> #DIV/0! | AE27: =AVERAGE($J$4:J27) -> #DIV/0! | AG27: =(W27-(2%/12))/M27 -> 0.45191108 | AH27: =(X27-(2%/12))/N27 -> #DIV/0! | AI27: =(Y27-(2%/12))/O27 -> #DIV/0! | AJ27: =(Z27-(2%/12))/P27 -> #DIV/0! | AK27: =(AA27-(2%/12))/Q27 -> #DIV/0! | AL27: =(AB27-(2%/12))/R27 -> #DIV/0! | AM27: =(AC27-(2%/12))/S27 -> #DIV/0! | AN27: =(AD27-(2%/12))/T27 -> #DIV/0! | AO27: =(AE27-(2%/12))/U27 -> #DIV/0!
A28: =Main!B28 -> 42034 | B28: =Main!C28/Main!C27-1 -> 0.027766822 | C28: =Main!D28/Main!D27-1 -> #DIV/0! | D28: =Main!E28/Main!E27-1 -> #DIV/0! | E28: =Main!F28/Main!F27-1 -> #DIV/0! | F28: =Main!G28/Main!G27-1 -> #DIV/0! | G28: =Main!H28/Main!H27-1 -> #DIV/0! | H28: =Main!I28/Main!I27-1 -> #DIV/0! | I28: =Main!J28/Main!J27-1 -> #DIV/0! | J28: =Main!K28/Main!K27-1 -> #DIV/0! | K28: =0.5*C28+0.1*D28+0.1*E28+0.1*F28+0.1*G28+0.05*H28+0.05*I28 -> #DIV/0! | L28: =(1+B16)*(1+B17)*(1+B18)*(1+B19)*(1+B20)*(1+B21)*(1+B22)*(1+B23)*(1+B24)*(1+B25)*(1+B26)*(1+B27)-1 -> 0.11436357 | M28: =STDEV($B$4:B28) -> 0.018262889 | N28: =STDEV($C$4:C28) -> #DIV/0! | O28: =STDEV($D$4:D28) -> #DIV/0! | P28: =STDEV($E$4:E28) -> #DIV/0! | Q28: =STDEV($F$4:F28) -> #DIV/0! | R28: =STDEV($G$4:G28) -> #DIV/0! | S28: =STDEV($H$4:H28) -> #DIV/0! | T28: =STDEV($I$4:I28) -> #DIV/0! | U28: =STDEV($J$4:J28) -> #DIV/0! | W28: =AVERAGE($B$4:B28) -> 0.010648338 | X28: =AVERAGE($C$4:C28) -> #DIV/0! | Y28: =AVERAGE($D$4:D28) -> #DIV/0! | Z28: =AVERAGE($E$4:E28) -> #DIV/0! | AA28: =AVERAGE($F$4:F28) -> #DIV/0! | AB28: =AVERAGE($G$4:G28) -> #DIV/0! | AC28: =AVERAGE($H$4:H28) -> #DIV/0! | AD28: =AVERAGE($I$4:I28) -> #DIV/0! | AE28: =AVERAGE($J$4:J28) -> #DIV/0! | AG28: =(W28-(2%/12))/M28 -> 0.49179903 | AH28: =(X28-(2%/12))/N28 -> #DIV/0! | AI28: =(Y28-(2%/12))/O28 -> #DIV/0! | AJ28: =(Z28-(2%/12))/P28 -> #DIV/0! | AK28: =(AA28-(2%/12))/Q28 -> #DIV/0! | AL28: =(AB28-(2%/12))/R28 -> #DIV/0! | AM28: =(AC28-(2%/12))/S28 -> #DIV/0! | AN28: =(AD28-(2%/12))/T28 -> #DIV/0! | AO28: =(AE28-(2%/12))/U28 -> #DIV/0!
A29: =Main!B29 -> 42062 | B29: =Main!C29/Main!C28-1 -> 0.021106762 | C29: =Main!D29/Main!D28-1 -> #DIV/0! | D29: =Main!E29/Main!E28-1 -> #DIV/0! | E29: =Main!F29/Main!F28-1 -> #DIV/0! | F29: =Main!G29/Main!G28-1 -> #DIV/0! | G29: =Main!H29/Main!H28-1 -> #DIV/0! | H29: =Main!I29/Main!I28-1 -> #DIV/0! | I29: =Main!J29/Main!J28-1 -> #DIV/0! | J29: =Main!K29/Main!K28-1 -> #DIV/0! | K29: =0.5*C29+0.1*D29+0.1*E29+0.1*F29+0.1*G29+0.05*H29+0.05*I29 -> #DIV/0! | M29: =STDEV($B$4:B29) -> 0.01801107 | N29: =STDEV($C$4:C29) -> #DIV/0! | O29: =STDEV($D$4:D29) -> #DIV/0! | P29: =STDEV($E$4:E29) -> #DIV/0! | Q29: =STDEV($F$4:F29) -> #DIV/0! | R29: =STDEV($G$4:G29) -> #DIV/0! | S29: =STDEV($H$4:H29) -> #DIV/0! | T29: =STDEV($I$4:I29) -> #DIV/0! | U29: =STDEV($J$4:J29) -> #DIV/0! | W29: =AVERAGE($B$4:B29) -> 0.011050585 | X29: =AVERAGE($C$4:C29) -> #DIV/0! | Y29: =AVERAGE($D$4:D29) -> #DIV/0! | Z29: =AVERAGE($E$4:E29) -> #DIV/0! | AA29: =AVERAGE($F$4:F29) -> #DIV/0! | AB29: =AVERAGE($G$4:G29) -> #DIV/0! | AC29: =AVERAGE($H$4:H29) -> #DIV/0! | AD29: =AVERAGE($I$4:I29) -> #DIV/0! | AE29: =AVERAGE($J$4:J29) -> #DIV/0! | AG29: =(W29-(2%/12))/M29 -> 0.52100835 | AH29: =(X29-(2%/12))/N29 -> #DIV/0! | AI29: =(Y29-(2%/12))/O29 -> #DIV/0! | AJ29: =(Z29-(2%/12))/P29 -> #DIV/0! | AK29: =(AA29-(2%/12))/Q29 -> #DIV/0! | AL29: =(AB29-(2%/12))/R29 -> #DIV/0! | AM29: =(AC29-(2%/12))/S29 -> #DIV/0! | AN29: =(AD29-(2%/12))/T29 -> #DIV/0! | AO29: =(AE29-(2%/12))/U29 -> #DIV/0!
A30: =Main!B30 -> 42094 | B30: =Main!C30/Main!C29-1 -> 0.011425135 | C30: =Main!D30/Main!D29-1 -> #DIV/0! | D30: =Main!E30/Main!E29-1 -> #DIV/0! | E30: =Main!F30/Main!F29-1 -> #DIV/0! | F30: =Main!G30/Main!G29-1 -> #DIV/0! | G30: =Main!H30/Main!H29-1 -> #DIV/0! | H30: =Main!I30/Main!I29-1 -> #DIV/0! | I30: =Main!J30/Main!J29-1 -> #DIV/0! | J30: =Main!K30/Main!K29-1 -> #DIV/0! | K30: =0.5*C30+0.1*D30+0.1*E30+0.1*F30+0.1*G30+0.05*H30+0.05*I30 -> #DIV/0! | M30: =STDEV($B$4:B30) -> 0.017661455 | N30: =STDEV($C$4:C30) -> #DIV/0! | O30: =STDEV($D$4:D30) -> #DIV/0! | P30: =STDEV($E$4:E30) -> #DIV/0! | Q30: =STDEV($F$4:F30) -> #DIV/0! | R30: =STDEV($G$4:G30) -> #DIV/0! | S30: =STDEV($H$4:H30) -> #DIV/0! | T30: =STDEV($I$4:I30) -> #DIV/0! | U30: =STDEV($J$4:J30) -> #DIV/0! | W30: =AVERAGE($B$4:B30) -> 0.011064457 | X30: =AVERAGE($C$4:C30) -> #DIV/0! | Y30: =AVERAGE($D$4:D30) -> #DIV/0! | Z30: =AVERAGE($E$4:E30) -> #DIV/0! | AA30: =AVERAGE($F$4:F30) -> #DIV/0! | AB30: =AVERAGE($G$4:G30) -> #DIV/0! | AC30: =AVERAGE($H$4:H30) -> #DIV/0! | AD30: =AVERAGE($I$4:I30) -> #DIV/0! | AE30: =AVERAGE($J$4:J30) -> #DIV/0! | AG30: =(W30-(2%/12))/M30 -> 0.53210738 | AH30: =(X30-(2%/12))/N30 -> #DIV/0! | AI30: =(Y30-(2%/12))/O30 -> #DIV/0! | AJ30: =(Z30-(2%/12))/P30 -> #DIV/0! | AK30: =(AA30-(2%/12))/Q30 -> #DIV/0! | AL30: =(AB30-(2%/12))/R30 -> #DIV/0! | AM30: =(AC30-(2%/12))/S30 -> #DIV/0! | AN30: =(AD30-(2%/12))/T30 -> #DIV/0! | AO30: =(AE30-(2%/12))/U30 -> #DIV/0!
A31: =Main!B31 -> 42124 | B31: =Main!C31/Main!C30-1 -> 0.064655172 | C31: =Main!D31/Main!D30-1 -> #DIV/0! | D31: =Main!E31/Main!E30-1 -> #DIV/0! | E31: =Main!F31/Main!F30-1 -> #DIV/0! | F31: =Main!G31/Main!G30-1 -> #DIV/0! | G31: =Main!H31/Main!H30-1 -> #DIV/0! | H31: =Main!I31/Main!I30-1 -> #DIV/0! | I31: =Main!J31/Main!J30-1 -> #DIV/0! | J31: =Main!K31/Main!K30-1 -> #DIV/0! | K31: =0.5*C31+0.1*D31+0.1*E31+0.1*F31+0.1*G31+0.05*H31+0.05*I31 -> #DIV/0! | M31: =STDEV($B$4:B31) -> 0.020073473 | N31: =STDEV($C$4:C31) -> #DIV/0! | O31: =STDEV($D$4:D31) -> #DIV/0! | P31: =STDEV($E$4:E31) -> #DIV/0! | Q31: =STDEV($F$4:F31) -> #DIV/0! | R31: =STDEV($G$4:G31) -> #DIV/0! | S31: =STDEV($H$4:H31) -> #DIV/0! | T31: =STDEV($I$4:I31) -> #DIV/0! | U31: =STDEV($J$4:J31) -> #DIV/0! | W31: =AVERAGE($B$4:B31) -> 0.012978411 | X31: =AVERAGE($C$4:C31) -> #DIV/0! | Y31: =AVERAGE($D$4:D31) -> #DIV/0! | Z31: =AVERAGE($E$4:E31) -> #DIV/0! | AA31: =AVERAGE($F$4:F31) -> #DIV/0! | AB31: =AVERAGE($G$4:G31) -> #DIV/0! | AC31: =AVERAGE($H$4:H31) -> #DIV/0! | AD31: =AVERAGE($I$4:I31) -> #DIV/0! | AE31: =AVERAGE($J$4:J31) -> #DIV/0! | AG31: =(W31-(2%/12))/M31 -> 0.56351707 | AH31: =(X31-(2%/12))/N31 -> #DIV/0! | AI31: =(Y31-(2%/12))/O31 -> #DIV/0! | AJ31: =(Z31-(2%/12))/P31 -> #DIV/0! | AK31: =(AA31-(2%/12))/Q31 -> #DIV/0! | AL31: =(AB31-(2%/12))/R31 -> #DIV/0! | AM31: =(AC31-(2%/12))/S31 -> #DIV/0! | AN31: =(AD31-(2%/12))/T31 -> #DIV/0! | AO31: =(AE31-(2%/12))/U31 -> #DIV/0!
A32: =Main!B32 -> 42153 | B32: =Main!C32/Main!C31-1 -> 0.039089767 | C32: =Main!D32/Main!D31-1 -> #DIV/0! | D32: =Main!E32/Main!E31-1 -> #DIV/0! | E32: =Main!F32/Main!F31-1 -> #DIV/0! | F32: =Main!G32/Main!G31-1 -> #DIV/0! | G32: =Main!H32/Main!H31-1 -> #DIV/0! | H32: =Main!I32/Main!I31-1 -> #DIV/0! | I32: =Main!J32/Main!J31-1 -> #DIV/0! | J32: =Main!K32/Main!K31-1 -> #DIV/0! | K32: =0.5*C32+0.1*D32+0.1*E32+0.1*F32+0.1*G32+0.05*H32+0.05*I32 -> #DIV/0! | M32: =STDEV($B$4:B32) -> 0.020299357 | N32: =STDEV($C$4:C32) -> #DIV/0! | O32: =STDEV($D$4:D32) -> #DIV/0! | P32: =STDEV($E$4:E32) -> #DIV/0! | Q32: =STDEV($F$4:F32) -> #DIV/0! | R32: =STDEV($G$4:G32) -> #DIV/0! | S32: =STDEV($H$4:H32) -> #DIV/0! | T32: =STDEV($I$4:I32) -> #DIV/0! | U32: =STDEV($J$4:J32) -> #DIV/0! | W32: =AVERAGE($B$4:B32) -> 0.013878803 | X32: =AVERAGE($C$4:C32) -> #DIV/0! | Y32: =AVERAGE($D$4:D32) -> #DIV/0! | Z32: =AVERAGE($E$4:E32) -> #DIV/0! | AA32: =AVERAGE($F$4:F32) -> #DIV/0! | AB32: =AVERAGE($G$4:G32) -> #DIV/0! | AC32: =AVERAGE($H$4:H32) -> #DIV/0! | AD32: =AVERAGE($I$4:I32) -> #DIV/0! | AE32: =AVERAGE($J$4:J32) -> #DIV/0! | AG32: =(W32-(2%/12))/M32 -> 0.60160212 | AH32: =(X32-(2%/12))/N32 -> #DIV/0! | AI32: =(Y32-(2%/12))/O32 -> #DIV/0! | AJ32: =(Z32-(2%/12))/P32 -> #DIV/0! | AK32: =(AA32-(2%/12))/Q32 -> #DIV/0! | AL32: =(AB32-(2%/12))/R32 -> #DIV/0! | AM32: =(AC32-(2%/12))/S32 -> #DIV/0! | AN32: =(AD32-(2%/12))/T32 -> #DIV/0! | AO32: =(AE32-(2%/12))/U32 -> #DIV/0!
A33: =Main!B33 -> 42185 | B33: =Main!C33/Main!C32-1 -> -0.015786645 | C33: =Main!D33/Main!D32-1 -> #DIV/0! | D33: =Main!E33/Main!E32-1 -> #DIV/0! | E33: =Main!F33/Main!F32-1 -> #DIV/0! | F33: =Main!G33/Main!G32-1 -> #DIV/0! | G33: =Main!H33/Main!H32-1 -> #DIV/0! | H33: =Main!I33/Main!I32-1 -> #DIV/0! | I33: =Main!J33/Main!J32-1 -> #DIV/0! | J33: =Main!K33/Main!K32-1 -> #DIV/0! | K33: =0.5*C33+0.1*D33+0.1*E33+0.1*F33+0.1*G33+0.05*H33+0.05*I33 -> #DIV/0! | M33: =STDEV($B$4:B33) -> 0.020668561 | N33: =STDEV($C$4:C33) -> #DIV/0! | O33: =STDEV($D$4:D33) -> #DIV/0! | P33: =STDEV($E$4:E33) -> #DIV/0! | Q33: =STDEV($F$4:F33) -> #DIV/0! | R33: =STDEV($G$4:G33) -> #DIV/0! | S33: =STDEV($H$4:H33) -> #DIV/0! | T33: =STDEV($I$4:I33) -> #DIV/0! | U33: =STDEV($J$4:J33) -> #DIV/0! | W33: =AVERAGE($B$4:B33) -> 0.012889954 | X33: =AVERAGE($C$4:C33) -> #DIV/0! | Y33: =AVERAGE($D$4:D33) -> #DIV/0! | Z33: =AVERAGE($E$4:E33) -> #DIV/0! | AA33: =AVERAGE($F$4:F33) -> #DIV/0! | AB33: =AVERAGE($G$4:G33) -> #DIV/0! | AC33: =AVERAGE($H$4:H33) -> #DIV/0! | AD33: =AVERAGE($I$4:I33) -> #DIV/0! | AE33: =AVERAGE($J$4:J33) -> #DIV/0! | AG33: =(W33-(2%/12))/M33 -> 0.54301254 | AH33: =(X33-(2%/12))/N33 -> #DIV/0! | AI33: =(Y33-(2%/12))/O33 -> #DIV/0! | AJ33: =(Z33-(2%/12))/P33 -> #DIV/0! | AK33: =(AA33-(2%/12))/Q33 -> #DIV/0! | AL33: =(AB33-(2%/12))/R33 -> #DIV/0! | AM33: =(AC33-(2%/12))/S33 -> #DIV/0! | AN33: =(AD33-(2%/12))/T33 -> #DIV/0! | AO33: =(AE33-(2%/12))/U33 -> #DIV/0!
A34: =Main!B34 -> 42216 | B34: =Main!C34/Main!C33-1 -> -0.050849771 | C34: =Main!D34/Main!D33-1 -> #DIV/0! | D34: =Main!E34/Main!E33-1 -> #DIV/0! | E34: =Main!F34/Main!F33-1 -> #DIV/0! | F34: =Main!G34/Main!G33-1 -> #DIV/0! | G34: =Main!H34/Main!H33-1 -> #DIV/0! | H34: =Main!I34/Main!I33-1 -> #DIV/0! | I34: =Main!J34/Main!J33-1 -> #DIV/0! | J34: =Main!K34/Main!K33-1 -> #DIV/0! | K34: =0.5*C34+0.1*D34+0.1*E34+0.1*F34+0.1*G34+0.05*H34+0.05*I34 -> #DIV/0! | M34: =STDEV($B$4:B34) -> 0.023323942 | N34: =STDEV($C$4:C34) -> #DIV/0! | O34: =STDEV($D$4:D34) -> #DIV/0! | P34: =STDEV($E$4:E34) -> #DIV/0! | Q34: =STDEV($F$4:F34) -> #DIV/0! | R34: =STDEV($G$4:G34) -> #DIV/0! | S34: =STDEV($H$4:H34) -> #DIV/0! | T34: =STDEV($I$4:I34) -> #DIV/0! | U34: =STDEV($J$4:J34) -> #DIV/0! | W34: =AVERAGE($B$4:B34) -> 0.010833834 | X34: =AVERAGE($C$4:C34) -> #DIV/0! | Y34: =AVERAGE($D$4:D34) -> #DIV/0! | Z34: =AVERAGE($E$4:E34) -> #DIV/0! | AA34: =AVERAGE($F$4:F34) -> #DIV/0! | AB34: =AVERAGE($G$4:G34) -> #DIV/0! | AC34: =AVERAGE($H$4:H34) -> #DIV/0! | AD34: =AVERAGE($I$4:I34) -> #DIV/0! | AE34: =AVERAGE($J$4:J34) -> #DIV/0! | AG34: =(W34-(2%/12))/M34 -> 0.39303679 | AH34: =(X34-(2%/12))/N34 -> #DIV/0! | AI34: =(Y34-(2%/12))/O34 -> #DIV/0! | AJ34: =(Z34-(2%/12))/P34 -> #DIV/0! | AK34: =(AA34-(2%/12))/Q34 -> #DIV/0! | AL34: =(AB34-(2%/12))/R34 -> #DIV/0! | AM34: =(AC34-(2%/12))/S34 -> #DIV/0! | AN34: =(AD34-(2%/12))/T34 -> #DIV/0! | AO34: =(AE34-(2%/12))/U34 -> #DIV/0!
A35: =Main!B35 -> 42247 | B35: =Main!C35/Main!C34-1 -> -0.072199051 | C35: =Main!D35/Main!D34-1 -> #DIV/0! | D35: =Main!E35/Main!E34-1 -> #DIV/0! | E35: =Main!F35/Main!F34-1 -> #DIV/0! | F35: =Main!G35/Main!G34-1 -> #DIV/0! | G35: =Main!H35/Main!H34-1 -> #DIV/0! | H35: =Main!I35/Main!I34-1 -> #DIV/0! | I35: =Main!J35/Main!J34-1 -> #DIV/0! | J35: =Main!K35/Main!K34-1 -> #DIV/0! | K35: =0.5*C35+0.1*D35+0.1*E35+0.1*F35+0.1*G35+0.05*H35+0.05*I35 -> #DIV/0! | M35: =STDEV($B$4:B35) -> 0.027238017 | N35: =STDEV($C$4:C35) -> #DIV/0! | O35: =STDEV($D$4:D35) -> #DIV/0! | P35: =STDEV($E$4:E35) -> #DIV/0! | Q35: =STDEV($F$4:F35) -> #DIV/0! | R35: =STDEV($G$4:G35) -> #DIV/0! | S35: =STDEV($H$4:H35) -> #DIV/0! | T35: =STDEV($I$4:I35) -> #DIV/0! | U35: =STDEV($J$4:J35) -> #DIV/0! | W35: =AVERAGE($B$4:B35) -> 0.0082390566 | X35: =AVERAGE($C$4:C35) -> #DIV/0! | Y35: =AVERAGE($D$4:D35) -> #DIV/0! | Z35: =AVERAGE($E$4:E35) -> #DIV/0! | AA35: =AVERAGE($F$4:F35) -> #DIV/0! | AB35: =AVERAGE($G$4:G35) -> #DIV/0! | AC35: =AVERAGE($H$4:H35) -> #DIV/0! | AD35: =AVERAGE($I$4:I35) -> #DIV/0! | AE35: =AVERAGE($J$4:J35) -> #DIV/0! | AG35: =(W35-(2%/12))/M35 -> 0.24129473 | AH35: =(X35-(2%/12))/N35 -> #DIV/0! | AI35: =(Y35-(2%/12))/O35 -> #DIV/0! | AJ35: =(Z35-(2%/12))/P35 -> #DIV/0! | AK35: =(AA35-(2%/12))/Q35 -> #DIV/0! | AL35: =(AB35-(2%/12))/R35 -> #DIV/0! | AM35: =(AC35-(2%/12))/S35 -> #DIV/0! | AN35: =(AD35-(2%/12))/T35 -> #DIV/0! | AO35: =(AE35-(2%/12))/U35 -> #DIV/0!
A36: =Main!B36 -> 42277 | B36: =Main!C36/Main!C35-1 -> 0.0049604712 | C36: =Main!D36/Main!D35-1 -> #DIV/0! | D36: =Main!E36/Main!E35-1 -> #DIV/0! | E36: =Main!F36/Main!F35-1 -> #DIV/0! | F36: =Main!G36/Main!G35-1 -> #DIV/0! | G36: =Main!H36/Main!H35-1 -> #DIV/0! | H36: =Main!I36/Main!I35-1 -> #DIV/0! | I36: =Main!J36/Main!J35-1 -> #DIV/0! | J36: =Main!K36/Main!K35-1 -> #DIV/0! | K36: =0.5*C36+0.1*D36+0.1*E36+0.1*F36+0.1*G36+0.05*H36+0.05*I36 -> #DIV/0! | M36: =STDEV($B$4:B36) -> 0.02681512 | N36: =STDEV($C$4:C36) -> #DIV/0! | O36: =STDEV($D$4:D36) -> #DIV/0! | P36: =STDEV($E$4:E36) -> #DIV/0! | Q36: =STDEV($F$4:F36) -> #DIV/0! | R36: =STDEV($G$4:G36) -> #DIV/0! | S36: =STDEV($H$4:H36) -> #DIV/0! | T36: =STDEV($I$4:I36) -> #DIV/0! | U36: =STDEV($J$4:J36) -> #DIV/0! | W36: =AVERAGE($B$4:B36) -> 0.0081397055 | X36: =AVERAGE($C$4:C36) -> #DIV/0! | Y36: =AVERAGE($D$4:D36) -> #DIV/0! | Z36: =AVERAGE($E$4:E36) -> #DIV/0! | AA36: =AVERAGE($F$4:F36) -> #DIV/0! | AB36: =AVERAGE($G$4:G36) -> #DIV/0! | AC36: =AVERAGE($H$4:H36) -> #DIV/0! | AD36: =AVERAGE($I$4:I36) -> #DIV/0! | AE36: =AVERAGE($J$4:J36) -> #DIV/0! | AG36: =(W36-(2%/12))/M36 -> 0.24139511 | AH36: =(X36-(2%/12))/N36 -> #DIV/0! | AI36: =(Y36-(2%/12))/O36 -> #DIV/0! | AJ36: =(Z36-(2%/12))/P36 -> #DIV/0! | AK36: =(AA36-(2%/12))/Q36 -> #DIV/0! | AL36: =(AB36-(2%/12))/R36 -> #DIV/0! | AM36: =(AC36-(2%/12))/S36 -> #DIV/0! | AN36: =(AD36-(2%/12))/T36 -> #DIV/0! | AO36: =(AE36-(2%/12))/U36 -> #DIV/0!
A37: =Main!B37 -> 42307 | B37: =Main!C37/Main!C36-1 -> 0.031698288 | C37: =Main!D37/Main!D36-1 -> #DIV/0! | D37: =Main!E37/Main!E36-1 -> #DIV/0! | E37: =Main!F37/Main!F36-1 -> #DIV/0! | F37: =Main!G37/Main!G36-1 -> #DIV/0! | G37: =Main!H37/Main!H36-1 -> #DIV/0! | H37: =Main!I37/Main!I36-1 -> #DIV/0! | I37: =Main!J37/Main!J36-1 -> #DIV/0! | J37: =Main!K37/Main!K36-1 -> #DIV/0! | K37: =0.5*C37+0.1*D37+0.1*E37+0.1*F37+0.1*G37+0.05*H37+0.05*I37 -> #DIV/0! | M37: =STDEV($B$4:B37) -> 0.026713011 | N37: =STDEV($C$4:C37) -> #DIV/0! | O37: =STDEV($D$4:D37) -> #DIV/0! | P37: =STDEV($E$4:E37) -> #DIV/0! | Q37: =STDEV($F$4:F37) -> #DIV/0! | R37: =STDEV($G$4:G37) -> #DIV/0! | S37: =STDEV($H$4:H37) -> #DIV/0! | T37: =STDEV($I$4:I37) -> #DIV/0! | U37: =STDEV($J$4:J37) -> #DIV/0! | W37: =AVERAGE($B$4:B37) -> 0.008832605 | X37: =AVERAGE($C$4:C37) -> #DIV/0! | Y37: =AVERAGE($D$4:D37) -> #DIV/0! | Z37: =AVERAGE($E$4:E37) -> #DIV/0! | AA37: =AVERAGE($F$4:F37) -> #DIV/0! | AB37: =AVERAGE($G$4:G37) -> #DIV/0! | AC37: =AVERAGE($H$4:H37) -> #DIV/0! | AD37: =AVERAGE($I$4:I37) -> #DIV/0! | AE37: =AVERAGE($J$4:J37) -> #DIV/0! | AG37: =(W37-(2%/12))/M37 -> 0.26825648 | AH37: =(X37-(2%/12))/N37 -> #DIV/0! | AI37: =(Y37-(2%/12))/O37 -> #DIV/0! | AJ37: =(Z37-(2%/12))/P37 -> #DIV/0! | AK37: =(AA37-(2%/12))/Q37 -> #DIV/0! | AL37: =(AB37-(2%/12))/R37 -> #DIV/0! | AM37: =(AC37-(2%/12))/S37 -> #DIV/0! | AN37: =(AD37-(2%/12))/T37 -> #DIV/0! | AO37: =(AE37-(2%/12))/U37 -> #DIV/0!
A38: =Main!B38 -> 42338 | B38: =Main!C38/Main!C37-1 -> -7.4755177e-05 | C38: =Main!D38/Main!D37-1 -> #DIV/0! | D38: =Main!E38/Main!E37-1 -> #DIV/0! | E38: =Main!F38/Main!F37-1 -> #DIV/0! | F38: =Main!G38/Main!G37-1 -> #DIV/0! | G38: =Main!H38/Main!H37-1 -> #DIV/0! | H38: =Main!I38/Main!I37-1 -> #DIV/0! | I38: =Main!J38/Main!J37-1 -> #DIV/0! | J38: =Main!K38/Main!K37-1 -> #DIV/0! | K38: =0.5*C38+0.1*D38+0.1*E38+0.1*F38+0.1*G38+0.05*H38+0.05*I38 -> #DIV/0! | M38: =STDEV($B$4:B38) -> 0.026360274 | N38: =STDEV($C$4:C38) -> #DIV/0! | O38: =STDEV($D$4:D38) -> #DIV/0! | P38: =STDEV($E$4:E38) -> #DIV/0! | Q38: =STDEV($F$4:F38) -> #DIV/0! | R38: =STDEV($G$4:G38) -> #DIV/0! | S38: =STDEV($H$4:H38) -> #DIV/0! | T38: =STDEV($I$4:I38) -> #DIV/0! | U38: =STDEV($J$4:J38) -> #DIV/0! | W38: =AVERAGE($B$4:B38) -> 0.008578109 | X38: =AVERAGE($C$4:C38) -> #DIV/0! | Y38: =AVERAGE($D$4:D38) -> #DIV/0! | Z38: =AVERAGE($E$4:E38) -> #DIV/0! | AA38: =AVERAGE($F$4:F38) -> #DIV/0! | AB38: =AVERAGE($G$4:G38) -> #DIV/0! | AC38: =AVERAGE($H$4:H38) -> #DIV/0! | AD38: =AVERAGE($I$4:I38) -> #DIV/0! | AE38: =AVERAGE($J$4:J38) -> #DIV/0! | AG38: =(W38-(2%/12))/M38 -> 0.2621916 | AH38: =(X38-(2%/12))/N38 -> #DIV/0! | AI38: =(Y38-(2%/12))/O38 -> #DIV/0! | AJ38: =(Z38-(2%/12))/P38 -> #DIV/0! | AK38: =(AA38-(2%/12))/Q38 -> #DIV/0! | AL38: =(AB38-(2%/12))/R38 -> #DIV/0! | AM38: =(AC38-(2%/12))/S38 -> #DIV/0! | AN38: =(AD38-(2%/12))/T38 -> #DIV/0! | AO38: =(AE38-(2%/12))/U38 -> #DIV/0!
A39: =Main!B39 -> 42369 | B39: =Main!C39/Main!C38-1 -> 0.0064294258 | C39: =Main!D39/Main!D38-1 -> #DIV/0! | D39: =Main!E39/Main!E38-1 -> #DIV/0! | E39: =Main!F39/Main!F38-1 -> #DIV/0! | F39: =Main!G39/Main!G38-1 -> #DIV/0! | G39: =Main!H39/Main!H38-1 -> #DIV/0! | H39: =Main!I39/Main!I38-1 -> #DIV/0! | I39: =Main!J39/Main!J38-1 -> #DIV/0! | J39: =Main!K39/Main!K38-1 -> #DIV/0! | K39: =0.5*C39+0.1*D39+0.1*E39+0.1*F39+0.1*G39+0.05*H39+0.05*I39 -> #DIV/0! | M39: =STDEV($B$4:B39) -> 0.025983438 | N39: =STDEV($C$4:C39) -> #DIV/0! | O39: =STDEV($D$4:D39) -> #DIV/0! | P39: =STDEV($E$4:E39) -> #DIV/0! | Q39: =STDEV($F$4:F39) -> #DIV/0! | R39: =STDEV($G$4:G39) -> #DIV/0! | S39: =STDEV($H$4:H39) -> #DIV/0! | T39: =STDEV($I$4:I39) -> #DIV/0! | U39: =STDEV($J$4:J39) -> #DIV/0! | W39: =AVERAGE($B$4:B39) -> 0.0085184233 | X39: =AVERAGE($C$4:C39) -> #DIV/0! | Y39: =AVERAGE($D$4:D39) -> #DIV/0! | Z39: =AVERAGE($E$4:E39) -> #DIV/0! | AA39: =AVERAGE($F$4:F39) -> #DIV/0! | AB39: =AVERAGE($G$4:G39) -> #DIV/0! | AC39: =AVERAGE($H$4:H39) -> #DIV/0! | AD39: =AVERAGE($I$4:I39) -> #DIV/0! | AE39: =AVERAGE($J$4:J39) -> #DIV/0! | AG39: =(W39-(2%/12))/M39 -> 0.26369708 | AH39: =(X39-(2%/12))/N39 -> #DIV/0! | AI39: =(Y39-(2%/12))/O39 -> #DIV/0! | AJ39: =(Z39-(2%/12))/P39 -> #DIV/0! | AK39: =(AA39-(2%/12))/Q39 -> #DIV/0! | AL39: =(AB39-(2%/12))/R39 -> #DIV/0! | AM39: =(AC39-(2%/12))/S39 -> #DIV/0! | AN39: =(AD39-(2%/12))/T39 -> #DIV/0! | AO39: =(AE39-(2%/12))/U39 -> #DIV/0!
A40: =Main!B40 -> 42398 | B40: =Main!C40/Main!C39-1 -> -0.065740603 | C40: =Main!D40/Main!D39-1 -> #DIV/0! | D40: =Main!E40/Main!E39-1 -> #DIV/0! | E40: =Main!F40/Main!F39-1 -> #DIV/0! | F40: =Main!G40/Main!G39-1 -> #DIV/0! | G40: =Main!H40/Main!H39-1 -> #DIV/0! | H40: =Main!I40/Main!I39-1 -> #DIV/0! | I40: =Main!J40/Main!J39-1 -> #DIV/0! | J40: =Main!K40/Main!K39-1 -> #DIV/0! | K40: =0.5*C40+0.1*D40+0.1*E40+0.1*F40+0.1*G40+0.05*H40+0.05*I40 -> #DIV/0! | L40: =(1+B28)*(1+B29)*(1+B30)*(1+B31)*(1+B32)*(1+B33)*(1+B34)*(1+B35)*(1+B36)*(1+B37)*(1+B38)*(1+B39)-1 -> 0.061923168 | M40: =STDEV($B$4:B40) -> 0.028379977 | N40: =STDEV($C$4:C40) -> #DIV/0! | O40: =STDEV($D$4:D40) -> #DIV/0! | P40: =STDEV($E$4:E40) -> #DIV/0! | Q40: =STDEV($F$4:F40) -> #DIV/0! | R40: =STDEV($G$4:G40) -> #DIV/0! | S40: =STDEV($H$4:H40) -> #DIV/0! | T40: =STDEV($I$4:I40) -> #DIV/0! | U40: =STDEV($J$4:J40) -> #DIV/0! | W40: =AVERAGE($B$4:B40) -> 0.0065114226 | X40: =AVERAGE($C$4:C40) -> #DIV/0! | Y40: =AVERAGE($D$4:D40) -> #DIV/0! | Z40: =AVERAGE($E$4:E40) -> #DIV/0! | AA40: =AVERAGE($F$4:F40) -> #DIV/0! | AB40: =AVERAGE($G$4:G40) -> #DIV/0! | AC40: =AVERAGE($H$4:H40) -> #DIV/0! | AD40: =AVERAGE($I$4:I40) -> #DIV/0! | AE40: =AVERAGE($J$4:J40) -> #DIV/0! | AG40: =(W40-(2%/12))/M40 -> 0.17071036 | AH40: =(X40-(2%/12))/N40 -> #DIV/0! | AI40: =(Y40-(2%/12))/O40 -> #DIV/0! | AJ40: =(Z40-(2%/12))/P40 -> #DIV/0! | AK40: =(AA40-(2%/12))/Q40 -> #DIV/0! | AL40: =(AB40-(2%/12))/R40 -> #DIV/0! | AM40: =(AC40-(2%/12))/S40 -> #DIV/0! | AN40: =(AD40-(2%/12))/T40 -> #DIV/0! | AO40: =(AE40-(2%/12))/U40 -> #DIV/0!
