Workbook
Name _01_All_Parts_Inventory__Onhand_Qty_: #REF!
Name _1_01_All_Parts_Inventory__Onhand_Qty_: #REF!
Name _19_0Crite: '[1]P&L'!#REF!
Name _8_01_All_Parts_Inventory__Onhand_Qty_: #REF!
Name a: '[2]2.FA'!#REF!
Name Account_Codes: #REF!
Name acquired_equity: [3]Data!$F$9:$G$143
Name acquisition_cost_realized: [3]Data!$AH$9:$AH$143
Name affdsa: '[2]3.CA'!#REF!
Name All_Parts_Info: #REF!
Name All_Parts_Inventory__Intransit_Qty_: #REF!
Name All_Parts_Inventory__Onhand__OnOrder__Rsvd__Order_Qty_: #REF!
Name anfkan: [4]EFR30696!#REF!
Name B: #REF!
Name bbb: '[2]3.CA'!#REF!
Name BCExport: #REF!
Name cnyexAVE: '[5]pnlJul-feb05'!$AQ$7
Name cnyexave300604: '[2]2.FA'!#REF!
Name cnyexAVE300604pnl: '[6]jul03-jun04pnl'!$AM$8
Name cnyexAVE3011pnl: #REF!
Name cnyexAVE311204pnl: '[5]OHS-OthersDec04'!$AD$6
Name cnyexcr: '[2]4.CL'!#REF!
Name cnyexcr300604: '[2]2.FA'!#REF!
Name cnyexcr300604bs: #REF!
Name cnyexcr301103: '[2]2.FA'!#REF!
Name cnyexcr311204bs: '[5]bsJul-feb05'!$AE$5
Name cnyexcrpnl: '[7]jul04-dec04pnl'!$AQ$7
Name coip: #REF!
Name company_name: [8]Data!$B$10:$B$62
Name Credit_column: #REF!
Name Current: #REF!
Name deal_quarters: [8]Data!$E$10:$E$62
Name Debit_column: #REF!
Name disbursed_debt: [3]Data!$H$9:$I$143
Name disbursed_loans_realized: [3]Data!$AL$9:$AL$143
Name Download: #REF!
Name Download_CI: #REF!
Name euroexcr: #REF!
Name euroexcr2: [9]PO!$AB$5
Name Excel_BuiltIn__FilterDatabase_13: #REF!
Name FA: #REF!
Name fskj: '[10]pnlJul-feb05'!$AQ$7
Name gfhghj: #REF!
Name hjk: #REF!
Name IQ_CH: 110000
Name IQ_CQ: 5000
Name IQ_CY: 10000
Name IQ_DAILY: 500000
Name IQ_FH: 100000
Name IQ_FQ: 500
Name IQ_FY: 1000
Name IQ_LTM: 2000
Name IQ_MONTH: 15000
Name IQ_NTM: 6000
Name IQ_WEEK: 50000
Name IQ_YTD: 3000
Name P123__INV__DOWNLOAD: #REF!
Name P123_DOWNLOAD: #REF!
Name phuong: #REF!
Name Prior: #REF!

Sheet Main
A2: count | B2: Date | C2: Aggregate Value Fund Class A
A3: 0 | B3: 41274 | C3: 100.37
A4: 1 | B4: 41305 | C4: 102.08
A5: =A4+1 -> 2 | B5: 41333 | C5: 102.99
A6: =A5+1 -> 3 | B6: 41362 | C6: 102.93
A7: =A6+1 -> 4 | B7: 41394 | C7: 101.78
A8: =A7+1 -> 5 | B8: 41425 | C8: 108.38
A9: =A8+1 -> 6 | B9: 41453 | C9: 104.72
A10: =A9+1 -> 7 | B10: 41486 | C10: 106.16
A11: =A10+1 -> 8 | B11: 41516 | C11: 105.97 | AA11: Yearly Performance (Returns Stated Net of All Fees and Expenses)
A12: =A11+1 -> 9 | B12: 41547 | C12: 108.54 | AA12: 2013 | AB12: =AN29 -> 0.1334064
A13: =A12+1 -> 10 | B13: 41578 | C13: 110.42 | AA13: 2014 | AB13: =AN30 -> 0.11436357
A14: =A13+1 -> 11 | B14: 41607 | C14: 112.63 | AA14: 2015 | AB14: =AN31 -> 0.061923168
A15: =A14+1 -> 12 | B15: 41639 | C15: 113.76 | AA15: 2016 | AB15: =AN32 -> 0.11357896
A16: =A15+1 -> 13 | B16: 41670 | C16: 113.63 | AA16: 2017 | AB16: =AN33 -> 0.12694283
A17: =A16+1 -> 14 | B17: 41698 | C17: 115.35 | AA17: 2018 | AB17: =AN34 -> -0.10204806
A18: =A17+1 -> 15 | B18: 41729 | C18: 115.94 | AA18: 2019 | AB18: =AN35 -> 0.022742254
A19: =A18+1 -> 16 | B19: 41759 | C19: 117.03 | AA19: 2020 | AB19: 0.0414
A20: =A19+1 -> 17 | B20: 41789 | C20: 118.44 | AA20: 2021 | AB20: =$AN37 -> 0.1825834
A21: =A20+1 -> 18 | B21: 41820 | C21: 119.93 | AA21: 2022 | AB21: =$AN38 -> -0.063118229
A22: =A21+1 -> 19 | B22: 41851 | C22: 124.21 | AA22: 2023 | AB22: =AN39 -> 0.077314117
A23: =A22+1 -> 20 | B23: 41880 | C23: 126.44 | AA23: 2024 | AB23: =AN40 -> 0.11604874
A24: =A23+1 -> 21 | B24: 41912 | C24: 126.58 | AA24: 2025 | AB24: =AN41 -> 0.13046508
A25: =A24+1 -> 22 | B25: 41943 | C25: 127.43
A26: =A25+1 -> 23 | B26: 41971 | C26: 128.78 | AA26: Monthly NAV Table
A27: =A26+1 -> 24 | B27: 42004 | C27: 126.77 | AB27: Jan | AC27: Feb | AD27: Mar | AE27: Apr | AF27: May | AG27: Jun | AH27: Jul | AI27: Aug | AJ27: Sep | AK27: Oct | AL27: Nov | AM27: Dec | AN27: YTD Perf
A28: =A27+1 -> 25 | B28: 42034 | C28: 130.29 | AA28: 2012 | AM28: =C3 -> 100.37
A29: =A28+1 -> 26 | B29: 42062 | C29: 133.04 | AA29: 2013 | AB29: 102.08 | AC29: 102.99 | AD29: 102.93 | AE29: 101.78 | AF29: 108.38 | AG29: 104.72 | AH29: 106.16 | AI29: 105.97 | AJ29: 108.54 | AK29: 110.42 | AL29: 112.63 | AM29: 113.76 | AN29: =AM29/AM28-1 -> 0.1334064
A30: =A29+1 -> 27 | B30: 42094 | C30: 134.56 | AA30: 2014 | AB30: 113.63 | AC30: 115.35 | AD30: 115.94 | AE30: 117.03 | AF30: 118.44 | AG30: 119.93 | AH30: 124.21 | AI30: 126.44 | AJ30: 126.58 | AK30: 127.43 | AL30: 128.78 | AM30: 126.77 | AN30: =AM30/AM29-1 -> 0.11436357
A31: =A30+1 -> 28 | B31: 42124 | C31: 143.26 | AA31: 2015 | AB31: 130.29 | AC31: 133.04 | AD31: 134.56 | AE31: 143.26 | AF31: 148.86 | AG31: 146.51 | AH31: 139.06 | AI31: 129.02 | AJ31: 129.66 | AK31: 133.77 | AL31: 133.76 | AM31: 134.62 | AN31: =AM31/AM30-1 -> 0.061923168
A32: =A31+1 -> 29 | B32: 42153 | C32: 148.86 | AA32: 2016 | AB32: 125.77 | AC32: 124.85 | AD32: 131.76 | AE32: 132.85 | AF32: 131.95 | AG32: 131.62 | AH32: 134.29 | AI32: 139.96 | AJ32: 143.79 | AK32: 147.2 | AL32: 149.56 | AM32: 149.91 | AN32: =AM32/AM31-1 -> 0.11357896
A33: =A32+1 -> 30 | B33: 42185 | C33: 146.51 | AA33: 2017 | AB33: 152.26 | AC33: 157.09 | AD33: 159.8 | AE33: 161.08 | AF33: =C56 -> 161.95 | AG33: =C57 -> 162.71 | AH33: =C58 -> 163.89 | AI33: =C59 -> 164.85 | AJ33: =C60 -> 165.88 | AK33: =C61 -> 169.53 | AL33: =C62 -> 168.88 | AM33: =C63 -> 168.94 | AN33: =AM33/AM32-1 -> 0.12694283
A34: =A33+1 -> 31 | B34: 42216 | C34: 139.06 | AA34: 2018 | AB34: =C64 -> 174.24 | AC34: =C65 -> 170.61 | AD34: =C66 -> 167.48 | AE34: =C67 -> 169.77 | AF34: =C68 -> 172.5 | AG34: =C69 -> 168.05 | AH34: =C70 -> 166.1 | AI34: =C71 -> 164.54 | AJ34: =C72 -> 162.48 | AK34: =C73 -> 149.98 | AL34: =C74 -> 153.7 | AM34: =C75 -> 151.7 | AN34: =AM34/AM33-1 -> -0.10204806
A35: =A34+1 -> 32 | B35: 42247 | C35: 129.02 | AA35: 2019 | AB35: =C76 -> 157.77 | AC35: =C77 -> 161.16 | AD35: =C78 -> 162.22 | AE35: =C79 -> 163.86 | AF35: =C80 -> 157.51 | AG35: =C81 -> 159.1 | AH35: =C82 -> 158.73 | AI35: =C83 -> 149.9 | AJ35: =C84 -> 150.57 | AK35: =C85 -> 151.02 | AL35: =C86 -> 151.54 | AM35: =C87 -> 155.15 | AN35: =AM35/AM34-1 -> 0.022742254
A36: =A35+1 -> 33 | B36: 42277 | C36: 129.66 | AA36: 2020 | AB36: =C88 -> 148.43 | AC36: =C89 -> 144.31 | AD36: =C90 -> 123.98 | AE36: =C91 -> 133.88 | AF36: =C92 -> 133.64 | AG36: =C93 -> 135.64 | AH36: =C94 -> 137.67 | AI36: =C95 -> 141.23 | AJ36: =C96 -> 140.93 | AK36: =C97 -> 142.94 | AL36: =C98 -> 155.51 | AM36: =C99 -> 161.57 | AN36: =AM36/AM35-1 -> 0.04137931
A37: =A36+1 -> 34 | B37: 42307 | C37: 133.77 | AA37: 2021 | AB37: =C100 -> 163.78 | AC37: =C101 -> 172.75 | AD37: =C102 -> 178.35 | AE37: =C103 -> 186.47 | AF37: =C104 -> 187.15 | AG37: =C105 -> 191.5 | AH37: =C106 -> 186.95 | AI37: =C107 -> 189.25 | AJ37: =C108 -> 190.99 | AK37: =C109 -> 190.37 | AL37: =C110 -> 186.23 | AM37: =C111 -> 191.07 | AN37: =AM37/AM36-1 -> 0.1825834
A38: =A37+1 -> 35 | B38: 42338 | C38: 133.76 | AA38: 2022 | AB38: =C112 -> 188.1 | AC38: =C113 -> 191.93 | AD38: =C114 -> 192.32 | AE38: =C115 -> 190.79 | AF38: =C116 -> 190.65 | AG38: =C117 -> 183.32 | AH38: =C118 -> 182.88 | AI38: =C119 -> 185.36 | AJ38: =C120 -> 172.87 | AK38: =C121 -> 168.55 | AL38: =C122 -> 178.16 | AM38: =C123 -> 179.01 | AN38: =AM38/$AM$37-1 -> -0.063118229
A39: =A38+1 -> 36 | B39: 42369 | C39: 134.62 | AA39: 2023 | AB39: =C124 -> 185.55 | AC39: =C125 -> 185.19 | AD39: =C126 -> 184.85 | AE39: =C127 -> 188.56 | AF39: =C128 -> 185.62 | AG39: =C129 -> 189.97 | AH39: =C130 -> 193.16 | AI39: =C131 -> 189.32 | AJ39: =C132 -> 189.63 | AK39: =C133 -> 184.04 | AL39: =C134 -> 188.94 | AM39: =C135 -> 192.85 | AN39: =AM39/$AM$38-1 -> 0.077314117
A40: =A39+1 -> 37 | B40: 42398 | C40: 125.77 | AA40: 2024 | AB40: =C136 -> 193.35 | AC40: =C137 -> 197.76 | AD40: =C138 -> 201.63 | AE40: =C139 -> 203.53 | AF40: =C140 -> 207.64 | AG40: =C141 -> 208.31 | AH40: =C142 -> 208.71 | AI40: =C143 -> 208.53 | AJ40: =C144 -> 213.21 | AK40: =C145 -> 211.15 | AL40: =C146 -> 212.46 | AM40: =C147 -> 215.23 | AN40: =AM40/$AM$39-1 -> 0.11604874
A41: =A40+1 -> 38 | B41: 42429 | C41: 124.85 | AA41: 2025 | AB41: =C148 -> 216.09 | AC41: =C149 -> 216.14 | AD41: 217.42 | AE41: 213.86 | AF41: =C152 -> 220.22 | AG41: 223.41 | AH41: =C154 -> 229.64 | AI41: 233.61 | AJ41: =C156 -> 238.05 | AK41: =C157 -> 241.69 | AL41: =C158 -> 242.18 | AM41: 243.31 | AN41: =AM41/$AM$40-1 -> 0.13046508
...

Sheet YTD
A1: Date | B1: AVF | C1: Hong Kong | D1: Singapore | E1: Malaysia | F1: Korea | G1: Japan | H1: Taiwan | I1: Thailand | J1: AC ASIA PACIFIC | K1: AC ASIA PACIFIC ex JAPAN
A7: =Main!B4 -> 41305 | B7: =Main!C4/Main!C$3-1 -> 0.017036963 | C7: =Main!D4/Main!D$3-1 -> #DIV/0! | D7: =Main!E4/Main!E$3-1 -> #DIV/0! | E7: =Main!F4/Main!F$3-1 -> #DIV/0! | F7: =Main!G4/Main!G$3-1 -> #DIV/0! | G7: =Main!H4/Main!H$3-1 -> #DIV/0! | H7: =Main!I4/Main!I$3-1 -> #DIV/0! | I7: =Main!J4/Main!J$3-1 -> #DIV/0! | ... K7: =Main!L4/Main!L$3-1 -> #DIV/0!
A8: =Main!B5 -> 41333 | B8: =Main!C5/Main!C$3-1 -> 0.026103417 | C8: =Main!D5/Main!D$3-1 -> #DIV/0! | D8: =Main!E5/Main!E$3-1 -> #DIV/0! | E8: =Main!F5/Main!F$3-1 -> #DIV/0! | F8: =Main!G5/Main!G$3-1 -> #DIV/0! | G8: =Main!H5/Main!H$3-1 -> #DIV/0! | H8: =Main!I5/Main!I$3-1 -> #DIV/0! | I8: =Main!J5/Main!J$3-1 -> #DIV/0! | ... K8: =Main!L5/Main!L$3-1 -> #DIV/0!
A9: =Main!B6 -> 41362 | B9: =Main!C6/Main!C$3-1 -> 0.025505629 | C9: =Main!D6/Main!D$3-1 -> #DIV/0! | D9: =Main!E6/Main!E$3-1 -> #DIV/0! | E9: =Main!F6/Main!F$3-1 -> #DIV/0! | F9: =Main!G6/Main!G$3-1 -> #DIV/0! | G9: =Main!H6/Main!H$3-1 -> #DIV/0! | H9: =Main!I6/Main!I$3-1 -> #DIV/0! | I9: =Main!J6/Main!J$3-1 -> #DIV/0! | ... K9: =Main!L6/Main!L$3-1 -> #DIV/0!
A10: =Main!B7 -> 41394 | B10: =Main!C7/Main!C$3-1 -> 0.014048022 | C10: =Main!D7/Main!D$3-1 -> #DIV/0! | D10: =Main!E7/Main!E$3-1 -> #DIV/0! | E10: =Main!F7/Main!F$3-1 -> #DIV/0! | F10: =Main!G7/Main!G$3-1 -> #DIV/0! | G10: =Main!H7/Main!H$3-1 -> #DIV/0! | H10: =Main!I7/Main!I$3-1 -> #DIV/0! | I10: =Main!J7/Main!J$3-1 -> #DIV/0! | ... K10: =Main!L7/Main!L$3-1 -> #DIV/0!
A11: =Main!B8 -> 41425 | B11: =Main!C8/Main!C$3-1 -> 0.079804723 | C11: =Main!D8/Main!D$3-1 -> #DIV/0! | D11: =Main!E8/Main!E$3-1 -> #DIV/0! | E11: =Main!F8/Main!F$3-1 -> #DIV/0! | F11: =Main!G8/Main!G$3-1 -> #DIV/0! | G11: =Main!H8/Main!H$3-1 -> #DIV/0! | H11: =Main!I8/Main!I$3-1 -> #DIV/0! | I11: =Main!J8/Main!J$3-1 -> #DIV/0! | ... K11: =Main!L8/Main!L$3-1 -> #DIV/0!
A12: =Main!B9 -> 41453 | B12: =Main!C9/Main!C$3-1 -> 0.043339643 | C12: =Main!D9/Main!D$3-1 -> #DIV/0! | D12: =Main!E9/Main!E$3-1 -> #DIV/0! | E12: =Main!F9/Main!F$3-1 -> #DIV/0! | F12: =Main!G9/Main!G$3-1 -> #DIV/0! | G12: =Main!H9/Main!H$3-1 -> #DIV/0! | H12: =Main!I9/Main!I$3-1 -> #DIV/0! | I12: =Main!J9/Main!J$3-1 -> #DIV/0! | ... K12: =Main!L9/Main!L$3-1 -> #DIV/0!
A13: =Main!B10 -> 41486 | B13: =Main!C10/Main!C$3-1 -> 0.05768656 | C13: =Main!D10/Main!D$3-1 -> #DIV/0! | D13: =Main!E10/Main!E$3-1 -> #DIV/0! | E13: =Main!F10/Main!F$3-1 -> #DIV/0! | F13: =Main!G10/Main!G$3-1 -> #DIV/0! | G13: =Main!H10/Main!H$3-1 -> #DIV/0! | H13: =Main!I10/Main!I$3-1 -> #DIV/0! | I13: =Main!J10/Main!J$3-1 -> #DIV/0! | ... K13: =Main!L10/Main!L$3-1 -> #DIV/0!
A14: =Main!B11 -> 41516 | B14: =Main!C11/Main!C$3-1 -> 0.055793564 | C14: =Main!D11/Main!D$3-1 -> #DIV/0! | D14: =Main!E11/Main!E$3-1 -> #DIV/0! | E14: =Main!F11/Main!F$3-1 -> #DIV/0! | F14: =Main!G11/Main!G$3-1 -> #DIV/0! | G14: =Main!H11/Main!H$3-1 -> #DIV/0! | H14: =Main!I11/Main!I$3-1 -> #DIV/0! | I14: =Main!J11/Main!J$3-1 -> #DIV/0! | ... K14: =Main!L11/Main!L$3-1 -> #DIV/0!
A15: =Main!B12 -> 41547 | B15: =Main!C12/Main!C$3-1 -> 0.081398824 | C15: =Main!D12/Main!D$3-1 -> #DIV/0! | D15: =Main!E12/Main!E$3-1 -> #DIV/0! | E15: =Main!F12/Main!F$3-1 -> #DIV/0! | F15: =Main!G12/Main!G$3-1 -> #DIV/0! | G15: =Main!H12/Main!H$3-1 -> #DIV/0! | H15: =Main!I12/Main!I$3-1 -> #DIV/0! | I15: =Main!J12/Main!J$3-1 -> #DIV/0! | ... K15: =Main!L12/Main!L$3-1 -> #DIV/0!
A16: =Main!B13 -> 41578 | B16: =Main!C13/Main!C$3-1 -> 0.10012952 | C16: =Main!D13/Main!D$3-1 -> #DIV/0! | D16: =Main!E13/Main!E$3-1 -> #DIV/0! | E16: =Main!F13/Main!F$3-1 -> #DIV/0! | F16: =Main!G13/Main!G$3-1 -> #DIV/0! | G16: =Main!H13/Main!H$3-1 -> #DIV/0! | H16: =Main!I13/Main!I$3-1 -> #DIV/0! | I16: =Main!J13/Main!J$3-1 -> #DIV/0! | ... K16: =Main!L13/Main!L$3-1 -> #DIV/0!
A17: =Main!B14 -> 41607 | B17: =Main!C14/Main!C$3-1 -> 0.12214805 | C17: =Main!D14/Main!D$3-1 -> #DIV/0! | D17: =Main!E14/Main!E$3-1 -> #DIV/0! | E17: =Main!F14/Main!F$3-1 -> #DIV/0! | F17: =Main!G14/Main!G$3-1 -> #DIV/0! | G17: =Main!H14/Main!H$3-1 -> #DIV/0! | H17: =Main!I14/Main!I$3-1 -> #DIV/0! | I17: =Main!J14/Main!J$3-1 -> #DIV/0! | ... K17: =Main!L14/Main!L$3-1 -> #DIV/0!
A18: =Main!B15 -> 41639 | B18: =Main!C15/Main!C$3-1 -> 0.1334064 | C18: =Main!D15/Main!D$3-1 -> #DIV/0! | D18: =Main!E15/Main!E$3-1 -> #DIV/0! | E18: =Main!F15/Main!F$3-1 -> #DIV/0! | F18: =Main!G15/Main!G$3-1 -> #DIV/0! | G18: =Main!H15/Main!H$3-1 -> #DIV/0! | H18: =Main!I15/Main!I$3-1 -> #DIV/0! | I18: =Main!J15/Main!J$3-1 -> #DIV/0! | ... K18: =Main!L15/Main!L$3-1 -> #DIV/0!
A19: =Main!B16 -> 41670 | B19: =Main!C16/Main!C$15-1 -> -0.0011427567 | C19: =Main!D16/Main!D$15-1 -> #DIV/0! | D19: =Main!E16/Main!E$15-1 -> #DIV/0! | E19: =Main!F16/Main!F$15-1 -> #DIV/0! | F19: =Main!G16/Main!G$15-1 -> #DIV/0! | G19: =Main!H16/Main!H$15-1 -> #DIV/0! | H19: =Main!I16/Main!I$15-1 -> #DIV/0! | I19: =Main!J16/Main!J$15-1 -> #DIV/0! | ... K19: =Main!L16/Main!L$15-1 -> #DIV/0!
A20: =Main!B17 -> 41698 | B20: =Main!C17/Main!C$15-1 -> 0.013976793 | C20: =Main!D17/Main!D$15-1 -> #DIV/0! | D20: =Main!E17/Main!E$15-1 -> #DIV/0! | E20: =Main!F17/Main!F$15-1 -> #DIV/0! | F20: =Main!G17/Main!G$15-1 -> #DIV/0! | G20: =Main!H17/Main!H$15-1 -> #DIV/0! | H20: =Main!I17/Main!I$15-1 -> #DIV/0! | I20: =Main!J17/Main!J$15-1 -> #DIV/0! | ... K20: =Main!L17/Main!L$15-1 -> #DIV/0!
A21: =Main!B18 -> 41729 | B21: =Main!C18/Main!C$15-1 -> 0.01916315 | C21: =Main!D18/Main!D$15-1 -> #DIV/0! | D21: =Main!E18/Main!E$15-1 -> #DIV/0! | E21: =Main!F18/Main!F$15-1 -> #DIV/0! | F21: =Main!G18/Main!G$15-1 -> #DIV/0! | G21: =Main!H18/Main!H$15-1 -> #DIV/0! | H21: =Main!I18/Main!I$15-1 -> #DIV/0! | I21: =Main!J18/Main!J$15-1 -> #DIV/0! | ... K21: =Main!L18/Main!L$15-1 -> #DIV/0!
A22: =Main!B19 -> 41759 | B22: =Main!C19/Main!C$15-1 -> 0.028744726 | C22: =Main!D19/Main!D$15-1 -> #DIV/0! | D22: =Main!E19/Main!E$15-1 -> #DIV/0! | E22: =Main!F19/Main!F$15-1 -> #DIV/0! | F22: =Main!G19/Main!G$15-1 -> #DIV/0! | G22: =Main!H19/Main!H$15-1 -> #DIV/0! | H22: =Main!I19/Main!I$15-1 -> #DIV/0! | I22: =Main!J19/Main!J$15-1 -> #DIV/0! | ... K22: =Main!L19/Main!L$15-1 -> #DIV/0!
A23: =Main!B20 -> 41789 | B23: =Main!C20/Main!C$15-1 -> 0.041139241 | C23: =Main!D20/Main!D$15-1 -> #DIV/0! | D23: =Main!E20/Main!E$15-1 -> #DIV/0! | E23: =Main!F20/Main!F$15-1 -> #DIV/0! | F23: =Main!G20/Main!G$15-1 -> #DIV/0! | G23: =Main!H20/Main!H$15-1 -> #DIV/0! | H23: =Main!I20/Main!I$15-1 -> #DIV/0! | I23: =Main!J20/Main!J$15-1 -> #DIV/0! | ... K23: =Main!L20/Main!L$15-1 -> #DIV/0!
A24: =Main!B21 -> 41820 | B24: =Main!C21/Main!C$15-1 -> 0.05423699 | C24: =Main!D21/Main!D$15-1 -> #DIV/0! | D24: =Main!E21/Main!E$15-1 -> #DIV/0! | E24: =Main!F21/Main!F$15-1 -> #DIV/0! | F24: =Main!G21/Main!G$15-1 -> #DIV/0! | G24: =Main!H21/Main!H$15-1 -> #DIV/0! | H24: =Main!I21/Main!I$15-1 -> #DIV/0! | I24: =Main!J21/Main!J$15-1 -> #DIV/0! | ... K24: =Main!L21/Main!L$15-1 -> #DIV/0!
A25: =Main!B22 -> 41851 | B25: =Main!C22/Main!C$15-1 -> 0.091860056 | C25: =Main!D22/Main!D$15-1 -> #DIV/0! | D25: =Main!E22/Main!E$15-1 -> #DIV/0! | E25: =Main!F22/Main!F$15-1 -> #DIV/0! | F25: =Main!G22/Main!G$15-1 -> #DIV/0! | G25: =Main!H22/Main!H$15-1 -> #DIV/0! | H25: =Main!I22/Main!I$15-1 -> #DIV/0! | I25: =Main!J22/Main!J$15-1 -> #DIV/0! | ... K25: =Main!L22/Main!L$15-1 -> #DIV/0!
A26: =Main!B23 -> 41880 | B26: =Main!C23/Main!C$15-1 -> 0.11146273 | C26: 0.010175161 | D26: =Main!E23/Main!E$15-1 -> #DIV/0! | E26: =Main!F23/Main!F$15-1 -> #DIV/0! | F26: =Main!G23/Main!G$15-1 -> #DIV/0! | G26: =Main!H23/Main!H$15-1 -> #DIV/0! | H26: =Main!I23/Main!I$15-1 -> #DIV/0! | I26: =Main!J23/Main!J$15-1 -> #DIV/0! | J26: -1 | K26: -1 | L26: -1
A27: =Main!B24 -> 41912 | B27: =Main!C24/Main!C$15-1 -> 0.11269339 | C27: =Main!D24/Main!D$15-1 -> #DIV/0! | D27: =Main!E24/Main!E$15-1 -> #DIV/0! | E27: =Main!F24/Main!F$15-1 -> #DIV/0! | F27: =Main!G24/Main!G$15-1 -> #DIV/0! | G27: =Main!H24/Main!H$15-1 -> #DIV/0! | H27: =Main!I24/Main!I$15-1 -> #DIV/0! | I27: =Main!J24/Main!J$15-1 -> #DIV/0! | ... K27: =Main!L24/Main!L$15-1 -> #DIV/0!
A28: =Main!B25 -> 41943 | B28: =Main!C25/Main!C$15-1 -> 0.12016526 | C28: =Main!D25/Main!D$15-1 -> #DIV/0! | D28: =Main!E25/Main!E$15-1 -> #DIV/0! | E28: =Main!F25/Main!F$15-1 -> #DIV/0! | F28: =Main!G25/Main!G$15-1 -> #DIV/0! | G28: =Main!H25/Main!H$15-1 -> #DIV/0! | H28: =Main!I25/Main!I$15-1 -> #DIV/0! | I28: =Main!J25/Main!J$15-1 -> #DIV/0! | ... K28: =Main!L25/Main!L$15-1 -> #DIV/0!
A29: =Main!B26 -> 41971 | B29: =Main!C26/Main!C$15-1 -> 0.13203235 | C29: =Main!D26/Main!D$15-1 -> #DIV/0! | D29: =Main!E26/Main!E$15-1 -> #DIV/0! | E29: =Main!F26/Main!F$15-1 -> #DIV/0! | F29: =Main!G26/Main!G$15-1 -> #DIV/0! | G29: =Main!H26/Main!H$15-1 -> #DIV/0! | H29: =Main!I26/Main!I$15-1 -> #DIV/0! | I29: =Main!J26/Main!J$15-1 -> #DIV/0! | ... K29: =Main!L26/Main!L$15-1 -> #DIV/0!
A30: =Main!B27 -> 42004 | B30: =Main!C27/Main!C$15-1 -> 0.11436357 | C30: =Main!D27/Main!D$15-1 -> #DIV/0! | D30: =Main!E27/Main!E$15-1 -> #DIV/0! | E30: =Main!F27/Main!F$15-1 -> #DIV/0! | F30: =Main!G27/Main!G$15-1 -> #DIV/0! | G30: =Main!H27/Main!H$15-1 -> #DIV/0! | H30: =Main!I27/Main!I$15-1 -> #DIV/0! | I30: =Main!J27/Main!J$15-1 -> #DIV/0! | ... K30: =Main!L27/Main!L$15-1 -> #DIV/0!
A31: =Main!B28 -> 42034 | B31: =Main!C28/Main!C$27-1 -> 0.027766822 | C31: =Main!D28/Main!D$27-1 -> #DIV/0! | D31: =Main!E28/Main!E$27-1 -> #DIV/0! | E31: =Main!F28/Main!F$27-1 -> #DIV/0! | F31: =Main!G28/Main!G$27-1 -> #DIV/0! | G31: =Main!H28/Main!H$27-1 -> #DIV/0! | H31: =Main!I28/Main!I$27-1 -> #DIV/0! | I31: =Main!J28/Main!J$27-1 -> #DIV/0! | ... K31: =Main!L28/Main!L$27-1 -> #DIV/0!
A32: =Main!B29 -> 42062 | B32: =Main!C29/Main!C$27-1 -> 0.049459651 | C32: =Main!D29/Main!D$27-1 -> #DIV/0! | D32: =Main!E29/Main!E$27-1 -> #DIV/0! | E32: =Main!F29/Main!F$27-1 -> #DIV/0! | F32: =Main!G29/Main!G$27-1 -> #DIV/0! | G32: =Main!H29/Main!H$27-1 -> #DIV/0! | H32: =Main!I29/Main!I$27-1 -> #DIV/0! | I32: =Main!J29/Main!J$27-1 -> #DIV/0! | ... K32: =Main!L29/Main!L$27-1 -> #DIV/0!
A33: =Main!B30 -> 42094 | B33: =Main!C30/Main!C$27-1 -> 0.06144987 | C33: =Main!D30/Main!D$27-1 -> #DIV/0! | D33: =Main!E30/Main!E$27-1 -> #DIV/0! | E33: =Main!F30/Main!F$27-1 -> #DIV/0! | F33: =Main!G30/Main!G$27-1 -> #DIV/0! | G33: =Main!H30/Main!H$27-1 -> #DIV/0! | H33: =Main!I30/Main!I$27-1 -> #DIV/0! | I33: =Main!J30/Main!J$27-1 -> #DIV/0! | ... K33: =Main!L30/Main!L$27-1 -> #DIV/0!
A34: =Main!B31 -> 42124 | B34: =Main!C31/Main!C$27-1 -> 0.13007809 | C34: =Main!D31/Main!D$27-1 -> #DIV/0! | D34: =Main!E31/Main!E$27-1 -> #DIV/0! | E34: =Main!F31/Main!F$27-1 -> #DIV/0! | F34: =Main!G31/Main!G$27-1 -> #DIV/0! | G34: =Main!H31/Main!H$27-1 -> #DIV/0! | H34: =Main!I31/Main!I$27-1 -> #DIV/0! | I34: =Main!J31/Main!J$27-1 -> #DIV/0! | ... K34: =Main!L31/Main!L$27-1 -> #DIV/0!
A35: =Main!B32 -> 42153 | B35: =Main!C32/Main!C$27-1 -> 0.17425258 | C35: =Main!D32/Main!D$27-1 -> #DIV/0! | D35: =Main!E32/Main!E$27-1 -> #DIV/0! | E35: =Main!F32/Main!F$27-1 -> #DIV/0! | F35: =Main!G32/Main!G$27-1 -> #DIV/0! | G35: =Main!H32/Main!H$27-1 -> #DIV/0! | H35: =Main!I32/Main!I$27-1 -> #DIV/0! | I35: =Main!J32/Main!J$27-1 -> #DIV/0! | ... K35: =Main!L32/Main!L$27-1 -> #DIV/0!
A36: =Main!B33 -> 42185 | B36: =Main!C33/Main!C$27-1 -> 0.15571507 | C36: =Main!D33/Main!D$27-1 -> #DIV/0! | D36: =Main!E33/Main!E$27-1 -> #DIV/0! | E36: =Main!F33/Main!F$27-1 -> #DIV/0! | F36: =Main!G33/Main!G$27-1 -> #DIV/0! | G36: =Main!H33/Main!H$27-1 -> #DIV/0! | H36: =Main!I33/Main!I$27-1 -> #DIV/0! | I36: =Main!J33/Main!J$27-1 -> #DIV/0! | ... K36: =Main!L33/Main!L$27-1 -> #DIV/0!
A37: =Main!B34 -> 42216 | B37: =Main!C34/Main!C$27-1 -> 0.096947227 | C37: =Main!D34/Main!D$27-1 -> #DIV/0! | D37: =Main!E34/Main!E$27-1 -> #DIV/0! | E37: =Main!F34/Main!F$27-1 -> #DIV/0! | F37: =Main!G34/Main!G$27-1 -> #DIV/0! | G37: =Main!H34/Main!H$27-1 -> #DIV/0! | H37: =Main!I34/Main!I$27-1 -> #DIV/0! | I37: =Main!J34/Main!J$27-1 -> #DIV/0! | ... K37: =Main!L34/Main!L$27-1 -> #DIV/0!
A38: =Main!B35 -> 42247 | B38: =Main!C35/Main!C$27-1 -> 0.017748679 | C38: =Main!D35/Main!D$27-1 -> #DIV/0! | D38: =Main!E35/Main!E$27-1 -> #DIV/0! | E38: =Main!F35/Main!F$27-1 -> #DIV/0! | F38: =Main!G35/Main!G$27-1 -> #DIV/0! | G38: =Main!H35/Main!H$27-1 -> #DIV/0! | H38: =Main!I35/Main!I$27-1 -> #DIV/0! | I38: =Main!J35/Main!J$27-1 -> #DIV/0! | ... K38: =Main!L35/Main!L$27-1 -> #DIV/0!
A39: =Main!B36 -> 42277 | B39: =Main!C36/Main!C$27-1 -> 0.022797192 | C39: =Main!D36/Main!D$27-1 -> #DIV/0! | D39: =Main!E36/Main!E$27-1 -> #DIV/0! | E39: =Main!F36/Main!F$27-1 -> #DIV/0! | F39: =Main!G36/Main!G$27-1 -> #DIV/0! | G39: =Main!H36/Main!H$27-1 -> #DIV/0! | H39: =Main!I36/Main!I$27-1 -> #DIV/0! | I39: =Main!J36/Main!J$27-1 -> #DIV/0! | ... K39: =Main!L36/Main!L$27-1 -> #DIV/0!
A40: =Main!B37 -> 42307 | B40: =Main!C37/Main!C$27-1 -> 0.055218112 | C40: =Main!D37/Main!D$27-1 -> #DIV/0! | D40: =Main!E37/Main!E$27-1 -> #DIV/0! | E40: =Main!F37/Main!F$27-1 -> #DIV/0! | F40: =Main!G37/Main!G$27-1 -> #DIV/0! | G40: =Main!H37/Main!H$27-1 -> #DIV/0! | H40: =Main!I37/Main!I$27-1 -> #DIV/0! | I40: =Main!J37/Main!J$27-1 -> #DIV/0! | ... K40: =Main!L37/Main!L$27-1 -> #DIV/0!
A41: =Main!B38 -> 42338 | B41: =Main!C38/Main!C$27-1 -> 0.055139229 | C41: =Main!D38/Main!D$27-1 -> #DIV/0! | D41: =Main!E38/Main!E$27-1 -> #DIV/0! | E41: =Main!F38/Main!F$27-1 -> #DIV/0! | F41: =Main!G38/Main!G$27-1 -> #DIV/0! | G41: =Main!H38/Main!H$27-1 -> #DIV/0! | H41: =Main!I38/Main!I$27-1 -> #DIV/0! | I41: =Main!J38/Main!J$27-1 -> #DIV/0! | ... K41: =Main!L38/Main!L$27-1 -> #DIV/0!
A42: =Main!B39 -> 42369 | B42: =Main!C39/Main!C$27-1 -> 0.061923168 | C42: =Main!D39/Main!D$27-1 -> #DIV/0! | D42: =Main!E39/Main!E$27-1 -> #DIV/0! | E42: =Main!F39/Main!F$27-1 -> #DIV/0! | F42: =Main!G39/Main!G$27-1 -> #DIV/0! | G42: =Main!H39/Main!H$27-1 -> #DIV/0! | H42: =Main!I39/Main!I$27-1 -> #DIV/0! | I42: =Main!J39/Main!J$27-1 -> #DIV/0! | ... K42: =Main!L39/Main!L$27-1 -> #DIV/0!
A43: =Main!B40 -> 42398 | B43: =Main!C40/Main!C$39-1 -> -0.065740603 | C43: =Main!D40/Main!D$39-1 -> #DIV/0! | D43: =Main!E40/Main!E$39-1 -> #DIV/0! | E43: =Main!F40/Main!F$39-1 -> #DIV/0! | F43: =Main!G40/Main!G$39-1 -> #DIV/0! | G43: =Main!H40/Main!H$39-1 -> #DIV/0! | H43: =Main!I40/Main!I$39-1 -> #DIV/0! | I43: =Main!J40/Main!J$39-1 -> #DIV/0! | ... K43: =Main!L40/Main!L$39-1 -> #DIV/0!
A44: =Main!B41 -> 42429 | B44: =Main!C41/Main!C$39-1 -> -0.072574655 | C44: =Main!D41/Main!D$39-1 -> #DIV/0! | D44: =Main!E41/Main!E$39-1 -> #DIV/0! | E44: =Main!F41/Main!F$39-1 -> #DIV/0! | F44: =Main!G41/Main!G$39-1 -> #DIV/0! | G44: =Main!H41/Main!H$39-1 -> #DIV/0! | H44: =Main!I41/Main!I$39-1 -> #DIV/0! | I44: =Main!J41/Main!J$39-1 -> #DIV/0! | ... K44: =Main!L41/Main!L$39-1 -> #DIV/0!
A45: =Main!B42 -> 42460 | B45: =Main!C42/Main!C$39-1 -> -0.021244986 | C45: =Main!D42/Main!D$39-1 -> #DIV/0! | D45: =Main!E42/Main!E$39-1 -> #DIV/0! | E45: =Main!F42/Main!F$39-1 -> #DIV/0! | F45: =Main!G42/Main!G$39-1 -> #DIV/0! | G45: =Main!H42/Main!H$39-1 -> #DIV/0! | H45: =Main!I42/Main!I$39-1 -> #DIV/0! | I45: =Main!J42/Main!J$39-1 -> #DIV/0! | ... K45: =Main!L42/Main!L$39-1 -> #DIV/0!
...

Sheet Last 1M
A4: Date | B4: AVF | C4: Hong Kong | D4: Singapore | E4: Malaysia | F4: Korea | G4: Japan | H4: Taiwan | I4: Thailand | J4: AC ASIA PACIFIC | K4: AC ASIA PACIFIC ex JAPAN
A5: =Main!B3 -> 41274
A6: =Main!B4 -> 41305 | B6: =Main!C4/Main!C3-1 -> 0.017036963 | C6: =Main!D4/Main!D3-1 -> #DIV/0! | D6: =Main!E4/Main!E3-1 -> #DIV/0! | E6: =Main!F4/Main!F3-1 -> #DIV/0! | F6: =Main!G4/Main!G3-1 -> #DIV/0! | G6: =Main!H4/Main!H3-1 -> #DIV/0! | H6: =Main!I4/Main!I3-1 -> #DIV/0! | I6: =Main!J4/Main!J3-1 -> #DIV/0! | ... K6: =Main!L4/Main!L3-1 -> #DIV/0!
A7: =Main!B5 -> 41333 | B7: =Main!C5/Main!C4-1 -> 0.0089145768 | C7: =Main!D5/Main!D4-1 -> #DIV/0! | D7: =Main!E5/Main!E4-1 -> #DIV/0! | E7: =Main!F5/Main!F4-1 -> #DIV/0! | F7: =Main!G5/Main!G4-1 -> #DIV/0! | G7: =Main!H5/Main!H4-1 -> #DIV/0! | H7: =Main!I5/Main!I4-1 -> #DIV/0! | I7: =Main!J5/Main!J4-1 -> #DIV/0! | ... K7: =Main!L5/Main!L4-1 -> #DIV/0!
A8: =Main!B6 -> 41362 | B8: =Main!C6/Main!C5-1 -> -0.00058258083 | C8: =Main!D6/Main!D5-1 -> #DIV/0! | D8: =Main!E6/Main!E5-1 -> #DIV/0! | E8: =Main!F6/Main!F5-1 -> #DIV/0! | F8: =Main!G6/Main!G5-1 -> #DIV/0! | G8: =Main!H6/Main!H5-1 -> #DIV/0! | H8: =Main!I6/Main!I5-1 -> #DIV/0! | I8: =Main!J6/Main!J5-1 -> #DIV/0! | ... K8: =Main!L6/Main!L5-1 -> #DIV/0!
A9: =Main!B7 -> 41394 | B9: =Main!C7/Main!C6-1 -> -0.011172642 | C9: =Main!D7/Main!D6-1 -> #DIV/0! | D9: =Main!E7/Main!E6-1 -> #DIV/0! | E9: =Main!F7/Main!F6-1 -> #DIV/0! | F9: =Main!G7/Main!G6-1 -> #DIV/0! | G9: =Main!H7/Main!H6-1 -> #DIV/0! | H9: =Main!I7/Main!I6-1 -> #DIV/0! | I9: =Main!J7/Main!J6-1 -> #DIV/0! | ... K9: =Main!L7/Main!L6-1 -> #DIV/0!
A10: =Main!B8 -> 41425 | B10: =Main!C8/Main!C7-1 -> 0.064845746 | C10: =Main!D8/Main!D7-1 -> #DIV/0! | D10: =Main!E8/Main!E7-1 -> #DIV/0! | E10: =Main!F8/Main!F7-1 -> #DIV/0! | F10: =Main!G8/Main!G7-1 -> #DIV/0! | G10: =Main!H8/Main!H7-1 -> #DIV/0! | H10: =Main!I8/Main!I7-1 -> #DIV/0! | I10: =Main!J8/Main!J7-1 -> #DIV/0! | ... K10: =Main!L8/Main!L7-1 -> #DIV/0!
A11: =Main!B9 -> 41453 | B11: =Main!C9/Main!C8-1 -> -0.033770068 | C11: =Main!D9/Main!D8-1 -> #DIV/0! | D11: =Main!E9/Main!E8-1 -> #DIV/0! | E11: =Main!F9/Main!F8-1 -> #DIV/0! | F11: =Main!G9/Main!G8-1 -> #DIV/0! | G11: =Main!H9/Main!H8-1 -> #DIV/0! | H11: =Main!I9/Main!I8-1 -> #DIV/0! | I11: =Main!J9/Main!J8-1 -> #DIV/0! | ... K11: =Main!L9/Main!L8-1 -> #DIV/0!
A12: =Main!B10 -> 41486 | B12: =Main!C10/Main!C9-1 -> 0.013750955 | C12: =Main!D10/Main!D9-1 -> #DIV/0! | D12: =Main!E10/Main!E9-1 -> #DIV/0! | E12: =Main!F10/Main!F9-1 -> #DIV/0! | F12: =Main!G10/Main!G9-1 -> #DIV/0! | G12: =Main!H10/Main!H9-1 -> #DIV/0! | H12: =Main!I10/Main!I9-1 -> #DIV/0! | I12: =Main!J10/Main!J9-1 -> #DIV/0! | ... K12: =Main!L10/Main!L9-1 -> #DIV/0!
A13: =Main!B11 -> 41516 | B13: =Main!C11/Main!C10-1 -> -0.0017897513 | C13: =Main!D11/Main!D10-1 -> #DIV/0! | D13: =Main!E11/Main!E10-1 -> #DIV/0! | E13: =Main!F11/Main!F10-1 -> #DIV/0! | F13: =Main!G11/Main!G10-1 -> #DIV/0! | G13: =Main!H11/Main!H10-1 -> #DIV/0! | H13: =Main!I11/Main!I10-1 -> #DIV/0! | I13: =Main!J11/Main!J10-1 -> #DIV/0! | ... K13: =Main!L11/Main!L10-1 -> #DIV/0!
A14: =Main!B12 -> 41547 | B14: =Main!C12/Main!C11-1 -> 0.024252147 | C14: =Main!D12/Main!D11-1 -> #DIV/0! | D14: =Main!E12/Main!E11-1 -> #DIV/0! | E14: =Main!F12/Main!F11-1 -> #DIV/0! | F14: =Main!G12/Main!G11-1 -> #DIV/0! | G14: =Main!H12/Main!H11-1 -> #DIV/0! | H14: =Main!I12/Main!I11-1 -> #DIV/0! | I14: =Main!J12/Main!J11-1 -> #DIV/0! | ... K14: =Main!L12/Main!L11-1 -> #DIV/0!
A15: =Main!B13 -> 41578 | B15: =Main!C13/Main!C12-1 -> 0.017320803 | C15: =Main!D13/Main!D12-1 -> #DIV/0! | D15: =Main!E13/Main!E12-1 -> #DIV/0! | E15: =Main!F13/Main!F12-1 -> #DIV/0! | F15: =Main!G13/Main!G12-1 -> #DIV/0! | G15: =Main!H13/Main!H12-1 -> #DIV/0! | H15: =Main!I13/Main!I12-1 -> #DIV/0! | I15: =Main!J13/Main!J12-1 -> #DIV/0! | ... K15: =Main!L13/Main!L12-1 -> #DIV/0!
A16: =Main!B14 -> 41607 | B16: =Main!C14/Main!C13-1 -> 0.02001449 | C16: =Main!D14/Main!D13-1 -> #DIV/0! | D16: =Main!E14/Main!E13-1 -> #DIV/0! | E16: =Main!F14/Main!F13-1 -> #DIV/0! | F16: =Main!G14/Main!G13-1 -> #DIV/0! | G16: =Main!H14/Main!H13-1 -> #DIV/0! | H16: =Main!I14/Main!I13-1 -> #DIV/0! | I16: =Main!J14/Main!J13-1 -> #DIV/0! | ... K16: =Main!L14/Main!L13-1 -> #DIV/0!
A17: =Main!B15 -> 41639 | B17: =Main!C15/Main!C14-1 -> 0.010032851 | C17: =Main!D15/Main!D14-1 -> #DIV/0! | D17: =Main!E15/Main!E14-1 -> #DIV/0! | E17: =Main!F15/Main!F14-1 -> #DIV/0! | F17: =Main!G15/Main!G14-1 -> #DIV/0! | G17: =Main!H15/Main!H14-1 -> #DIV/0! | H17: =Main!I15/Main!I14-1 -> #DIV/0! | I17: =Main!J15/Main!J14-1 -> #DIV/0! | ... K17: =Main!L15/Main!L14-1 -> #DIV/0!
... A159: =Main!B157 -> 45961 | B159: =Main!C157/Main!C156-1 -> 0.015290905 | C159: =Main!D157/Main!D156-1 -> #DIV/0! | D159: =Main!E157/Main!E156-1 -> #DIV/0! | E159: =Main!F157/Main!F156-1 -> #DIV/0! | F159: =Main!G157/Main!G156-1 -> #DIV/0! | G159: =Main!H157/Main!H156-1 -> #DIV/0! | H159: =Main!I157/Main!I156-1 -> #DIV/0! | I159: =Main!J157/Main!J156-1 -> #DIV/0! | ... K159: =Main!L157/Main!L156-1 -> #DIV/0!
A160: =Main!B158 -> 45989 | B160: =Main!C158/Main!C157-1 -> 0.0020273905
A161: =Main!B159 -> 46022 | B161: =Main!C159/Main!C158-1 -> 0.0046659509
A162: =Main!B160 -> 46052 | B162: =Main!C160/Main!C159-1 -> 0.020180017

Sheet Last 3M
A4: Date | B4: AVF | C4: Hong Kong | D4: Singapore | E4: Malaysia | F4: Korea | G4: Japan | H4: Taiwan | I4: Thailand | J4: AC ASIA PACIFIC | K4: AC ASIA PACIFIC ex JAPAN
A5: =Main!B3 -> 41274
A6: =Main!B4 -> 41305
A7: =Main!B5 -> 41333
A8: =Main!B6 -> 41362 | B8: =Main!C6/Main!C3-1 -> 0.025505629 | C8: =Main!D6/Main!D3-1 -> #DIV/0! | D8: =Main!E6/Main!E3-1 -> #DIV/0! | E8: =Main!F6/Main!F3-1 -> #DIV/0! | F8: =Main!G6/Main!G3-1 -> #DIV/0! | G8: =Main!H6/Main!H3-1 -> #DIV/0! | H8: =Main!I6/Main!I3-1 -> #DIV/0! | I8: =Main!J6/Main!J3-1 -> #DIV/0! | ... K8: =Main!L6/Main!L3-1 -> #DIV/0!
A9: =Main!B7 -> 41394 | B9: =Main!C7/Main!C4-1 -> -0.0029388715 | C9: =Main!D7/Main!D4-1 -> #DIV/0! | D9: =Main!E7/Main!E4-1 -> #DIV/0! | E9: =Main!F7/Main!F4-1 -> #DIV/0! | F9: =Main!G7/Main!G4-1 -> #DIV/0! | G9: =Main!H7/Main!H4-1 -> #DIV/0! | H9: =Main!I7/Main!I4-1 -> #DIV/0! | I9: =Main!J7/Main!J4-1 -> #DIV/0! | ... K9: =Main!L7/Main!L4-1 -> #DIV/0!
A10: =Main!B8 -> 41425 | B10: =Main!C8/Main!C5-1 -> 0.052335178 | C10: =Main!D8/Main!D5-1 -> #DIV/0! | D10: =Main!E8/Main!E5-1 -> #DIV/0! | E10: =Main!F8/Main!F5-1 -> #DIV/0! | F10: =Main!G8/Main!G5-1 -> #DIV/0! | G10: =Main!H8/Main!H5-1 -> #DIV/0! | H10: =Main!I8/Main!I5-1 -> #DIV/0! | I10: =Main!J8/Main!J5-1 -> #DIV/0! | ... K10: =Main!L8/Main!L5-1 -> #DIV/0!
A11: =Main!B9 -> 41453 | B11: =Main!C9/Main!C6-1 -> 0.01739046 | C11: =Main!D9/Main!D6-1 -> #DIV/0! | D11: =Main!E9/Main!E6-1 -> #DIV/0! | E11: =Main!F9/Main!F6-1 -> #DIV/0! | F11: =Main!G9/Main!G6-1 -> #DIV/0! | G11: =Main!H9/Main!H6-1 -> #DIV/0! | H11: =Main!I9/Main!I6-1 -> #DIV/0! | I11: =Main!J9/Main!J6-1 -> #DIV/0! | ... K11: =Main!L9/Main!L6-1 -> #DIV/0!
A12: =Main!B10 -> 41486 | B12: =Main!C10/Main!C7-1 -> 0.043033995 | C12: =Main!D10/Main!D7-1 -> #DIV/0! | D12: =Main!E10/Main!E7-1 -> #DIV/0! | E12: =Main!F10/Main!F7-1 -> #DIV/0! | F12: =Main!G10/Main!G7-1 -> #DIV/0! | G12: =Main!H10/Main!H7-1 -> #DIV/0! | H12: =Main!I10/Main!I7-1 -> #DIV/0! | I12: =Main!J10/Main!J7-1 -> #DIV/0! | ... K12: =Main!L10/Main!L7-1 -> #DIV/0!
A13: =Main!B11 -> 41516 | B13: =Main!C11/Main!C8-1 -> -0.022236575 | C13: =Main!D11/Main!D8-1 -> #DIV/0! | D13: =Main!E11/Main!E8-1 -> #DIV/0! | E13: =Main!F11/Main!F8-1 -> #DIV/0! | F13: =Main!G11/Main!G8-1 -> #DIV/0! | G13: =Main!H11/Main!H8-1 -> #DIV/0! | H13: =Main!I11/Main!I8-1 -> #DIV/0! | I13: =Main!J11/Main!J8-1 -> #DIV/0! | ... K13: =Main!L11/Main!L8-1 -> #DIV/0!
A14: =Main!B12 -> 41547 | B14: =Main!C12/Main!C9-1 -> 0.036478228 | C14: =Main!D12/Main!D9-1 -> #DIV/0! | D14: =Main!E12/Main!E9-1 -> #DIV/0! | E14: =Main!F12/Main!F9-1 -> #DIV/0! | F14: =Main!G12/Main!G9-1 -> #DIV/0! | G14: =Main!H12/Main!H9-1 -> #DIV/0! | H14: =Main!I12/Main!I9-1 -> #DIV/0! | I14: =Main!J12/Main!J9-1 -> #DIV/0! | ... K14: =Main!L12/Main!L9-1 -> #DIV/0!
A15: =Main!B13 -> 41578 | B15: =Main!C13/Main!C10-1 -> 0.040128109 | C15: =Main!D13/Main!D10-1 -> #DIV/0! | D15: =Main!E13/Main!E10-1 -> #DIV/0! | E15: =Main!F13/Main!F10-1 -> #DIV/0! | F15: =Main!G13/Main!G10-1 -> #DIV/0! | G15: =Main!H13/Main!H10-1 -> #DIV/0! | H15: =Main!I13/Main!I10-1 -> #DIV/0! | I15: =Main!J13/Main!J10-1 -> #DIV/0! | ... K15: =Main!L13/Main!L10-1 -> #DIV/0!
A16: =Main!B14 -> 41607 | B16: =Main!C14/Main!C11-1 -> 0.062847976 | C16: =Main!D14/Main!D11-1 -> #DIV/0! | D16: =Main!E14/Main!E11-1 -> #DIV/0! | E16: =Main!F14/Main!F11-1 -> #DIV/0! | F16: =Main!G14/Main!G11-1 -> #DIV/0! | G16: =Main!H14/Main!H11-1 -> #DIV/0! | H16: =Main!I14/Main!I11-1 -> #DIV/0! | I16: =Main!J14/Main!J11-1 -> #DIV/0! | ... K16: =Main!L14/Main!L11-1 -> #DIV/0!
A17: =Main!B15 -> 41639 | B17: =Main!C15/Main!C12-1 -> 0.048092869 | C17: =Main!D15/Main!D12-1 -> #DIV/0! | D17: =Main!E15/Main!E12-1 -> #DIV/0! | E17: =Main!F15/Main!F12-1 -> #DIV/0! | F17: =Main!G15/Main!G12-1 -> #DIV/0! | G17: =Main!H15/Main!H12-1 -> #DIV/0! | H17: =Main!I15/Main!I12-1 -> #DIV/0! | I17: =Main!J15/Main!J12-1 -> #DIV/0! | ... K17: =Main!L15/Main!L12-1 -> #DIV/0!
A18: =Main!B16 -> 41670 | B18: =Main!C16/Main!C13-1 -> 0.029070821 | C18: =Main!D16/Main!D13-1 -> #DIV/0! | D18: =Main!E16/Main!E13-1 -> #DIV/0! | E18: =Main!F16/Main!F13-1 -> #DIV/0! | F18: =Main!G16/Main!G13-1 -> #DIV/0! | G18: =Main!H16/Main!H13-1 -> #DIV/0! | H18: =Main!I16/Main!I13-1 -> #DIV/0! | I18: =Main!J16/Main!J13-1 -> #DIV/0! | ... K18: =Main!L16/Main!L13-1 -> #DIV/0!
A19: =Main!B17 -> 41698 | B19: =Main!C17/Main!C14-1 -> 0.024149871 | C19: =Main!D17/Main!D14-1 -> #DIV/0! | D19: =Main!E17/Main!E14-1 -> #DIV/0! | E19: =Main!F17/Main!F14-1 -> #DIV/0! | F19: =Main!G17/Main!G14-1 -> #DIV/0! | G19: =Main!H17/Main!H14-1 -> #DIV/0! | H19: =Main!I17/Main!I14-1 -> #DIV/0! | I19: =Main!J17/Main!J14-1 -> #DIV/0! | ... K19: =Main!L17/Main!L14-1 -> #DIV/0!
... A159: =Main!B157 -> 45961 | B159: =Main!C157/Main!C154-1 -> 0.052473437 | C159: =Main!D157/Main!D154-1 -> #DIV/0! | D159: =Main!E157/Main!E154-1 -> #DIV/0! | E159: =Main!F157/Main!F154-1 -> #DIV/0! | F159: =Main!G157/Main!G154-1 -> #DIV/0! | G159: =Main!H157/Main!H154-1 -> #DIV/0! | H159: =Main!I157/Main!I154-1 -> #DIV/0! | I159: =Main!J157/Main!J154-1 -> #DIV/0! | ... K159: =Main!L157/Main!L154-1 -> #DIV/0!
A160: =Main!B158 -> 45989 | B160: =Main!C158/Main!C155-1 -> 0.036685073
A161: =Main!B159 -> 46022 | B161: =Main!C159/Main!C156-1 -> 0.022096198
A162: =Main!B160 -> 46052 | B162: =Main!C160/Main!C157-1 -> 0.027018081

Sheet Last 6M
A4: Date | B4: AVF | C4: Hong Kong | D4: Singapore | E4: Malaysia | F4: Korea | G4: Japan | H4: Taiwan | I4: Thailand | J4: AC ASIA PACIFIC | K4: AC ASIA PACIFIC ex JAPAN
A5: =Main!B3 -> 41274
A6: =Main!B4 -> 41305
A7: =Main!B5 -> 41333
A8: =Main!B6 -> 41362
A9: =Main!B7 -> 41394
A10: =Main!B8 -> 41425
A11: =Main!B9 -> 41453 | B11: =Main!C9/Main!C3-1 -> 0.043339643 | C11: =Main!D9/Main!D3-1 -> #DIV/0! | D11: =Main!E9/Main!E3-1 -> #DIV/0! | E11: =Main!F9/Main!F3-1 -> #DIV/0! | F11: =Main!G9/Main!G3-1 -> #DIV/0! | G11: =Main!H9/Main!H3-1 -> #DIV/0! | H11: =Main!I9/Main!I3-1 -> #DIV/0! | I11: =Main!J9/Main!J3-1 -> #DIV/0! | ... K11: =Main!L9/Main!L3-1 -> #DIV/0!
A12: =Main!B10 -> 41486 | B12: =Main!C10/Main!C4-1 -> 0.039968652 | C12: =Main!D10/Main!D4-1 -> #DIV/0! | D12: =Main!E10/Main!E4-1 -> #DIV/0! | E12: =Main!F10/Main!F4-1 -> #DIV/0! | F12: =Main!G10/Main!G4-1 -> #DIV/0! | G12: =Main!H10/Main!H4-1 -> #DIV/0! | H12: =Main!I10/Main!I4-1 -> #DIV/0! | I12: =Main!J10/Main!J4-1 -> #DIV/0! | ... K12: =Main!L10/Main!L4-1 -> #DIV/0!
A13: =Main!B11 -> 41516 | B13: =Main!C11/Main!C5-1 -> 0.028934848 | C13: =Main!D11/Main!D5-1 -> #DIV/0! | D13: =Main!E11/Main!E5-1 -> #DIV/0! | E13: =Main!F11/Main!F5-1 -> #DIV/0! | F13: =Main!G11/Main!G5-1 -> #DIV/0! | G13: =Main!H11/Main!H5-1 -> #DIV/0! | H13: =Main!I11/Main!I5-1 -> #DIV/0! | I13: =Main!J11/Main!J5-1 -> #DIV/0! | ... K13: =Main!L11/Main!L5-1 -> #DIV/0!
A14: =Main!B12 -> 41547 | B14: =Main!C12/Main!C6-1 -> 0.05450306 | C14: =Main!D12/Main!D6-1 -> #DIV/0! | D14: =Main!E12/Main!E6-1 -> #DIV/0! | E14: =Main!F12/Main!F6-1 -> #DIV/0! | F14: =Main!G12/Main!G6-1 -> #DIV/0! | G14: =Main!H12/Main!H6-1 -> #DIV/0! | H14: =Main!I12/Main!I6-1 -> #DIV/0! | I14: =Main!J12/Main!J6-1 -> #DIV/0! | ... K14: =Main!L12/Main!L6-1 -> #DIV/0!
A15: =Main!B13 -> 41578 | B15: =Main!C13/Main!C7-1 -> 0.084888976 | C15: =Main!D13/Main!D7-1 -> #DIV/0! | D15: =Main!E13/Main!E7-1 -> #DIV/0! | E15: =Main!F13/Main!F7-1 -> #DIV/0! | F15: =Main!G13/Main!G7-1 -> #DIV/0! | G15: =Main!H13/Main!H7-1 -> #DIV/0! | H15: =Main!I13/Main!I7-1 -> #DIV/0! | I15: =Main!J13/Main!J7-1 -> #DIV/0! | ... K15: =Main!L13/Main!L7-1 -> #DIV/0!
A16: =Main!B14 -> 41607 | B16: =Main!C14/Main!C8-1 -> 0.039213877 | C16: =Main!D14/Main!D8-1 -> #DIV/0! | D16: =Main!E14/Main!E8-1 -> #DIV/0! | E16: =Main!F14/Main!F8-1 -> #DIV/0! | F16: =Main!G14/Main!G8-1 -> #DIV/0! | G16: =Main!H14/Main!H8-1 -> #DIV/0! | H16: =Main!I14/Main!I8-1 -> #DIV/0! | I16: =Main!J14/Main!J8-1 -> #DIV/0! | ... K16: =Main!L14/Main!L8-1 -> #DIV/0!
A17: =Main!B15 -> 41639 | B17: =Main!C15/Main!C9-1 -> 0.086325439 | C17: =Main!D15/Main!D9-1 -> #DIV/0! | D17: =Main!E15/Main!E9-1 -> #DIV/0! | E17: =Main!F15/Main!F9-1 -> #DIV/0! | F17: =Main!G15/Main!G9-1 -> #DIV/0! | G17: =Main!H15/Main!H9-1 -> #DIV/0! | H17: =Main!I15/Main!I9-1 -> #DIV/0! | I17: =Main!J15/Main!J9-1 -> #DIV/0! | ... K17: =Main!L15/Main!L9-1 -> #DIV/0!
A18: =Main!B16 -> 41670 | B18: =Main!C16/Main!C10-1 -> 0.070365486 | C18: =Main!D16/Main!D10-1 -> #DIV/0! | D18: =Main!E16/Main!E10-1 -> #DIV/0! | E18: =Main!F16/Main!F10-1 -> #DIV/0! | F18: =Main!G16/Main!G10-1 -> #DIV/0! | G18: =Main!H16/Main!H10-1 -> #DIV/0! | H18: =Main!I16/Main!I10-1 -> #DIV/0! | I18: =Main!J16/Main!J10-1 -> #DIV/0! | ... K18: =Main!L16/Main!L10-1 -> #DIV/0!
A19: =Main!B17 -> 41698 | B19: =Main!C17/Main!C11-1 -> 0.088515618 | C19: =Main!D17/Main!D11-1 -> #DIV/0! | D19: =Main!E17/Main!E11-1 -> #DIV/0! | E19: =Main!F17/Main!F11-1 -> #DIV/0! | F19: =Main!G17/Main!G11-1 -> #DIV/0! | G19: =Main!H17/Main!H11-1 -> #DIV/0! | H19: =Main!I17/Main!I11-1 -> #DIV/0! | I19: =Main!J17/Main!J11-1 -> #DIV/0! | ... K19: =Main!L17/Main!L11-1 -> #DIV/0!
A20: =Main!B18 -> 41729 | B20: =Main!C18/Main!C12-1 -> 0.06817763 | C20: =Main!D18/Main!D12-1 -> #DIV/0! | D20: =Main!E18/Main!E12-1 -> #DIV/0! | E20: =Main!F18/Main!F12-1 -> #DIV/0! | F20: =Main!G18/Main!G12-1 -> #DIV/0! | G20: =Main!H18/Main!H12-1 -> #DIV/0! | H20: =Main!I18/Main!I12-1 -> #DIV/0! | I20: =Main!J18/Main!J12-1 -> #DIV/0! | ... K20: =Main!L18/Main!L12-1 -> #DIV/0!
A21: =Main!B19 -> 41759 | B21: =Main!C19/Main!C13-1 -> 0.059862344 | C21: =Main!D19/Main!D13-1 -> #DIV/0! | D21: =Main!E19/Main!E13-1 -> #DIV/0! | E21: =Main!F19/Main!F13-1 -> #DIV/0! | F21: =Main!G19/Main!G13-1 -> #DIV/0! | G21: =Main!H19/Main!H13-1 -> #DIV/0! | H21: =Main!I19/Main!I13-1 -> #DIV/0! | I21: =Main!J19/Main!J13-1 -> #DIV/0! | ... K21: =Main!L19/Main!L13-1 -> #DIV/0!
A22: =Main!B20 -> 41789 | B22: =Main!C20/Main!C14-1 -> 0.051584835 | C22: =Main!D20/Main!D14-1 -> #DIV/0! | D22: =Main!E20/Main!E14-1 -> #DIV/0! | E22: =Main!F20/Main!F14-1 -> #DIV/0! | F22: =Main!G20/Main!G14-1 -> #DIV/0! | G22: =Main!H20/Main!H14-1 -> #DIV/0! | H22: =Main!I20/Main!I14-1 -> #DIV/0! | I22: =Main!J20/Main!J14-1 -> #DIV/0! | ... K22: =Main!L20/Main!L14-1 -> #DIV/0!
... A39: =Main!B37 -> 42307 | B39: =Main!C37/Main!C31-1 -> -0.066243194 | C39: =Main!D37/Main!D31-1 -> #DIV/0! | D39: =Main!E37/Main!E31-1 -> #DIV/0! | E39: =Main!F37/Main!F31-1 -> #DIV/0! | F39: =Main!G37/Main!G31-1 -> #DIV/0! | G39: =Main!H37/Main!H31-1 -> #DIV/0! | H39: =Main!I37/Main!I31-1 -> #DIV/0! | I39: =Main!J37/Main!J31-1 -> #DIV/0! | ... K39: =Main!L37/Main!L31-1 -> #DIV/0!
A40: =Main!B38 -> 42338 | B40: =Main!C38/Main!C32-1 -> -0.10143759 | C40: =Main!D38/Main!D32-1 -> #DIV/0! | D40: =Main!E38/Main!E32-1 -> #DIV/0! | E40: =Main!F38/Main!F32-1 -> #DIV/0! | F40: =Main!G38/Main!G32-1 -> #DIV/0! | G40: =Main!H38/Main!H32-1 -> #DIV/0! | H40: =Main!I38/Main!I32-1 -> #DIV/0! | I40: =Main!J38/Main!J32-1 -> #DIV/0! | ... K40: =Main!L38/Main!L32-1 -> #DIV/0! | T40: EQS
A41: =Main!B39 -> 42369 | B41: =Main!C39/Main!C33-1 -> -0.08115487 | C41: =Main!D39/Main!D33-1 -> #DIV/0! | D41: =Main!E39/Main!E33-1 -> #DIV/0! | E41: =Main!F39/Main!F33-1 -> #DIV/0! | F41: =Main!G39/Main!G33-1 -> #DIV/0! | G41: =Main!H39/Main!H33-1 -> #DIV/0! | H41: =Main!I39/Main!I33-1 -> #DIV/0! | I41: =Main!J39/Main!J33-1 -> #DIV/0! | ... K41: =Main!L39/Main!L33-1 -> #DIV/0!
A42: =Main!B40 -> 42398 | B42: =Main!C40/Main!C34-1 -> -0.095570257 | C42: =Main!D40/Main!D34-1 -> #DIV/0! | D42: =Main!E40/Main!E34-1 -> #DIV/0! | E42: =Main!F40/Main!F34-1 -> #DIV/0! | F42: =Main!G40/Main!G34-1 -> #DIV/0! | G42: =Main!H40/Main!H34-1 -> #DIV/0! | H42: =Main!I40/Main!I34-1 -> #DIV/0! | I42: =Main!J40/Main!J34-1 -> #DIV/0! | ... K42: =Main!L40/Main!L34-1 -> #DIV/0!
A43: =Main!B41 -> 42429 | B43: =Main!C41/Main!C35-1 -> -0.03232057 | C43: =Main!D41/Main!D35-1 -> #DIV/0! | D43: =Main!E41/Main!E35-1 -> #DIV/0! | E43: =Main!F41/Main!F35-1 -> #DIV/0! | F43: =Main!G41/Main!G35-1 -> #DIV/0! | G43: =Main!H41/Main!H35-1 -> #DIV/0! | H43: =Main!I41/Main!I35-1 -> #DIV/0! | I43: =Main!J41/Main!J35-1 -> #DIV/0! | ... K43: =Main!L41/Main!L35-1 -> #DIV/0!
A44: =Main!B42 -> 42460 | B44: =Main!C42/Main!C36-1 -> 0.016196205 | C44: =Main!D42/Main!D36-1 -> #DIV/0! | D44: =Main!E42/Main!E36-1 -> #DIV/0! | E44: =Main!F42/Main!F36-1 -> #DIV/0! | F44: =Main!G42/Main!G36-1 -> #DIV/0! | G44: =Main!H42/Main!H36-1 -> #DIV/0! | H44: =Main!I42/Main!I36-1 -> #DIV/0! | I44: =Main!J42/Main!J36-1 -> #DIV/0! | ... K44: =Main!L42/Main!L36-1 -> #DIV/0!
A45: =Main!B43 -> 42489 | B45: =Main!C43/Main!C37-1 -> -0.0068774763 | C45: =Main!D43/Main!D37-1 -> #DIV/0! | D45: =Main!E43/Main!E37-1 -> #DIV/0! | E45: =Main!F43/Main!F37-1 -> #DIV/0! | F45: =Main!G43/Main!G37-1 -> #DIV/0! | G45: =Main!H43/Main!H37-1 -> #DIV/0! | H45: =Main!I43/Main!I37-1 -> #DIV/0! | I45: =Main!J43/Main!J37-1 -> #DIV/0! | ... K45: =Main!L43/Main!L37-1 -> #DIV/0!
A46: =Main!B44 -> 42521 | B46: =Main!C44/Main!C38-1 -> -0.013531699 | C46: =Main!D44/Main!D38-1 -> #DIV/0! | D46: =Main!E44/Main!E38-1 -> #DIV/0! | E46: =Main!F44/Main!F38-1 -> #DIV/0! | F46: =Main!G44/Main!G38-1 -> #DIV/0! | G46: =Main!H44/Main!H38-1 -> #DIV/0! | H46: =Main!I44/Main!I38-1 -> #DIV/0! | I46: =Main!J44/Main!J38-1 -> #DIV/0! | ... K46: =Main!L44/Main!L38-1 -> #DIV/0!
A47: =Main!B45 -> 42551 | B47: =Main!C45/Main!C39-1 -> -0.02228495 | C47: =Main!D45/Main!D39-1 -> #DIV/0! | D47: =Main!E45/Main!E39-1 -> #DIV/0! | E47: =Main!F45/Main!F39-1 -> #DIV/0! | F47: =Main!G45/Main!G39-1 -> #DIV/0! | G47: =Main!H45/Main!H39-1 -> #DIV/0! | H47: =Main!I45/Main!I39-1 -> #DIV/0! | I47: =Main!J45/Main!J39-1 -> #DIV/0! | ... K47: =Main!L45/Main!L39-1 -> #DIV/0!
A48: =Main!B46 -> 42580 | B48: =Main!C46/Main!C40-1 -> 0.067742705 | C48: =Main!D46/Main!D40-1 -> #DIV/0! | D48: =Main!E46/Main!E40-1 -> #DIV/0! | E48: =Main!F46/Main!F40-1 -> #DIV/0! | F48: =Main!G46/Main!G40-1 -> #DIV/0! | G48: =Main!H46/Main!H40-1 -> #DIV/0! | H48: =Main!I46/Main!I40-1 -> #DIV/0! | I48: =Main!J46/Main!J40-1 -> #DIV/0! | ... K48: =Main!L46/Main!L40-1 -> #DIV/0!
A49: =Main!B47 -> 42613 | B49: =Main!C47/Main!C41-1 -> 0.12102523 | C49: =Main!D47/Main!D41-1 -> #DIV/0! | D49: =Main!E47/Main!E41-1 -> #DIV/0! | E49: =Main!F47/Main!F41-1 -> #DIV/0! | F49: =Main!G47/Main!G41-1 -> #DIV/0! | G49: =Main!H47/Main!H41-1 -> #DIV/0! | H49: =Main!I47/Main!I41-1 -> #DIV/0! | I49: =Main!J47/Main!J41-1 -> #DIV/0! | ... K49: =Main!L47/Main!L41-1 -> #DIV/0!
A50: =Main!B48 -> 42643 | B50: =Main!C48/Main!C42-1 -> 0.091302368 | C50: =Main!D48/Main!D42-1 -> #DIV/0! | D50: =Main!E48/Main!E42-1 -> #DIV/0! | E50: =Main!F48/Main!F42-1 -> #DIV/0! | F50: =Main!G48/Main!G42-1 -> #DIV/0! | G50: =Main!H48/Main!H42-1 -> #DIV/0! | H50: =Main!I48/Main!I42-1 -> #DIV/0! | I50: =Main!J48/Main!J42-1 -> #DIV/0! | ... K50: =Main!L48/Main!L42-1 -> #DIV/0!
A51: =Main!B49 -> 42674 | B51: =Main!C49/Main!C43-1 -> 0.10801656 | C51: =Main!D49/Main!D43-1 -> #DIV/0! | D51: =Main!E49/Main!E43-1 -> #DIV/0! | E51: =Main!F49/Main!F43-1 -> #DIV/0! | F51: =Main!G49/Main!G43-1 -> #DIV/0! | G51: =Main!H49/Main!H43-1 -> #DIV/0! | H51: =Main!I49/Main!I43-1 -> #DIV/0! | I51: =Main!J49/Main!J43-1 -> #DIV/0! | ... K51: =Main!L49/Main!L43-1 -> #DIV/0!
A52: =Main!B50 -> 42704 | B52: =Main!C50/Main!C44-1 -> 0.13345964 | C52: =Main!D50/Main!D44-1 -> #DIV/0! | D52: =Main!E50/Main!E44-1 -> #DIV/0! | E52: =Main!F50/Main!F44-1 -> #DIV/0! | F52: =Main!G50/Main!G44-1 -> #DIV/0! | G52: =Main!H50/Main!H44-1 -> #DIV/0! | H52: =Main!I50/Main!I44-1 -> #DIV/0! | I52: =Main!J50/Main!J44-1 -> #DIV/0! | ... K52: =Main!L50/Main!L44-1 -> #DIV/0!
... A159: =Main!B157 -> 45961 | B159: =Main!C157/Main!C151-1 -> 0.13013186 | C159: =Main!D157/Main!D151-1 -> #DIV/0! | D159: =Main!E157/Main!E151-1 -> #DIV/0! | E159: =Main!F157/Main!F151-1 -> #DIV/0! | F159: =Main!G157/Main!G151-1 -> #DIV/0! | G159: =Main!H157/Main!H151-1 -> #DIV/0! | H159: =Main!I157/Main!I151-1 -> #DIV/0! | I159: =Main!J157/Main!J151-1 -> #DIV/0! | ... K159: =Main!L157/Main!L151-1 -> #DIV/0!
A160: =Main!B158 -> 45989 | B160: =Main!C158/Main!C152-1 -> 0.099718463
A161: =Main!B159 -> 46022 | B161: =Main!C159/Main!C153-1 -> 0.0890739
A162: =Main!B160 -> 46052 | B162: =Main!C160/Main!C154-1 -> 0.080909249

Sheet Last 9M
A1: Last
A4: Date | B4: AVF | C4: Hong Kong | D4: Singapore | E4: Malaysia | F4: Korea | G4: Japan | H4: Taiwan | I4: Thailand | J4: AC ASIA PACIFIC | K4: AC ASIA PACIFIC ex JAPAN
A5: =Main!B3 -> 41274
A6: =Main!B4 -> 41305
A7: =Main!B5 -> 41333
A8: =Main!B6 -> 41362
A9: =Main!B7 -> 41394
A10: =Main!B8 -> 41425
A11: =Main!B9 -> 41453
A12: =Main!B10 -> 41486
A13: =Main!B11 -> 41516
A14: =Main!B12 -> 41547 | B14: =Main!C12/Main!C3-1 -> 0.081398824 | C14: =Main!D12/Main!D3-1 -> #DIV/0! | D14: =Main!E12/Main!E3-1 -> #DIV/0! | E14: =Main!F12/Main!F3-1 -> #DIV/0! | F14: =Main!G12/Main!G3-1 -> #DIV/0! | G14: =Main!H12/Main!H3-1 -> #DIV/0! | H14: =Main!I12/Main!I3-1 -> #DIV/0! | I14: =Main!J12/Main!J3-1 -> #DIV/0! | ... K14: =Main!L12/Main!L3-1 -> #DIV/0!
A15: =Main!B13 -> 41578 | B15: =Main!C13/Main!C4-1 -> 0.081700627 | C15: =Main!D13/Main!D4-1 -> #DIV/0! | D15: =Main!E13/Main!E4-1 -> #DIV/0! | E15: =Main!F13/Main!F4-1 -> #DIV/0! | F15: =Main!G13/Main!G4-1 -> #DIV/0! | G15: =Main!H13/Main!H4-1 -> #DIV/0! | H15: =Main!I13/Main!I4-1 -> #DIV/0! | I15: =Main!J13/Main!J4-1 -> #DIV/0! | ... K15: =Main!L13/Main!L4-1 -> #DIV/0!
A16: =Main!B14 -> 41607 | B16: =Main!C14/Main!C5-1 -> 0.093601321 | C16: =Main!D14/Main!D5-1 -> #DIV/0! | D16: =Main!E14/Main!E5-1 -> #DIV/0! | E16: =Main!F14/Main!F5-1 -> #DIV/0! | F16: =Main!G14/Main!G5-1 -> #DIV/0! | G16: =Main!H14/Main!H5-1 -> #DIV/0! | H16: =Main!I14/Main!I5-1 -> #DIV/0! | I16: =Main!J14/Main!J5-1 -> #DIV/0! | ... K16: =Main!L14/Main!L5-1 -> #DIV/0!
A17: =Main!B15 -> 41639 | B17: =Main!C15/Main!C6-1 -> 0.10521714 | C17: =Main!D15/Main!D6-1 -> #DIV/0! | D17: =Main!E15/Main!E6-1 -> #DIV/0! | E17: =Main!F15/Main!F6-1 -> #DIV/0! | F17: =Main!G15/Main!G6-1 -> #DIV/0! | G17: =Main!H15/Main!H6-1 -> #DIV/0! | H17: =Main!I15/Main!I6-1 -> #DIV/0! | I17: =Main!J15/Main!J6-1 -> #DIV/0! | ... K17: =Main!L15/Main!L6-1 -> #DIV/0!
A18: =Main!B16 -> 41670 | B18: =Main!C16/Main!C7-1 -> 0.11642759 | C18: =Main!D16/Main!D7-1 -> #DIV/0! | D18: =Main!E16/Main!E7-1 -> #DIV/0! | E18: =Main!F16/Main!F7-1 -> #DIV/0! | F18: =Main!G16/Main!G7-1 -> #DIV/0! | G18: =Main!H16/Main!H7-1 -> #DIV/0! | H18: =Main!I16/Main!I7-1 -> #DIV/0! | I18: =Main!J16/Main!J7-1 -> #DIV/0! | ... K18: =Main!L16/Main!L7-1 -> #DIV/0!
A19: =Main!B17 -> 41698 | B19: =Main!C17/Main!C8-1 -> 0.064310758 | C19: =Main!D17/Main!D8-1 -> #DIV/0! | D19: =Main!E17/Main!E8-1 -> #DIV/0! | E19: =Main!F17/Main!F8-1 -> #DIV/0! | F19: =Main!G17/Main!G8-1 -> #DIV/0! | G19: =Main!H17/Main!H8-1 -> #DIV/0! | H19: =Main!I17/Main!I8-1 -> #DIV/0! | I19: =Main!J17/Main!J8-1 -> #DIV/0! | ... K19: =Main!L17/Main!L8-1 -> #DIV/0!
A20: =Main!B18 -> 41729 | B20: =Main!C18/Main!C9-1 -> 0.10714286 | C20: =Main!D18/Main!D9-1 -> #DIV/0! | D20: =Main!E18/Main!E9-1 -> #DIV/0! | E20: =Main!F18/Main!F9-1 -> #DIV/0! | F20: =Main!G18/Main!G9-1 -> #DIV/0! | G20: =Main!H18/Main!H9-1 -> #DIV/0! | H20: =Main!I18/Main!I9-1 -> #DIV/0! | I20: =Main!J18/Main!J9-1 -> #DIV/0! | ... K20: =Main!L18/Main!L9-1 -> #DIV/0!
A21: =Main!B19 -> 41759 | B21: =Main!C19/Main!C10-1 -> 0.10239261 | C21: =Main!D19/Main!D10-1 -> #DIV/0! | D21: =Main!E19/Main!E10-1 -> #DIV/0! | E21: =Main!F19/Main!F10-1 -> #DIV/0! | F21: =Main!G19/Main!G10-1 -> #DIV/0! | G21: =Main!H19/Main!H10-1 -> #DIV/0! | H21: =Main!I19/Main!I10-1 -> #DIV/0! | I21: =Main!J19/Main!J10-1 -> #DIV/0! | ... K21: =Main!L19/Main!L10-1 -> #DIV/0!
A22: =Main!B20 -> 41789 | B22: =Main!C20/Main!C11-1 -> 0.11767481 | C22: =Main!D20/Main!D11-1 -> #DIV/0! | D22: =Main!E20/Main!E11-1 -> #DIV/0! | E22: =Main!F20/Main!F11-1 -> #DIV/0! | F22: =Main!G20/Main!G11-1 -> #DIV/0! | G22: =Main!H20/Main!H11-1 -> #DIV/0! | H22: =Main!I20/Main!I11-1 -> #DIV/0! | I22: =Main!J20/Main!J11-1 -> #DIV/0! | ... K22: =Main!L20/Main!L11-1 -> #DIV/0!
A23: =Main!B21 -> 41820 | B23: =Main!C21/Main!C12-1 -> 0.10493827 | C23: =Main!D21/Main!D12-1 -> #DIV/0! | D23: =Main!E21/Main!E12-1 -> #DIV/0! | E23: =Main!F21/Main!F12-1 -> #DIV/0! | F23: =Main!G21/Main!G12-1 -> #DIV/0! | G23: =Main!H21/Main!H12-1 -> #DIV/0! | H23: =Main!I21/Main!I12-1 -> #DIV/0! | I23: =Main!J21/Main!J12-1 -> #DIV/0! | ... K23: =Main!L21/Main!L12-1 -> #DIV/0!
A24: =Main!B22 -> 41851 | B24: =Main!C22/Main!C13-1 -> 0.1248868 | C24: =Main!D22/Main!D13-1 -> #DIV/0! | D24: =Main!E22/Main!E13-1 -> #DIV/0! | E24: =Main!F22/Main!F13-1 -> #DIV/0! | F24: =Main!G22/Main!G13-1 -> #DIV/0! | G24: =Main!H22/Main!H13-1 -> #DIV/0! | H24: =Main!I22/Main!I13-1 -> #DIV/0! | I24: =Main!J22/Main!J13-1 -> #DIV/0! | ... K24: =Main!L22/Main!L13-1 -> #DIV/0!
A25: =Main!B23 -> 41880 | B25: =Main!C23/Main!C14-1 -> 0.12261387 | C25: =Main!D23/Main!D14-1 -> #DIV/0! | D25: =Main!E23/Main!E14-1 -> #DIV/0! | E25: =Main!F23/Main!F14-1 -> #DIV/0! | F25: =Main!G23/Main!G14-1 -> #DIV/0! | G25: =Main!H23/Main!H14-1 -> #DIV/0! | H25: =Main!I23/Main!I14-1 -> #DIV/0! | I25: =Main!J23/Main!J14-1 -> #DIV/0! | ... K25: =Main!L23/Main!L14-1 -> #DIV/0!
... A159: =Main!B157 -> 45961 | B159: =Main!C157/Main!C148-1 -> 0.11846916 | C159: =Main!D157/Main!D148-1 -> #DIV/0! | D159: =Main!E157/Main!E148-1 -> #DIV/0! | E159: =Main!F157/Main!F148-1 -> #DIV/0! | F159: =Main!G157/Main!G148-1 -> #DIV/0! | G159: =Main!H157/Main!H148-1 -> #DIV/0! | H159: =Main!I157/Main!I148-1 -> #DIV/0! | I159: =Main!J157/Main!J148-1 -> #DIV/0! | ... K159: =Main!L157/Main!L148-1 -> #DIV/0!
A160: =Main!B158 -> 45989 | B160: =Main!C158/Main!C149-1 -> 0.12047747
A161: =Main!B159 -> 46022 | B161: =Main!C159/Main!C150-1 -> 0.11907828
A162: =Main!B160 -> 46052 | B162: =Main!C160/Main!C151-1 -> 0.16066586

Sheet Last 12M
A1: Date | B1: AVF | C1: Hong Kong | D1: Singapore | E1: Malaysia | F1: Korea | G1: Japan | H1: Taiwan | I1: Thailand | J1: AC ASIA PACIFIC | K1: AC ASIA PACIFIC ex JAPAN
A2: =Main!B3 -> 41274
A3: =Main!B4 -> 41305
A4: =Main!B5 -> 41333
A5: =Main!B6 -> 41362
A6: =Main!B7 -> 41394
A7: =Main!B8 -> 41425
A8: =Main!B9 -> 41453
A9: =Main!B10 -> 41486
A10: =Main!B11 -> 41516
A11: =Main!B12 -> 41547
A12: =Main!B13 -> 41578
A13: =Main!B14 -> 41607
A14: =Main!B15 -> 41639 | B14: =Main!C15/Main!C3-1 -> 0.1334064 | C14: =Main!D15/Main!D3-1 -> #DIV/0! | D14: =Main!E15/Main!E3-1 -> #DIV/0! | E14: =Main!F15/Main!F3-1 -> #DIV/0! | F14: =Main!G15/Main!G3-1 -> #DIV/0! | G14: =Main!H15/Main!H3-1 -> #DIV/0! | H14: =Main!I15/Main!I3-1 -> #DIV/0! | I14: =Main!J15/Main!J3-1 -> #DIV/0! | ... K14: =Main!L15/Main!L3-1 -> #DIV/0!
A15: =Main!B16 -> 41670 | B15: =Main!C16/Main!C4-1 -> 0.11314655 | C15: =Main!D16/Main!D4-1 -> #DIV/0! | D15: =Main!E16/Main!E4-1 -> #DIV/0! | E15: =Main!F16/Main!F4-1 -> #DIV/0! | F15: =Main!G16/Main!G4-1 -> #DIV/0! | G15: =Main!H16/Main!H4-1 -> #DIV/0! | H15: =Main!I16/Main!I4-1 -> #DIV/0! | I15: =Main!J16/Main!J4-1 -> #DIV/0! | ... K15: =Main!L16/Main!L4-1 -> #DIV/0!
A16: =Main!B17 -> 41698 | B16: =Main!C17/Main!C5-1 -> 0.12001165 | C16: =Main!D17/Main!D5-1 -> #DIV/0! | D16: =Main!E17/Main!E5-1 -> #DIV/0! | E16: =Main!F17/Main!F5-1 -> #DIV/0! | F16: =Main!G17/Main!G5-1 -> #DIV/0! | G16: =Main!H17/Main!H5-1 -> #DIV/0! | H16: =Main!I17/Main!I5-1 -> #DIV/0! | I16: =Main!J17/Main!J5-1 -> #DIV/0! | ... K16: =Main!L17/Main!L5-1 -> #DIV/0!
A17: =Main!B18 -> 41729 | B17: =Main!C18/Main!C6-1 -> 0.12639658 | C17: =Main!D18/Main!D6-1 -> #DIV/0! | D17: =Main!E18/Main!E6-1 -> #DIV/0! | E17: =Main!F18/Main!F6-1 -> #DIV/0! | F17: =Main!G18/Main!G6-1 -> #DIV/0! | G17: =Main!H18/Main!H6-1 -> #DIV/0! | H17: =Main!I18/Main!I6-1 -> #DIV/0! | I17: =Main!J18/Main!J6-1 -> #DIV/0! | ... K17: =Main!L18/Main!L6-1 -> #DIV/0!
A18: =Main!B19 -> 41759 | B18: =Main!C19/Main!C7-1 -> 0.14983297 | C18: =Main!D19/Main!D7-1 -> #DIV/0! | D18: =Main!E19/Main!E7-1 -> #DIV/0! | E18: =Main!F19/Main!F7-1 -> #DIV/0! | F18: =Main!G19/Main!G7-1 -> #DIV/0! | G18: =Main!H19/Main!H7-1 -> #DIV/0! | H18: =Main!I19/Main!I7-1 -> #DIV/0! | I18: =Main!J19/Main!J7-1 -> #DIV/0! | ... K18: =Main!L19/Main!L7-1 -> #DIV/0!
A19: =Main!B20 -> 41789 | B19: =Main!C20/Main!C8-1 -> 0.092821554 | C19: =Main!D20/Main!D8-1 -> #DIV/0! | D19: =Main!E20/Main!E8-1 -> #DIV/0! | E19: =Main!F20/Main!F8-1 -> #DIV/0! | F19: =Main!G20/Main!G8-1 -> #DIV/0! | G19: =Main!H20/Main!H8-1 -> #DIV/0! | H19: =Main!I20/Main!I8-1 -> #DIV/0! | I19: =Main!J20/Main!J8-1 -> #DIV/0! | ... K19: =Main!L20/Main!L8-1 -> #DIV/0!
A20: =Main!B21 -> 41820 | B20: =Main!C21/Main!C9-1 -> 0.14524446 | C20: =Main!D21/Main!D9-1 -> #DIV/0! | D20: =Main!E21/Main!E9-1 -> #DIV/0! | E20: =Main!F21/Main!F9-1 -> #DIV/0! | F20: =Main!G21/Main!G9-1 -> #DIV/0! | G20: =Main!H21/Main!H9-1 -> #DIV/0! | H20: =Main!I21/Main!I9-1 -> #DIV/0! | I20: =Main!J21/Main!J9-1 -> #DIV/0! | ... K20: =Main!L21/Main!L9-1 -> #DIV/0!
A21: =Main!B22 -> 41851 | B21: =Main!C22/Main!C10-1 -> 0.17002638 | C21: =Main!D22/Main!D10-1 -> #DIV/0! | D21: =Main!E22/Main!E10-1 -> #DIV/0! | E21: =Main!F22/Main!F10-1 -> #DIV/0! | F21: =Main!G22/Main!G10-1 -> #DIV/0! | G21: =Main!H22/Main!H10-1 -> #DIV/0! | H21: =Main!I22/Main!I10-1 -> #DIV/0! | I21: =Main!J22/Main!J10-1 -> #DIV/0! | ... K21: =Main!L22/Main!L10-1 -> #DIV/0!
A22: =Main!B23 -> 41880 | B22: =Main!C23/Main!C11-1 -> 0.19316788 | C22: =Main!D23/Main!D11-1 -> #DIV/0! | D22: =Main!E23/Main!E11-1 -> #DIV/0! | E22: =Main!F23/Main!F11-1 -> #DIV/0! | F22: =Main!G23/Main!G11-1 -> #DIV/0! | G22: =Main!H23/Main!H11-1 -> #DIV/0! | H22: =Main!I23/Main!I11-1 -> #DIV/0! | I22: =Main!J23/Main!J11-1 -> #DIV/0! | ... K22: =Main!L23/Main!L11-1 -> #DIV/0!
A23: =Main!B24 -> 41912 | B23: =Main!C24/Main!C12-1 -> 0.16620601 | C23: =Main!D24/Main!D12-1 -> #DIV/0! | D23: =Main!E24/Main!E12-1 -> #DIV/0! | E23: =Main!F24/Main!F12-1 -> #DIV/0! | F23: =Main!G24/Main!G12-1 -> #DIV/0! | G23: =Main!H24/Main!H12-1 -> #DIV/0! | H23: =Main!I24/Main!I12-1 -> #DIV/0! | I23: =Main!J24/Main!J12-1 -> #DIV/0! | ... K23: =Main!L24/Main!L12-1 -> #DIV/0!
A24: =Main!B25 -> 41943 | B24: =Main!C25/Main!C13-1 -> 0.15404818 | C24: =Main!D25/Main!D13-1 -> #DIV/0! | D24: =Main!E25/Main!E13-1 -> #DIV/0! | E24: =Main!F25/Main!F13-1 -> #DIV/0! | F24: =Main!G25/Main!G13-1 -> #DIV/0! | G24: =Main!H25/Main!H13-1 -> #DIV/0! | H24: =Main!I25/Main!I13-1 -> #DIV/0! | I24: =Main!J25/Main!J13-1 -> #DIV/0! | ... K24: =Main!L25/Main!L13-1 -> #DIV/0!
A25: =Main!B26 -> 41971 | B25: =Main!C26/Main!C14-1 -> 0.14338986 | C25: =Main!D26/Main!D14-1 -> #DIV/0! | D25: =Main!E26/Main!E14-1 -> #DIV/0! | E25: =Main!F26/Main!F14-1 -> #DIV/0! | F25: =Main!G26/Main!G14-1 -> #DIV/0! | G25: =Main!H26/Main!H14-1 -> #DIV/0! | H25: =Main!I26/Main!I14-1 -> #DIV/0! | I25: =Main!J26/Main!J14-1 -> #DIV/0! | ... K25: =Main!L26/Main!L14-1 -> #DIV/0!
... A156: =Main!B157 -> 45961 | B156: =Main!C157/Main!C145-1 -> 0.14463651 | C156: =Main!D157/Main!D145-1 -> #DIV/0! | D156: =Main!E157/Main!E145-1 -> #DIV/0! | E156: =Main!F157/Main!F145-1 -> #DIV/0! | F156: =Main!G157/Main!G145-1 -> #DIV/0! | G156: =Main!H157/Main!H145-1 -> #DIV/0! | H156: =Main!I157/Main!I145-1 -> #DIV/0! | I156: =Main!J157/Main!J145-1 -> #DIV/0! | ... K156: =Main!L157/Main!L145-1 -> #DIV/0!
A157: =Main!B158 -> 45989 | B157: =Main!C158/Main!C146-1 -> 0.13988515
A158: =Main!B159 -> 46022 | B158: =Main!C159/Main!C147-1 -> 0.13046508
A159: =Main!B160 -> 46052 | B159: =Main!C160/Main!C148-1 -> 0.14868805

Sheet Last 2 Years
A4: Date | B4: AVF | C4: Hong Kong | D4: Singapore | E4: Malaysia | F4: Korea | G4: Japan | H4: Taiwan | I4: Thailand | J4: AC ASIA PACIFIC | K4: AC ASIA PACIFIC ex JAPAN
A5: =Main!B3 -> 41274
A6: =Main!B4 -> 41305
A7: =Main!B5 -> 41333
A8: =Main!B6 -> 41362
A9: =Main!B7 -> 41394
A10: =Main!B8 -> 41425
A11: =Main!B9 -> 41453
A12: =Main!B10 -> 41486
A13: =Main!B11 -> 41516
A14: =Main!B12 -> 41547
A15: =Main!B13 -> 41578
A16: =Main!B14 -> 41607
... A28: =Main!B26 -> 41971
A29: =Main!B27 -> 42004 | B29: =Main!C27/Main!C3-1 -> 0.2630268 | C29: =Main!D27/Main!D3-1 -> #DIV/0! | D29: =Main!E27/Main!E3-1 -> #DIV/0! | E29: =Main!F27/Main!F3-1 -> #DIV/0! | F29: =Main!G27/Main!G3-1 -> #DIV/0! | G29: =Main!H27/Main!H3-1 -> #DIV/0! | H29: =Main!I27/Main!I3-1 -> #DIV/0! | I29: =Main!J27/Main!J3-1 -> #DIV/0! | ... K29: =Main!L27/Main!L3-1 -> #DIV/0!
A30: =Main!B28 -> 42034 | B30: =Main!C28/Main!C4-1 -> 0.27635188 | C30: =Main!D28/Main!D4-1 -> #DIV/0! | D30: =Main!E28/Main!E4-1 -> #DIV/0! | E30: =Main!F28/Main!F4-1 -> #DIV/0! | F30: =Main!G28/Main!G4-1 -> #DIV/0! | G30: =Main!H28/Main!H4-1 -> #DIV/0! | H30: =Main!I28/Main!I4-1 -> #DIV/0! | I30: =Main!J28/Main!J4-1 -> #DIV/0! | ... K30: =Main!L28/Main!L4-1 -> #DIV/0!
A31: =Main!B29 -> 42062 | B31: =Main!C29/Main!C5-1 -> 0.2917759 | C31: =Main!D29/Main!D5-1 -> #DIV/0! | D31: =Main!E29/Main!E5-1 -> #DIV/0! | E31: =Main!F29/Main!F5-1 -> #DIV/0! | F31: =Main!G29/Main!G5-1 -> #DIV/0! | G31: =Main!H29/Main!H5-1 -> #DIV/0! | H31: =Main!I29/Main!I5-1 -> #DIV/0! | I31: =Main!J29/Main!J5-1 -> #DIV/0! | ... K31: =Main!L29/Main!L5-1 -> #DIV/0!
A32: =Main!B30 -> 42094 | B32: =Main!C30/Main!C6-1 -> 0.30729622 | C32: =Main!D30/Main!D6-1 -> #DIV/0! | D32: =Main!E30/Main!E6-1 -> #DIV/0! | E32: =Main!F30/Main!F6-1 -> #DIV/0! | F32: =Main!G30/Main!G6-1 -> #DIV/0! | G32: =Main!H30/Main!H6-1 -> #DIV/0! | H32: =Main!I30/Main!I6-1 -> #DIV/0! | I32: =Main!J30/Main!J6-1 -> #DIV/0! | ... K32: =Main!L30/Main!L6-1 -> #DIV/0!
A33: =Main!B31 -> 42124 | B33: =Main!C31/Main!C7-1 -> 0.40754569 | C33: =Main!D31/Main!D7-1 -> #DIV/0! | D33: =Main!E31/Main!E7-1 -> #DIV/0! | E33: =Main!F31/Main!F7-1 -> #DIV/0! | F33: =Main!G31/Main!G7-1 -> #DIV/0! | G33: =Main!H31/Main!H7-1 -> #DIV/0! | H33: =Main!I31/Main!I7-1 -> #DIV/0! | I33: =Main!J31/Main!J7-1 -> #DIV/0! | ... K33: =Main!L31/Main!L7-1 -> #DIV/0!
A34: =Main!B32 -> 42153 | B34: =Main!C32/Main!C8-1 -> 0.37350065 | C34: =Main!D32/Main!D8-1 -> #DIV/0! | D34: =Main!E32/Main!E8-1 -> #DIV/0! | E34: =Main!F32/Main!F8-1 -> #DIV/0! | F34: =Main!G32/Main!G8-1 -> #DIV/0! | G34: =Main!H32/Main!H8-1 -> #DIV/0! | H34: =Main!I32/Main!I8-1 -> #DIV/0! | I34: =Main!J32/Main!J8-1 -> #DIV/0! | ... K34: =Main!L32/Main!L8-1 -> #DIV/0!
A35: =Main!B33 -> 42185 | B35: =Main!C33/Main!C9-1 -> 0.39906417 | C35: =Main!D33/Main!D9-1 -> #DIV/0! | D35: =Main!E33/Main!E9-1 -> #DIV/0! | E35: =Main!F33/Main!F9-1 -> #DIV/0! | F35: =Main!G33/Main!G9-1 -> #DIV/0! | G35: =Main!H33/Main!H9-1 -> #DIV/0! | H35: =Main!I33/Main!I9-1 -> #DIV/0! | I35: =Main!J33/Main!J9-1 -> #DIV/0! | ... K35: =Main!L33/Main!L9-1 -> #DIV/0!
A36: =Main!B34 -> 42216 | B36: =Main!C34/Main!C10-1 -> 0.30990957 | C36: =Main!D34/Main!D10-1 -> #DIV/0! | D36: =Main!E34/Main!E10-1 -> #DIV/0! | E36: =Main!F34/Main!F10-1 -> #DIV/0! | F36: =Main!G34/Main!G10-1 -> #DIV/0! | G36: =Main!H34/Main!H10-1 -> #DIV/0! | H36: =Main!I34/Main!I10-1 -> #DIV/0! | I36: =Main!J34/Main!J10-1 -> #DIV/0! | ... K36: =Main!L34/Main!L10-1 -> #DIV/0!
A37: =Main!B35 -> 42247 | B37: =Main!C35/Main!C11-1 -> 0.21751439 | C37: =Main!D35/Main!D11-1 -> #DIV/0! | D37: =Main!E35/Main!E11-1 -> #DIV/0! | E37: =Main!F35/Main!F11-1 -> #DIV/0! | F37: =Main!G35/Main!G11-1 -> #DIV/0! | G37: =Main!H35/Main!H11-1 -> #DIV/0! | H37: =Main!I35/Main!I11-1 -> #DIV/0! | I37: =Main!J35/Main!J11-1 -> #DIV/0! | ... K37: =Main!L35/Main!L11-1 -> #DIV/0!
